From mboxrd@z Thu Jan 1 00:00:00 1970 Return-Path: Received: from mails.dpdk.org (mails.dpdk.org [217.70.189.124]) by inbox.dpdk.org (Postfix) with ESMTP id DC03343BF6 for ; Mon, 26 Feb 2024 20:26:49 +0100 (CET) Received: from mails.dpdk.org (localhost [127.0.0.1]) by mails.dpdk.org (Postfix) with ESMTP id D87A3402CC; Mon, 26 Feb 2024 20:26:49 +0100 (CET) Received: from mail-pl1-f227.google.com (mail-pl1-f227.google.com [209.85.214.227]) by mails.dpdk.org (Postfix) with ESMTP id 5233B402C8 for ; Mon, 26 Feb 2024 20:26:43 +0100 (CET) Received: by mail-pl1-f227.google.com with SMTP id d9443c01a7336-1dc96f64c10so12748415ad.1 for ; Mon, 26 Feb 2024 11:26:43 -0800 (PST) DKIM-Signature: v=1; a=rsa-sha256; c=relaxed/relaxed; d=iol.unh.edu; s=unh-iol; t=1708975602; x=1709580402; darn=dpdk.org; h=cc:to:from:subject:message-id:date:from:to:cc:subject:date :message-id:reply-to; bh=spXwwHAOXvq8DeGG8gan58teGNebHAvOK0aqMOiWjNo=; b=CPH1q+VglGTUbRZ6VFqQ6zJ8STQNsOFsLKoPcpClIFh3Jsmw6Atl9r5Nm3qykWzdOr zHw+/dEWTljW5haq1RjVmQrzV1NAK+hOqqjb2T5PU2QJxTJUQ56GcVpxNmTxfPvSp1y3 9je9zGFdzdqDVVASFxLyZwWjn2sm8dGf7dWrc= X-Google-DKIM-Signature: v=1; a=rsa-sha256; c=relaxed/relaxed; d=1e100.net; s=20230601; t=1708975602; x=1709580402; h=cc:to:from:subject:message-id:date:x-gm-message-state:from:to:cc :subject:date:message-id:reply-to; bh=spXwwHAOXvq8DeGG8gan58teGNebHAvOK0aqMOiWjNo=; b=ZB5lIPdUi+fPsozMHSwAAj8VuZB0/bbB+xwKDisWj0U+ScsRoFYMJ7TCc4JHEV33ol IuX4ZZ8JpcT+dSo4LDRREDO3+QX0r8k1GYRQP3xUdJFxHQEPGMi9qOzQWbMj7KIC5lhE vQFMKOW9p9TrZfO56i/i5rwr1fXlcmvTtdYLY3F8RRpj0W8xgQcX/OWEXHJ76vdwWpGc LgLcaw8urbuqAWUx4ee4QBUq9ngUnFprLMUOCXGeAfdXFTy6U5HIWfm3QxOdJH/msPSI MGyNWtdG7rsSgMKYA51jjd5Xbw3G3LS1+iWOCeWNV2Tdg9IA15BAoq2ld30OWBA/5LUZ vH6g== X-Gm-Message-State: AOJu0YxtikWC5tKpmHP0uIbEwGtAJfBzm37BbwFqpDeOY9ly+nnJ4tU/ 0K2sumCDEDK2be4Kk8FFngz55fZCHh+C52HHJrhRoC1GuanQOwDd4rYZ7m1JM3v7gKfxeQERW9v IJuS54XRkE4dP5WMVwqj6Lqyo6nzvIlVUJyDloizZ X-Google-Smtp-Source: AGHT+IFcy7QJT9XfGtrI2gvFT6ZQqYz/jWFUbplnNhPjqU+EnoA7Zz4oeSAjAW9rQw55KuJlrl72c4TmxpJ4 X-Received: by 2002:a17:903:182:b0:1dc:88db:12cd with SMTP id z2-20020a170903018200b001dc88db12cdmr6364580plg.27.1708975602606; Mon, 26 Feb 2024 11:26:42 -0800 (PST) Received: from postal.iol.unh.edu (postal.iol.unh.edu. [132.177.123.84]) by smtp-relay.gmail.com with ESMTPS id jv20-20020a170903059400b001dc8edd6138sm2162plb.136.2024.02.26.11.26.42 (version=TLS1_2 cipher=ECDHE-ECDSA-AES128-GCM-SHA256 bits=128/128); Mon, 26 Feb 2024 11:26:42 -0800 (PST) X-Relaying-Domain: iol.unh.edu Date: Mon, 26 Feb 2024 11:26:42 -0800 (PST) Message-ID: <65dce5f2.170a0220.b74e3.0260SMTPIN_ADDED_MISSING@mx.google.com> Received: from [172.21.0.7] (unknown [172.18.0.240]) by postal.iol.unh.edu (Postfix) with ESMTP id CAB4C6043300; Mon, 26 Feb 2024 14:26:41 -0500 (EST) Subject: |SUCCESS| pw137211 [PATCH] app/eventdev: support DMA adapter test From: dpdklab@iol.unh.edu To: Test Report Cc: dpdk-test-reports@iol.unh.edu Content-Type: text/plain X-BeenThere: test-report@dpdk.org X-Mailman-Version: 2.1.29 Precedence: list List-Id: automatic DPDK test reports List-Unsubscribe: , List-Archive: List-Post: List-Help: List-Subscribe: , Errors-To: test-report-bounces@dpdk.org Test-Label: iol-compile-amd64-testing Test-Status: SUCCESS http://dpdk.org/patch/137211 _Testing PASS_ Submitter: Amit Prakash Shukla Date: Monday, February 26 2024 13:26:07 DPDK git baseline: Repo:dpdk Branch: master CommitID:850a57695b4647f62f31019baa8a92bcd3ff3531 137211 --> testing pass Test environment and result as below: +---------------------+--------------------+----------------------+ | Environment | dpdk_meson_compile | dpdk_mingw64_compile | +=====================+====================+======================+ | Windows Server 2022 | PASS | SKIPPED | +---------------------+--------------------+----------------------+ | FreeBSD 13.2 | PASS | SKIPPED | +---------------------+--------------------+----------------------+ | Windows Server 2019 | PASS | PASS | +---------------------+--------------------+----------------------+ Windows Server 2022 Kernel: OS Build 20348.2031 Compiler: MSVC VS-Preview FreeBSD 13.2 Kernel: 13.2 Compiler: clang 11.3.0 Windows Server 2019 Kernel: 10.0 Compiler: clang 14.0 and gcc 8.1.0 (MinGW) To view detailed results, visit: https://lab.dpdk.org/results/dashboard/patchsets/29266/ UNH-IOL DPDK Community Lab To manage your email subscriptions, visit: https://lab.dpdk.org/results/dashboard/preferences/subscriptions/