From mboxrd@z Thu Jan 1 00:00:00 1970 Return-Path: Received: from mails.dpdk.org (mails.dpdk.org [217.70.189.124]) by inbox.dpdk.org (Postfix) with ESMTP id AE4B843BF6 for ; Mon, 26 Feb 2024 20:30:57 +0100 (CET) Received: from mails.dpdk.org (localhost [127.0.0.1]) by mails.dpdk.org (Postfix) with ESMTP id A1FD1402CC; Mon, 26 Feb 2024 20:30:57 +0100 (CET) Received: from mail-pl1-f227.google.com (mail-pl1-f227.google.com [209.85.214.227]) by mails.dpdk.org (Postfix) with ESMTP id 51E8A402C8 for ; Mon, 26 Feb 2024 20:30:56 +0100 (CET) Received: by mail-pl1-f227.google.com with SMTP id d9443c01a7336-1dc75972f25so28255255ad.1 for ; Mon, 26 Feb 2024 11:30:56 -0800 (PST) DKIM-Signature: v=1; a=rsa-sha256; c=relaxed/relaxed; d=iol.unh.edu; s=unh-iol; t=1708975855; x=1709580655; darn=dpdk.org; h=cc:to:from:subject:message-id:date:from:to:cc:subject:date :message-id:reply-to; bh=xB7zjl29EhdNto8gj9h0OU7m1tYdRSP6KBsS7AKXfiI=; b=jzwQjYef1qCl8DmEEkN4USWegPUS2nOFngAtTndau+27VrrOPCgqLU4KZnppOt5+x8 7qWb+VrtDaEjKFnyHC0qiSCA3PMFMe38fQwde5jeGg0CWjf0fj9fR0h9VyQmesVRakts V/4TMoavbryg+gnkfi0FuVAtv9RCJvBwm66e4= X-Google-DKIM-Signature: v=1; a=rsa-sha256; c=relaxed/relaxed; d=1e100.net; s=20230601; t=1708975855; x=1709580655; h=cc:to:from:subject:message-id:date:x-gm-message-state:from:to:cc :subject:date:message-id:reply-to; bh=xB7zjl29EhdNto8gj9h0OU7m1tYdRSP6KBsS7AKXfiI=; b=RT4hbdrBMzPnoRtcKqDgQJjoeT9kSBU4zlpZb7wqZOr8SlPNZxOEZi4TlbpdcB1cgZ HEe2STUd/aq2l4xuN0GoBt8E0u9LYDWXCCD76lz2UcjPU3VSczMLbPsIKIYPX0DfPlxB IsJRx0s2lgUKi4fPKYBkL3kRJRcWL1WrvCgd9xuQ5flY0JmMQB3kG4cxAa/M/AE38AwV iUWqtlhSNvN61EJ+iXbllFUGcUX3CuDVNJHDlZxqTNvC8v9+8udf64gvTc90K1deMTdl MV1tXeULocmGEC8WJ96w+7KiM5qXEy7uSsH0LIFlgKbJCgRhay0pk4UWXaHnk9q2m8dz EqrA== X-Gm-Message-State: AOJu0Yy2hh9rlkKd/eoMIE7qnwuhFkN4q2sQAthj3vD2bYP/wZEAYpWr BLOiQzBUWXgIoFKa5VgnAhnJve43LwMPsDeLGV9xxlolxYmoW28ofbae9Fw3ov5opVpc1lj5fOb SPCAf0RMBoIJ7POXiEZZOFY/CKbQLY3IW3OmlZRXC X-Google-Smtp-Source: AGHT+IHvJgDEjpuOi91eXrIMABGhhT17fVtiNWzjF2YfCrnVZq1SpOtXS5e27GJ/96Alr93HAm7cRRNEivgN X-Received: by 2002:a17:902:9f8f:b0:1dc:2755:16d2 with SMTP id g15-20020a1709029f8f00b001dc275516d2mr6495976plq.18.1708975855565; Mon, 26 Feb 2024 11:30:55 -0800 (PST) Received: from postal.iol.unh.edu (postal.iol.unh.edu. [132.177.123.84]) by smtp-relay.gmail.com with ESMTPS id ja15-20020a170902efcf00b001dbad23ba89sm2408plb.140.2024.02.26.11.30.55 (version=TLS1_2 cipher=ECDHE-ECDSA-AES128-GCM-SHA256 bits=128/128); Mon, 26 Feb 2024 11:30:55 -0800 (PST) X-Relaying-Domain: iol.unh.edu Date: Mon, 26 Feb 2024 11:30:55 -0800 (PST) Message-ID: <65dce6ef.170a0220.ae00a.027eSMTPIN_ADDED_MISSING@mx.google.com> Received: from [172.21.0.6] (unknown [172.18.0.240]) by postal.iol.unh.edu (Postfix) with ESMTP id AA9066043300; Mon, 26 Feb 2024 14:30:54 -0500 (EST) Subject: |SUCCESS| pw137211 [PATCH] app/eventdev: support DMA adapter test From: dpdklab@iol.unh.edu To: Test Report Cc: dpdk-test-reports@iol.unh.edu Content-Type: text/plain X-BeenThere: test-report@dpdk.org X-Mailman-Version: 2.1.29 Precedence: list List-Id: automatic DPDK test reports List-Unsubscribe: , List-Archive: List-Post: List-Help: List-Subscribe: , Errors-To: test-report-bounces@dpdk.org Test-Label: iol-abi-testing Test-Status: SUCCESS http://dpdk.org/patch/137211 _Testing PASS_ Submitter: Amit Prakash Shukla Date: Monday, February 26 2024 13:26:07 DPDK git baseline: Repo:dpdk Branch: master CommitID:850a57695b4647f62f31019baa8a92bcd3ff3531 137211 --> testing pass Test environment and result as below: +------------------+----------+ | Environment | abi_test | +==================+==========+ | Ubuntu 22.04 | PASS | +------------------+----------+ | Fedora 37 | PASS | +------------------+----------+ | openSUSE Leap 15 | PASS | +------------------+----------+ | CentOS Stream 9 | PASS | +------------------+----------+ | CentOS Stream 8 | PASS | +------------------+----------+ | Fedora 38 | PASS | +------------------+----------+ | Debian Bullseye | PASS | +------------------+----------+ | Debian 12 (arm) | PASS | +------------------+----------+ | RHEL8 | PASS | +------------------+----------+ Ubuntu 22.04 Kernel: 4.18.0-240.10.1.el8_3.x86_64 Compiler: gcc 11.3.0 Fedora 37 Kernel: Depends on container host system Compiler: gcc 12.3.1 openSUSE Leap 15 Kernel: 4.18.0-240.10.1.el8_3.x86_64 Compiler: gcc 7.5.0 CentOS Stream 9 Kernel: 4.18.0-240.10.1.el8_3.x86_64 Compiler: gcc 11.3.1 20220421 CentOS Stream 8 Kernel: 4.18.0-240.10.1.el8_3.x86_64 Compiler: gcc 8.4.1 20200928 Fedora 38 Kernel: Depends on container host Compiler: clang 16.0.3 Debian Bullseye Kernel: 5.4.0-122-generic Compiler: gcc 10.2.1-6 Debian 12 (arm) Kernel: Container Host Kernel Compiler: gcc 11 RHEL8 Kernel: 4.18.0-240.10.1.el8_3.x86_64 Compiler: gcc 8.3.1 20191121 (Red Hat 8.3.1-5) To view detailed results, visit: https://lab.dpdk.org/results/dashboard/patchsets/29266/ UNH-IOL DPDK Community Lab To manage your email subscriptions, visit: https://lab.dpdk.org/results/dashboard/preferences/subscriptions/