From mboxrd@z Thu Jan 1 00:00:00 1970 Return-Path: Received: from mails.dpdk.org (mails.dpdk.org [217.70.189.124]) by inbox.dpdk.org (Postfix) with ESMTP id 00F4743BF6 for ; Mon, 26 Feb 2024 20:31:17 +0100 (CET) Received: from mails.dpdk.org (localhost [127.0.0.1]) by mails.dpdk.org (Postfix) with ESMTP id D6ABB402CC; Mon, 26 Feb 2024 20:31:16 +0100 (CET) Received: from mail-il1-f227.google.com (mail-il1-f227.google.com [209.85.166.227]) by mails.dpdk.org (Postfix) with ESMTP id CC5CB402C8 for ; Mon, 26 Feb 2024 20:31:06 +0100 (CET) Received: by mail-il1-f227.google.com with SMTP id e9e14a558f8ab-364f791a428so10965225ab.3 for ; Mon, 26 Feb 2024 11:31:06 -0800 (PST) DKIM-Signature: v=1; a=rsa-sha256; c=relaxed/relaxed; d=iol.unh.edu; s=unh-iol; t=1708975866; x=1709580666; darn=dpdk.org; h=cc:to:from:subject:message-id:date:from:to:cc:subject:date :message-id:reply-to; bh=xB7zjl29EhdNto8gj9h0OU7m1tYdRSP6KBsS7AKXfiI=; b=YI3uqjHZrF1PXsLyjNLXhcEVAx5b4cvuPr9ysua/rhnnGux7TRgwLCsEr7Hyl+XUG6 mmJrCF4iDDrpv161Qm5d8lUZImtthyIKTufsr1srVfx0cSQRLBHL+xzekkbpWbaNnMwE QggS6iX1lsOs/wno6aH9JRTAKfELSyBo2LRKI= X-Google-DKIM-Signature: v=1; a=rsa-sha256; c=relaxed/relaxed; d=1e100.net; s=20230601; t=1708975866; x=1709580666; h=cc:to:from:subject:message-id:date:x-gm-message-state:from:to:cc :subject:date:message-id:reply-to; bh=xB7zjl29EhdNto8gj9h0OU7m1tYdRSP6KBsS7AKXfiI=; b=X6fH6dUro7CgKqowynkvEFT/tIbGV/HX1cqNv9p3dtRoaonfCS9bCy2xKHHJntTJ27 wuIdHDb8BtGqBMzn6JtP9Twyy0LvbX20NVV5xF2M7U3pbpgTwgpN5hrQofdeEvTBgvrv 9IdrAvtliNTWTbwbBTs5g2rhxZIMbyrAYMHWGmegulTySeQR9YoJschn2Um2wC/VsCE3 U3L6wH2Qf+/mNMD8qPTQ2PrwpNsF0SZmPxBeLc009OAPsPQwWpgZPx0UJoCckCwhcD2c 2sYQWfLEMzRWcoRLWhGlilPZx9iyi1kEEyGbpJT87Qki9Ney9rMksadDAdRmgDtLSZnu ABYw== X-Gm-Message-State: AOJu0YyacoFt1rAn273iFu0LjKDtZR58pxuHMFiM/q8b86uJ8k2ChVPP RRxJQx2Htu2JtpaSW6Yy/xhUx6FjI2U9ifI6b6NBB3UBE7me3rFyhSoQK/JwhlS48/X60FK94if eoXVOEGv7PFU9MjIVsGUxadA0Cx2ShBlLfJSnqGoW X-Google-Smtp-Source: AGHT+IFTpxq7gsz8bzxFwAtNnJiEZQcahe2wd9V2KWToB1LGaCGXDgFkQaTr04x8I1TNHznqzuTBnYtiTl8t X-Received: by 2002:a92:da06:0:b0:365:9106:5e1d with SMTP id z6-20020a92da06000000b0036591065e1dmr4955461ilm.4.1708975866156; Mon, 26 Feb 2024 11:31:06 -0800 (PST) Received: from postal.iol.unh.edu (postal.iol.unh.edu. [132.177.123.84]) by smtp-relay.gmail.com with ESMTPS id a17-20020a63cd51000000b005dc857069fdsm205108pgj.12.2024.02.26.11.31.06 (version=TLS1_2 cipher=ECDHE-ECDSA-AES128-GCM-SHA256 bits=128/128); Mon, 26 Feb 2024 11:31:06 -0800 (PST) X-Relaying-Domain: iol.unh.edu Date: Mon, 26 Feb 2024 11:31:06 -0800 (PST) Message-ID: <65dce6fa.630a0220.5f0fb.cfc1SMTPIN_ADDED_MISSING@mx.google.com> Received: from [172.21.0.6] (unknown [172.18.0.240]) by postal.iol.unh.edu (Postfix) with ESMTP id 65E626043300; Mon, 26 Feb 2024 14:31:05 -0500 (EST) Subject: |SUCCESS| pw137211 [PATCH] app/eventdev: support DMA adapter test From: dpdklab@iol.unh.edu To: Test Report Cc: dpdk-test-reports@iol.unh.edu Content-Type: text/plain X-BeenThere: test-report@dpdk.org X-Mailman-Version: 2.1.29 Precedence: list List-Id: automatic DPDK test reports List-Unsubscribe: , List-Archive: List-Post: List-Help: List-Subscribe: , Errors-To: test-report-bounces@dpdk.org Test-Label: iol-abi-testing Test-Status: SUCCESS http://dpdk.org/patch/137211 _Testing PASS_ Submitter: Amit Prakash Shukla Date: Monday, February 26 2024 13:26:07 DPDK git baseline: Repo:dpdk Branch: master CommitID:850a57695b4647f62f31019baa8a92bcd3ff3531 137211 --> testing pass Test environment and result as below: +------------------+----------+ | Environment | abi_test | +==================+==========+ | Ubuntu 22.04 | PASS | +------------------+----------+ | Fedora 37 | PASS | +------------------+----------+ | openSUSE Leap 15 | PASS | +------------------+----------+ | CentOS Stream 9 | PASS | +------------------+----------+ | CentOS Stream 8 | PASS | +------------------+----------+ | Fedora 38 | PASS | +------------------+----------+ | Debian Bullseye | PASS | +------------------+----------+ | Debian 12 (arm) | PASS | +------------------+----------+ | RHEL8 | PASS | +------------------+----------+ Ubuntu 22.04 Kernel: 4.18.0-240.10.1.el8_3.x86_64 Compiler: gcc 11.3.0 Fedora 37 Kernel: Depends on container host system Compiler: gcc 12.3.1 openSUSE Leap 15 Kernel: 4.18.0-240.10.1.el8_3.x86_64 Compiler: gcc 7.5.0 CentOS Stream 9 Kernel: 4.18.0-240.10.1.el8_3.x86_64 Compiler: gcc 11.3.1 20220421 CentOS Stream 8 Kernel: 4.18.0-240.10.1.el8_3.x86_64 Compiler: gcc 8.4.1 20200928 Fedora 38 Kernel: Depends on container host Compiler: clang 16.0.3 Debian Bullseye Kernel: 5.4.0-122-generic Compiler: gcc 10.2.1-6 Debian 12 (arm) Kernel: Container Host Kernel Compiler: gcc 11 RHEL8 Kernel: 4.18.0-240.10.1.el8_3.x86_64 Compiler: gcc 8.3.1 20191121 (Red Hat 8.3.1-5) To view detailed results, visit: https://lab.dpdk.org/results/dashboard/patchsets/29266/ UNH-IOL DPDK Community Lab To manage your email subscriptions, visit: https://lab.dpdk.org/results/dashboard/preferences/subscriptions/