From mboxrd@z Thu Jan 1 00:00:00 1970 Return-Path: Received: from mails.dpdk.org (mails.dpdk.org [217.70.189.124]) by inbox.dpdk.org (Postfix) with ESMTP id 1A68F43BF6 for ; Mon, 26 Feb 2024 20:31:34 +0100 (CET) Received: from mails.dpdk.org (localhost [127.0.0.1]) by mails.dpdk.org (Postfix) with ESMTP id 167EE402CC; Mon, 26 Feb 2024 20:31:34 +0100 (CET) Received: from mail-pl1-f227.google.com (mail-pl1-f227.google.com [209.85.214.227]) by mails.dpdk.org (Postfix) with ESMTP id 2F388402C8 for ; Mon, 26 Feb 2024 20:31:21 +0100 (CET) Received: by mail-pl1-f227.google.com with SMTP id d9443c01a7336-1d95d67ff45so21642965ad.2 for ; Mon, 26 Feb 2024 11:31:21 -0800 (PST) DKIM-Signature: v=1; a=rsa-sha256; c=relaxed/relaxed; d=iol.unh.edu; s=unh-iol; t=1708975880; x=1709580680; darn=dpdk.org; h=cc:to:from:subject:message-id:date:from:to:cc:subject:date :message-id:reply-to; bh=xB7zjl29EhdNto8gj9h0OU7m1tYdRSP6KBsS7AKXfiI=; b=HhfYJZ8gg4UKMTOYM+wfTVsbZbDVsFRZYGcq5V2p61FmC4zNBaGBubLW17MIHJSqOX tAFcKQMxC/gJXjDt68U+cgPs0WlxHPLfn3GcXr3R+QvuLAzyDBdTKLjzVGf3KlnAfjUG pkMQYyYhWM3i+8QjMByZdwYicFBe5eBAm9Hyc= X-Google-DKIM-Signature: v=1; a=rsa-sha256; c=relaxed/relaxed; d=1e100.net; s=20230601; t=1708975880; x=1709580680; h=cc:to:from:subject:message-id:date:x-gm-message-state:from:to:cc :subject:date:message-id:reply-to; bh=xB7zjl29EhdNto8gj9h0OU7m1tYdRSP6KBsS7AKXfiI=; b=no8u+esYhJVpWm/sM0FE/zPvEMOZol8533zoxhcQuc713ehKqVLxw4Jc27Y2msVghF aMAyQV+rwu/yTSx6hCKNmiRc+2Npbg20kNmiDKfa2DQmL78/UOp4hDn8SDsdu4s+7AeR 7IlAH5X4nRYOwV1HaMNAzixOdMkrSGwgiL2HYiplunrZF11MVBm+ca8y1+NSq6lNRuIa ymB3UdCOcYqxk+BqlOuq5FEJMLfqWcDaOhnGNV7k+z5uskBlaTtGIW2GfxTx8YHkyEPZ Z6bCFEtgdHgojTnpTykAn4WSWFlkiWU+yu/95iGpBzoV8VGlbCPtN/FNRi241QoF7kHD qlMQ== X-Gm-Message-State: AOJu0YzgbtoRX/xOOdh1939vUK2Zk3/JxrCcSoPnLJ3wfJLkOZrzJLe0 3OG6GR+Cz373HxB/boblCoEydIjjRLYmg3RePNZwt7Ppes5KTJEF98E7CJWKxFOipRFPZlM6qDM CzIQ1L3a1VsJUCYD2QmZERGbRuitRShwq7P5usIBz91KXgQGAjYdLeu4q X-Google-Smtp-Source: AGHT+IHwL/oYCLHPI4Lo0rbG4EvwOHd9jS2rOMOUQPUULONlo7HhV6E1F5rVyx5tJuBvTbXfm7H66CwBIbT6 X-Received: by 2002:a17:902:b906:b0:1db:ff7b:d1fa with SMTP id bf6-20020a170902b90600b001dbff7bd1famr7576593plb.47.1708975880506; Mon, 26 Feb 2024 11:31:20 -0800 (PST) Received: from postal.iol.unh.edu (postal.iol.unh.edu. [2606:4100:3880:1234::84]) by smtp-relay.gmail.com with ESMTPS id u3-20020a170902b28300b001dbd7bed8c2sm2178plr.139.2024.02.26.11.31.20 (version=TLS1_2 cipher=ECDHE-ECDSA-AES128-GCM-SHA256 bits=128/128); Mon, 26 Feb 2024 11:31:20 -0800 (PST) X-Relaying-Domain: iol.unh.edu Date: Mon, 26 Feb 2024 11:31:20 -0800 (PST) Message-ID: <65dce708.170a0220.02dc.0222SMTPIN_ADDED_MISSING@mx.google.com> Received: from [172.21.0.6] (unknown [172.18.0.240]) by postal.iol.unh.edu (Postfix) with ESMTP id 01F8F6043300; Mon, 26 Feb 2024 14:31:20 -0500 (EST) Subject: |SUCCESS| pw137211 [PATCH] app/eventdev: support DMA adapter test From: dpdklab@iol.unh.edu To: Test Report Cc: dpdk-test-reports@iol.unh.edu Content-Type: text/plain X-BeenThere: test-report@dpdk.org X-Mailman-Version: 2.1.29 Precedence: list List-Id: automatic DPDK test reports List-Unsubscribe: , List-Archive: List-Post: List-Help: List-Subscribe: , Errors-To: test-report-bounces@dpdk.org Test-Label: iol-abi-testing Test-Status: SUCCESS http://dpdk.org/patch/137211 _Testing PASS_ Submitter: Amit Prakash Shukla Date: Monday, February 26 2024 13:26:07 DPDK git baseline: Repo:dpdk Branch: master CommitID:850a57695b4647f62f31019baa8a92bcd3ff3531 137211 --> testing pass Test environment and result as below: +------------------+----------+ | Environment | abi_test | +==================+==========+ | Ubuntu 22.04 | PASS | +------------------+----------+ | Fedora 37 | PASS | +------------------+----------+ | openSUSE Leap 15 | PASS | +------------------+----------+ | CentOS Stream 9 | PASS | +------------------+----------+ | CentOS Stream 8 | PASS | +------------------+----------+ | Fedora 38 | PASS | +------------------+----------+ | Debian Bullseye | PASS | +------------------+----------+ | Debian 12 (arm) | PASS | +------------------+----------+ | RHEL8 | PASS | +------------------+----------+ Ubuntu 22.04 Kernel: 4.18.0-240.10.1.el8_3.x86_64 Compiler: gcc 11.3.0 Fedora 37 Kernel: Depends on container host system Compiler: gcc 12.3.1 openSUSE Leap 15 Kernel: 4.18.0-240.10.1.el8_3.x86_64 Compiler: gcc 7.5.0 CentOS Stream 9 Kernel: 4.18.0-240.10.1.el8_3.x86_64 Compiler: gcc 11.3.1 20220421 CentOS Stream 8 Kernel: 4.18.0-240.10.1.el8_3.x86_64 Compiler: gcc 8.4.1 20200928 Fedora 38 Kernel: Depends on container host Compiler: clang 16.0.3 Debian Bullseye Kernel: 5.4.0-122-generic Compiler: gcc 10.2.1-6 Debian 12 (arm) Kernel: Container Host Kernel Compiler: gcc 11 RHEL8 Kernel: 4.18.0-240.10.1.el8_3.x86_64 Compiler: gcc 8.3.1 20191121 (Red Hat 8.3.1-5) To view detailed results, visit: https://lab.dpdk.org/results/dashboard/patchsets/29266/ UNH-IOL DPDK Community Lab To manage your email subscriptions, visit: https://lab.dpdk.org/results/dashboard/preferences/subscriptions/