From mboxrd@z Thu Jan 1 00:00:00 1970 Return-Path: Received: from mails.dpdk.org (mails.dpdk.org [217.70.189.124]) by inbox.dpdk.org (Postfix) with ESMTP id 4FD5243BF6 for ; Mon, 26 Feb 2024 20:32:20 +0100 (CET) Received: from mails.dpdk.org (localhost [127.0.0.1]) by mails.dpdk.org (Postfix) with ESMTP id 4BB93402CC; Mon, 26 Feb 2024 20:32:20 +0100 (CET) Received: from mail-il1-f225.google.com (mail-il1-f225.google.com [209.85.166.225]) by mails.dpdk.org (Postfix) with ESMTP id A3509402C8 for ; Mon, 26 Feb 2024 20:32:17 +0100 (CET) Received: by mail-il1-f225.google.com with SMTP id e9e14a558f8ab-3651d6dea15so11646575ab.1 for ; Mon, 26 Feb 2024 11:32:17 -0800 (PST) DKIM-Signature: v=1; a=rsa-sha256; c=relaxed/relaxed; d=iol.unh.edu; s=unh-iol; t=1708975937; x=1709580737; darn=dpdk.org; h=cc:to:from:subject:message-id:date:from:to:cc:subject:date :message-id:reply-to; bh=xB7zjl29EhdNto8gj9h0OU7m1tYdRSP6KBsS7AKXfiI=; b=K3Kx9SLeDHNHRMkoXsprBxoUQmpwSMzXG3QdePVp3jn24eiavtT2gFA+/UfnNtu2nd iXVW9K+S9xOMrHZnLRXcat34Oe5ywXSQsIKzTlz03g5Uod75OrQZcxF8kx40uQmfzgwj pbMClL7HG4/oRbeN0eFV/IdO8KEkCsoBX7JFo= X-Google-DKIM-Signature: v=1; a=rsa-sha256; c=relaxed/relaxed; d=1e100.net; s=20230601; t=1708975937; x=1709580737; h=cc:to:from:subject:message-id:date:x-gm-message-state:from:to:cc :subject:date:message-id:reply-to; bh=xB7zjl29EhdNto8gj9h0OU7m1tYdRSP6KBsS7AKXfiI=; b=RKYunMy6Gd01JmCW+pUR3YhX6cIcLpcHjaznIgTmP5+ThqmyujRfZlzkBn4323Qe8N yE5RGM9ScXRN5aiVmSTnXUz7aOTxFUFrzXo+uFR1Zgm+VtkaA2n4m5GHn8Cz5iugsLjt 8BDnVOuad/Gne4+YFMHblbZicYfHFn2SL9CzGFmwFUVaKhP4qS4Z02A1s/x11ChD///U iasyivRKl3HzraBe8U3o/V2LAo5g5D3lilDYA9vZ7xGsRPqRy/yrCwmLkis8G9Naea3v AQIR5nI+nrwfy4bq/MtqwI0C2i8gH/HRIvsOMGk7Nuw6R39lYy8BLtki48RWyocqdqUT XVAg== X-Gm-Message-State: AOJu0Yza3LH1pFTQRfbqR7KJ9o8w4VOMt5Cb8CVtBYMaF11pKR18HraF s4d0LXZWUmzFGC6VVTHR2BSKnvoAD6vq6fYPmj1VI6r39rwzn58wlDvRV8v+pp+CXIANPrlXoHQ 7uWGdj6JJ+t6305GXwC12Tt8CffsOcy5bKkeZbvNvIQspz5QEB4ZalPN8 X-Google-Smtp-Source: AGHT+IGq5khIKTtUU+dgnT0xbJ5+kLCJitoh5Yp8vnEd1tE+d35SfgWEMOOXqKBPvmsoaIvBjDZLpfgmI7dt X-Received: by 2002:a05:6e02:1194:b0:365:42d0:2da6 with SMTP id y20-20020a056e02119400b0036542d02da6mr5681889ili.5.1708975937068; Mon, 26 Feb 2024 11:32:17 -0800 (PST) Received: from postal.iol.unh.edu (postal.iol.unh.edu. [2606:4100:3880:1234::84]) by smtp-relay.gmail.com with ESMTPS id bn24-20020a056e02339800b003652e5a9e2csm297089ilb.5.2024.02.26.11.32.16 (version=TLS1_2 cipher=ECDHE-ECDSA-AES128-GCM-SHA256 bits=128/128); Mon, 26 Feb 2024 11:32:17 -0800 (PST) X-Relaying-Domain: iol.unh.edu Date: Mon, 26 Feb 2024 11:32:17 -0800 (PST) Message-ID: <65dce741.050a0220.61a40.9edaSMTPIN_ADDED_MISSING@mx.google.com> Received: from [172.21.0.6] (unknown [172.18.0.240]) by postal.iol.unh.edu (Postfix) with ESMTP id 91F856043300; Mon, 26 Feb 2024 14:32:16 -0500 (EST) Subject: |SUCCESS| pw137211 [PATCH] app/eventdev: support DMA adapter test From: dpdklab@iol.unh.edu To: Test Report Cc: dpdk-test-reports@iol.unh.edu Content-Type: text/plain X-BeenThere: test-report@dpdk.org X-Mailman-Version: 2.1.29 Precedence: list List-Id: automatic DPDK test reports List-Unsubscribe: , List-Archive: List-Post: List-Help: List-Subscribe: , Errors-To: test-report-bounces@dpdk.org Test-Label: iol-abi-testing Test-Status: SUCCESS http://dpdk.org/patch/137211 _Testing PASS_ Submitter: Amit Prakash Shukla Date: Monday, February 26 2024 13:26:07 DPDK git baseline: Repo:dpdk Branch: master CommitID:850a57695b4647f62f31019baa8a92bcd3ff3531 137211 --> testing pass Test environment and result as below: +------------------+----------+ | Environment | abi_test | +==================+==========+ | Ubuntu 22.04 | PASS | +------------------+----------+ | Fedora 37 | PASS | +------------------+----------+ | openSUSE Leap 15 | PASS | +------------------+----------+ | CentOS Stream 9 | PASS | +------------------+----------+ | CentOS Stream 8 | PASS | +------------------+----------+ | Fedora 38 | PASS | +------------------+----------+ | Debian Bullseye | PASS | +------------------+----------+ | Debian 12 (arm) | PASS | +------------------+----------+ | RHEL8 | PASS | +------------------+----------+ Ubuntu 22.04 Kernel: 4.18.0-240.10.1.el8_3.x86_64 Compiler: gcc 11.3.0 Fedora 37 Kernel: Depends on container host system Compiler: gcc 12.3.1 openSUSE Leap 15 Kernel: 4.18.0-240.10.1.el8_3.x86_64 Compiler: gcc 7.5.0 CentOS Stream 9 Kernel: 4.18.0-240.10.1.el8_3.x86_64 Compiler: gcc 11.3.1 20220421 CentOS Stream 8 Kernel: 4.18.0-240.10.1.el8_3.x86_64 Compiler: gcc 8.4.1 20200928 Fedora 38 Kernel: Depends on container host Compiler: clang 16.0.3 Debian Bullseye Kernel: 5.4.0-122-generic Compiler: gcc 10.2.1-6 Debian 12 (arm) Kernel: Container Host Kernel Compiler: gcc 11 RHEL8 Kernel: 4.18.0-240.10.1.el8_3.x86_64 Compiler: gcc 8.3.1 20191121 (Red Hat 8.3.1-5) To view detailed results, visit: https://lab.dpdk.org/results/dashboard/patchsets/29266/ UNH-IOL DPDK Community Lab To manage your email subscriptions, visit: https://lab.dpdk.org/results/dashboard/preferences/subscriptions/