From mboxrd@z Thu Jan 1 00:00:00 1970 Return-Path: Received: from mails.dpdk.org (mails.dpdk.org [217.70.189.124]) by inbox.dpdk.org (Postfix) with ESMTP id D001543BF6 for ; Mon, 26 Feb 2024 20:33:46 +0100 (CET) Received: from mails.dpdk.org (localhost [127.0.0.1]) by mails.dpdk.org (Postfix) with ESMTP id CBC69402CC; Mon, 26 Feb 2024 20:33:46 +0100 (CET) Received: from mail-oa1-f99.google.com (mail-oa1-f99.google.com [209.85.160.99]) by mails.dpdk.org (Postfix) with ESMTP id 2E5D2402C8 for ; Mon, 26 Feb 2024 20:33:46 +0100 (CET) Received: by mail-oa1-f99.google.com with SMTP id 586e51a60fabf-21e45ece781so2556223fac.0 for ; Mon, 26 Feb 2024 11:33:46 -0800 (PST) DKIM-Signature: v=1; a=rsa-sha256; c=relaxed/relaxed; d=iol.unh.edu; s=unh-iol; t=1708976025; x=1709580825; darn=dpdk.org; h=cc:to:from:subject:message-id:date:from:to:cc:subject:date :message-id:reply-to; bh=spXwwHAOXvq8DeGG8gan58teGNebHAvOK0aqMOiWjNo=; b=JsNNz/uZktvu4T1PO9YXrVpbbY0JD7IR/i0onZ4esQxZWsnsGVP+IOfQ6dJgFoTXxK CSdjmYsNULJV61JKRqp18Ld/Fhy6GkVkz0uXlNVQEN/ggYb+z3Tq9jeiH0XzKuLo/GDv leuXSeo44R5ZdzuhCp4dbHIw/dg6jn5yFhRVE= X-Google-DKIM-Signature: v=1; a=rsa-sha256; c=relaxed/relaxed; d=1e100.net; s=20230601; t=1708976025; x=1709580825; h=cc:to:from:subject:message-id:date:x-gm-message-state:from:to:cc :subject:date:message-id:reply-to; bh=spXwwHAOXvq8DeGG8gan58teGNebHAvOK0aqMOiWjNo=; b=Kqriz7VHKX2zqMgSMMiZ1Ene8KZwkrTogZ4Pgzwvi7Y8G/RFgv0wrYwihv081gMoFE bHKr3ZJsVXCsT+M6W5r6+1mlqvMrphIo0MhziUcBfQphH38t2XtjTbONw2fXtg+RmBsG +StjdjdUuFXIYJJfGnKrIfYlkMpQw83gRvsu3Pt62c6uOxEnKwL19EyTcfb2rS56sylL 6wcNzCinTxjA9B2ostAULyPv4AkT5kYIkbVNYg15vpuyQs1Lw+G7CQNgTrc1GATOjnq9 7BY9YyxsxgMdNywqzaXQ9iaQqgM7Y0TIDCW523hqQvRPeYUBk51D6kNKgwCGl6VZl6kD 5Sug== X-Gm-Message-State: AOJu0YyJ0ur7/E1f93v2YORUy7Pm+w/MKEVerSlCJQS70YzS1GPZ9Tio D9XzhMM0v/97CTsAeBMT5n/xLsxmrr6n/93LTBZ2oZ9qYTk+IqMEZzyaWIqXhdIqpJUDM5EyU2A tBdTxtlWXIPTPbKAg4iGlv2q9bfjE1mtMU117/f7s9N9h6a8RZHngE2XL X-Google-Smtp-Source: AGHT+IF8v6u8AY+POGwz9iCpcTPyg2QGWBsnugsUBk8pUXFnXU4fJUkKvnME9keC8AcSlB5A+CIN+N9XIwbN X-Received: by 2002:a05:6870:f6a1:b0:21e:9b99:53d8 with SMTP id el33-20020a056870f6a100b0021e9b9953d8mr9066011oab.22.1708976025515; Mon, 26 Feb 2024 11:33:45 -0800 (PST) Received: from postal.iol.unh.edu (postal.iol.unh.edu. [2606:4100:3880:1234::84]) by smtp-relay.gmail.com with ESMTPS id 20-20020a05687013d400b002202b511a05sm35579oat.16.2024.02.26.11.33.45 (version=TLS1_2 cipher=ECDHE-ECDSA-AES128-GCM-SHA256 bits=128/128); Mon, 26 Feb 2024 11:33:45 -0800 (PST) X-Relaying-Domain: iol.unh.edu Date: Mon, 26 Feb 2024 11:33:45 -0800 (PST) Message-ID: <65dce799.050a0220.c5f4a.167fSMTPIN_ADDED_MISSING@mx.google.com> Received: from [172.21.0.7] (unknown [172.18.0.240]) by postal.iol.unh.edu (Postfix) with ESMTP id F06B06043300; Mon, 26 Feb 2024 14:33:43 -0500 (EST) Subject: |SUCCESS| pw137211 [PATCH] app/eventdev: support DMA adapter test From: dpdklab@iol.unh.edu To: Test Report Cc: dpdk-test-reports@iol.unh.edu Content-Type: text/plain X-BeenThere: test-report@dpdk.org X-Mailman-Version: 2.1.29 Precedence: list List-Id: automatic DPDK test reports List-Unsubscribe: , List-Archive: List-Post: List-Help: List-Subscribe: , Errors-To: test-report-bounces@dpdk.org Test-Label: iol-compile-amd64-testing Test-Status: SUCCESS http://dpdk.org/patch/137211 _Testing PASS_ Submitter: Amit Prakash Shukla Date: Monday, February 26 2024 13:26:07 DPDK git baseline: Repo:dpdk Branch: master CommitID:850a57695b4647f62f31019baa8a92bcd3ff3531 137211 --> testing pass Test environment and result as below: +---------------------+--------------------+----------------------+ | Environment | dpdk_meson_compile | dpdk_mingw64_compile | +=====================+====================+======================+ | Windows Server 2022 | PASS | SKIPPED | +---------------------+--------------------+----------------------+ | FreeBSD 13.2 | PASS | SKIPPED | +---------------------+--------------------+----------------------+ | Windows Server 2019 | PASS | PASS | +---------------------+--------------------+----------------------+ Windows Server 2022 Kernel: OS Build 20348.2031 Compiler: MSVC VS-Preview FreeBSD 13.2 Kernel: 13.2 Compiler: clang 11.3.0 Windows Server 2019 Kernel: 10.0 Compiler: clang 14.0 and gcc 8.1.0 (MinGW) To view detailed results, visit: https://lab.dpdk.org/results/dashboard/patchsets/29266/ UNH-IOL DPDK Community Lab To manage your email subscriptions, visit: https://lab.dpdk.org/results/dashboard/preferences/subscriptions/