From mboxrd@z Thu Jan 1 00:00:00 1970 Return-Path: Received: from mails.dpdk.org (mails.dpdk.org [217.70.189.124]) by inbox.dpdk.org (Postfix) with ESMTP id 0DC9B43BF6 for ; Mon, 26 Feb 2024 20:34:21 +0100 (CET) Received: from mails.dpdk.org (localhost [127.0.0.1]) by mails.dpdk.org (Postfix) with ESMTP id 098B6402CC; Mon, 26 Feb 2024 20:34:21 +0100 (CET) Received: from mail-io1-f100.google.com (mail-io1-f100.google.com [209.85.166.100]) by mails.dpdk.org (Postfix) with ESMTP id 3EC8A402C8 for ; Mon, 26 Feb 2024 20:34:17 +0100 (CET) Received: by mail-io1-f100.google.com with SMTP id ca18e2360f4ac-7c48fc56752so112853839f.3 for ; Mon, 26 Feb 2024 11:34:17 -0800 (PST) DKIM-Signature: v=1; a=rsa-sha256; c=relaxed/relaxed; d=iol.unh.edu; s=unh-iol; t=1708976056; x=1709580856; darn=dpdk.org; h=cc:to:from:subject:message-id:date:from:to:cc:subject:date :message-id:reply-to; bh=xB7zjl29EhdNto8gj9h0OU7m1tYdRSP6KBsS7AKXfiI=; b=KMABgw7gqJsUwI3yRVfKPSbBfBplAE7I5n4fTELu42Rd38QM3u8VHJ87bcgYL60FH8 YzFX/ceX4kUlmmbODAYOS0q8x5qyWuxIEpbtHWWUfkBR3CLZA6UuuhKt2oMdUwEl27YS 1CCK/P50iuwS6rb7RHnbm3k/cJkKoIiVGGlAY= X-Google-DKIM-Signature: v=1; a=rsa-sha256; c=relaxed/relaxed; d=1e100.net; s=20230601; t=1708976056; x=1709580856; h=cc:to:from:subject:message-id:date:x-gm-message-state:from:to:cc :subject:date:message-id:reply-to; bh=xB7zjl29EhdNto8gj9h0OU7m1tYdRSP6KBsS7AKXfiI=; b=QeoIyEHA0ioCmxIt72kjSdHrZ/wMdw8Ap3VPVAJUC15THJSXk74oHZJj49wb/i9PjF 1OapdjejT+EpdNGzw3/FdUSKNft71uVY+0A6tXkGd//NU33MSnHWCB+HAk/OyS2xT6+K thKMedDDhiEtL2ijecN9QCTL24wcakbxKW6IbTGTYTvUiJVklOM3KdmXvkE7VW1OVBaV 0kIiHG85oLCVBUmR2aM671IMxjlxkMADmqM1REtspIyIll+PTAZF4EY7Q4qcn901CEZm MybEfER7hNa2INdxx2M4BkPy264fgJRVnxxjq9ERXU3vRZr1Q9BvLCxDBgi0J+jMz0VT eK9A== X-Gm-Message-State: AOJu0YzB2QZisSA7B53jzR4jr5zomeBTuzw8t0CTPeRppv7Rk1Yuynwu eKXo5tzpP5iIbMtwgtuLeWZArQV3BOrBJ8BJKNlj47eeU7GAQNPdz79C+S5MAJ5WoaTV/rgegQL hvlDNWUxCaRVF8mthYJ4glRgNWx44jPztvubq1AO3 X-Google-Smtp-Source: AGHT+IFGGQ2COSNpOdjtrLluj7ojKZx99Q9TUEiisi6SdPQRhNamLRaBST+pP5JbIOTrxhaUvNR7m1ZyyCph X-Received: by 2002:a05:6602:1d01:b0:7c7:da5e:3a61 with SMTP id hh1-20020a0566021d0100b007c7da5e3a61mr1664129iob.9.1708976056509; Mon, 26 Feb 2024 11:34:16 -0800 (PST) Received: from postal.iol.unh.edu (postal.iol.unh.edu. [132.177.123.84]) by smtp-relay.gmail.com with ESMTPS id m17-20020a056638271100b004715fe33db2sm144354jav.11.2024.02.26.11.34.16 (version=TLS1_2 cipher=ECDHE-ECDSA-AES128-GCM-SHA256 bits=128/128); Mon, 26 Feb 2024 11:34:16 -0800 (PST) X-Relaying-Domain: iol.unh.edu Date: Mon, 26 Feb 2024 11:34:16 -0800 (PST) Message-ID: <65dce7b8.050a0220.ebdd.a062SMTPIN_ADDED_MISSING@mx.google.com> Received: from [172.21.0.7] (unknown [172.18.0.240]) by postal.iol.unh.edu (Postfix) with ESMTP id 0DC616043300; Mon, 26 Feb 2024 14:34:16 -0500 (EST) Subject: |SUCCESS| pw137211 [PATCH] app/eventdev: support DMA adapter test From: dpdklab@iol.unh.edu To: Test Report Cc: dpdk-test-reports@iol.unh.edu Content-Type: text/plain X-BeenThere: test-report@dpdk.org X-Mailman-Version: 2.1.29 Precedence: list List-Id: automatic DPDK test reports List-Unsubscribe: , List-Archive: List-Post: List-Help: List-Subscribe: , Errors-To: test-report-bounces@dpdk.org Test-Label: iol-abi-testing Test-Status: SUCCESS http://dpdk.org/patch/137211 _Testing PASS_ Submitter: Amit Prakash Shukla Date: Monday, February 26 2024 13:26:07 DPDK git baseline: Repo:dpdk Branch: master CommitID:850a57695b4647f62f31019baa8a92bcd3ff3531 137211 --> testing pass Test environment and result as below: +------------------+----------+ | Environment | abi_test | +==================+==========+ | Ubuntu 22.04 | PASS | +------------------+----------+ | Fedora 37 | PASS | +------------------+----------+ | openSUSE Leap 15 | PASS | +------------------+----------+ | CentOS Stream 9 | PASS | +------------------+----------+ | CentOS Stream 8 | PASS | +------------------+----------+ | Fedora 38 | PASS | +------------------+----------+ | Debian Bullseye | PASS | +------------------+----------+ | Debian 12 (arm) | PASS | +------------------+----------+ | RHEL8 | PASS | +------------------+----------+ Ubuntu 22.04 Kernel: 4.18.0-240.10.1.el8_3.x86_64 Compiler: gcc 11.3.0 Fedora 37 Kernel: Depends on container host system Compiler: gcc 12.3.1 openSUSE Leap 15 Kernel: 4.18.0-240.10.1.el8_3.x86_64 Compiler: gcc 7.5.0 CentOS Stream 9 Kernel: 4.18.0-240.10.1.el8_3.x86_64 Compiler: gcc 11.3.1 20220421 CentOS Stream 8 Kernel: 4.18.0-240.10.1.el8_3.x86_64 Compiler: gcc 8.4.1 20200928 Fedora 38 Kernel: Depends on container host Compiler: clang 16.0.3 Debian Bullseye Kernel: 5.4.0-122-generic Compiler: gcc 10.2.1-6 Debian 12 (arm) Kernel: Container Host Kernel Compiler: gcc 11 RHEL8 Kernel: 4.18.0-240.10.1.el8_3.x86_64 Compiler: gcc 8.3.1 20191121 (Red Hat 8.3.1-5) To view detailed results, visit: https://lab.dpdk.org/results/dashboard/patchsets/29266/ UNH-IOL DPDK Community Lab To manage your email subscriptions, visit: https://lab.dpdk.org/results/dashboard/preferences/subscriptions/