From mboxrd@z Thu Jan 1 00:00:00 1970 Return-Path: Received: from mails.dpdk.org (mails.dpdk.org [217.70.189.124]) by inbox.dpdk.org (Postfix) with ESMTP id 8BD3443BF6 for ; Mon, 26 Feb 2024 20:52:22 +0100 (CET) Received: from mails.dpdk.org (localhost [127.0.0.1]) by mails.dpdk.org (Postfix) with ESMTP id 86B15402CC; Mon, 26 Feb 2024 20:52:22 +0100 (CET) Received: from mail-vk1-f226.google.com (mail-vk1-f226.google.com [209.85.221.226]) by mails.dpdk.org (Postfix) with ESMTP id 613AC402C8 for ; Mon, 26 Feb 2024 20:52:21 +0100 (CET) Received: by mail-vk1-f226.google.com with SMTP id 71dfb90a1353d-4c852c6e5f7so451101e0c.3 for ; Mon, 26 Feb 2024 11:52:21 -0800 (PST) DKIM-Signature: v=1; a=rsa-sha256; c=relaxed/relaxed; d=iol.unh.edu; s=unh-iol; t=1708977140; x=1709581940; darn=dpdk.org; h=cc:to:from:subject:message-id:date:from:to:cc:subject:date :message-id:reply-to; bh=kEbhlgV633ogyKbVPSkfrWDAAoJKE+OpKpxqkIIm2jg=; b=bnacQzdFhTOXImpdsUeqRH1JdWv5foKoO8yzZFPkLCJJk33WpINWPnK9djIq/fdqTL XN7MruIyWWBAexfEAU4HRSl4sN3xO5XVT1etA9Z/b4xlE1UgYLyd5gn02OwaGPlesXVL Xeprtk/CIpo9WC6v2JScq3Yfes3/Iu+1MfIos= X-Google-DKIM-Signature: v=1; a=rsa-sha256; c=relaxed/relaxed; d=1e100.net; s=20230601; t=1708977140; x=1709581940; h=cc:to:from:subject:message-id:date:x-gm-message-state:from:to:cc :subject:date:message-id:reply-to; bh=kEbhlgV633ogyKbVPSkfrWDAAoJKE+OpKpxqkIIm2jg=; b=fABZb+xNRC1h5epmQjvz0/xsTWXJxlj5ySceGFSQ/Yk80rITS2ZwIn1ZtAOpBO7QEM fXDkUvv3ILhrCKs0pnTCKqta8A1CndBxfi4KIIbFMi/rSU4HXuBUMmw3OFv+ihCWs4tW KiYgNQdaYzvN3e1prqGrWUud/O61LEgOa1eTTOC2aWTZiKHLwssBjbBPGBl+6wdUmSgu YLpFYkyPGL7lFShABJl8hpqZ1CiKRFHs7KKvXPGZBWRzZ0aQowl4kD6INgX3ncNQVYaC 08xsARqTPN2nshxYcSq1i8PoP3YhP+gB9K9U0GbYFQ2WBW5Wwp0pD9KWYOSBRn2ex8qf GRAg== X-Gm-Message-State: AOJu0Yz2EayBfkUyEi3LW8QWiBixO52lLl+b5WnDw5gvGa0ILqyuWOhO CQrmUdZNvbcrCkHQ7WbaDBP3rvoQQru29hhp5OgRE/COjSxpz9OaqGErfZ5PKQOUnjt1XwXyOt5 Z3E0uWzcJHlocG/2uoljqyjNi2p2kHDgxLgSXG0x9 X-Google-Smtp-Source: AGHT+IFl6BVqlIl4eA8oCy96t9VUep0Cp6p5cc6yTfnAwE4+uBKIyKlp2Z8x7qZwewTriHfkm20diLk3ZtWy X-Received: by 2002:a1f:cc46:0:b0:4c8:e5a0:421b with SMTP id c67-20020a1fcc46000000b004c8e5a0421bmr4381841vkg.4.1708977140696; Mon, 26 Feb 2024 11:52:20 -0800 (PST) Received: from postal.iol.unh.edu (postal.iol.unh.edu. [132.177.123.84]) by smtp-relay.gmail.com with ESMTPS id ay1-20020a056122180100b004c02b73723bsm277265vkb.12.2024.02.26.11.52.20 (version=TLS1_2 cipher=ECDHE-ECDSA-AES128-GCM-SHA256 bits=128/128); Mon, 26 Feb 2024 11:52:20 -0800 (PST) X-Relaying-Domain: iol.unh.edu Date: Mon, 26 Feb 2024 11:52:20 -0800 (PST) Message-ID: <65dcebf4.050a0220.91508.20cfSMTPIN_ADDED_MISSING@mx.google.com> Received: from [172.21.0.7] (unknown [172.18.0.240]) by postal.iol.unh.edu (Postfix) with ESMTP id 502E26043301; Mon, 26 Feb 2024 14:52:20 -0500 (EST) Subject: |SUCCESS| pw137211 [PATCH] app/eventdev: support DMA adapter test From: dpdklab@iol.unh.edu To: Test Report Cc: dpdk-test-reports@iol.unh.edu Content-Type: text/plain X-BeenThere: test-report@dpdk.org X-Mailman-Version: 2.1.29 Precedence: list List-Id: automatic DPDK test reports List-Unsubscribe: , List-Archive: List-Post: List-Help: List-Subscribe: , Errors-To: test-report-bounces@dpdk.org Test-Label: iol-unit-amd64-testing Test-Status: SUCCESS http://dpdk.org/patch/137211 _Testing PASS_ Submitter: Amit Prakash Shukla Date: Monday, February 26 2024 13:26:07 DPDK git baseline: Repo:dpdk Branch: master CommitID:850a57695b4647f62f31019baa8a92bcd3ff3531 137211 --> testing pass Test environment and result as below: +------------------+----------------+ | Environment | dpdk_unit_test | +==================+================+ | CentOS Stream 9 | PASS | +------------------+----------------+ | CentOS Stream 8 | PASS | +------------------+----------------+ | Fedora 37 | PASS | +------------------+----------------+ | openSUSE Leap 15 | PASS | +------------------+----------------+ CentOS Stream 9 Kernel: 4.18.0-240.10.1.el8_3.x86_64 Compiler: gcc 11.3.1 20220421 CentOS Stream 8 Kernel: 4.18.0-240.10.1.el8_3.x86_64 Compiler: gcc 8.4.1 20200928 Fedora 37 Kernel: Depends on container host system Compiler: gcc 12.3.1 openSUSE Leap 15 Kernel: 4.18.0-240.10.1.el8_3.x86_64 Compiler: gcc 7.5.0 To view detailed results, visit: https://lab.dpdk.org/results/dashboard/patchsets/29266/ UNH-IOL DPDK Community Lab To manage your email subscriptions, visit: https://lab.dpdk.org/results/dashboard/preferences/subscriptions/