From mboxrd@z Thu Jan 1 00:00:00 1970 Return-Path: Received: from mails.dpdk.org (mails.dpdk.org [217.70.189.124]) by inbox.dpdk.org (Postfix) with ESMTP id E0C8C43BF6 for ; Mon, 26 Feb 2024 20:53:10 +0100 (CET) Received: from mails.dpdk.org (localhost [127.0.0.1]) by mails.dpdk.org (Postfix) with ESMTP id DC9A8402CC; Mon, 26 Feb 2024 20:53:10 +0100 (CET) Received: from mail-pl1-f228.google.com (mail-pl1-f228.google.com [209.85.214.228]) by mails.dpdk.org (Postfix) with ESMTP id BE779402C8 for ; Mon, 26 Feb 2024 20:53:08 +0100 (CET) Received: by mail-pl1-f228.google.com with SMTP id d9443c01a7336-1d7881b1843so26967535ad.3 for ; Mon, 26 Feb 2024 11:53:08 -0800 (PST) DKIM-Signature: v=1; a=rsa-sha256; c=relaxed/relaxed; d=iol.unh.edu; s=unh-iol; t=1708977188; x=1709581988; darn=dpdk.org; h=cc:to:from:subject:message-id:date:from:to:cc:subject:date :message-id:reply-to; bh=kEbhlgV633ogyKbVPSkfrWDAAoJKE+OpKpxqkIIm2jg=; b=VwTW/7hkFcyyYWRNpuXUWOmr+AaipB58iC+J+Q5QIELJThOD++SXKiu024S3lseUIr R9OSoYdt/lqIYIH2XCpQEyXM8B0V8FcaC1nJ9zYV/1rqD0+HEVRjwGfx8lfPF478E2dV 5UozeeO/Qn2aD3GqMRj15Zd94SZwWS+gkVmQo= X-Google-DKIM-Signature: v=1; a=rsa-sha256; c=relaxed/relaxed; d=1e100.net; s=20230601; t=1708977188; x=1709581988; h=cc:to:from:subject:message-id:date:x-gm-message-state:from:to:cc :subject:date:message-id:reply-to; bh=kEbhlgV633ogyKbVPSkfrWDAAoJKE+OpKpxqkIIm2jg=; b=lVvm0lka/ujw+tGeZ9/69OI6hishXHPTyTlHIBUdY+x5j5tRobjBJYrShfjaY4/qr2 bI87QNIiFDo1viXr3mSU05aC1y0i1Ke2eWuKQ8sFoMTU3igULtFmBITWWThVHN/JS3R8 k5Mg+Aj8wd2TSQk/puJ7D2c1dFcOoUds8ukFc5arQVMPqlmTzaYZQeRNy6D3mrJgrfP4 nNF1V9iQ7DmcFwLYvnaeERxREk3/Enwdf3mOeExDZoyIp5gyTWB278RfPfuC7oanL+1c 1o3KfSb7TVUveoBub8Mp+JfxP8OpGhIFnDTWr2KpLea0GGT8z+GmdxfFjkg5vb1ntHhd NURg== X-Gm-Message-State: AOJu0Yz8ekyd4PKusjUsqagTuBUn574n1YyU90+TsToqnpmS12LsNjpz lVQoPK5BO2mv9wruIdXDYzoD7Y+UMNjjUjkCHQpOJJvPAVUWArz2QSMefEw9Jg6SJOVJBoSZ5Sk Y/vv9aovW2z0HBfwi7ygsN5nt4pXXbyiXfrFnVffu X-Google-Smtp-Source: AGHT+IGfjEps9CIribES4L6Lzb6zIApykqGHMrg3zeF4/2tTA9//k8FRZvAnN4qdOYbK69cHdOcND3D1Zza5 X-Received: by 2002:a17:902:d2c2:b0:1dc:9e62:754c with SMTP id n2-20020a170902d2c200b001dc9e62754cmr5806348plc.4.1708977187982; Mon, 26 Feb 2024 11:53:07 -0800 (PST) Received: from postal.iol.unh.edu (postal.iol.unh.edu. [132.177.123.84]) by smtp-relay.gmail.com with ESMTPS id 21-20020a170902c25500b001db479c5a25sm3676plg.48.2024.02.26.11.53.07 (version=TLS1_2 cipher=ECDHE-ECDSA-AES128-GCM-SHA256 bits=128/128); Mon, 26 Feb 2024 11:53:07 -0800 (PST) X-Relaying-Domain: iol.unh.edu Date: Mon, 26 Feb 2024 11:53:07 -0800 (PST) Message-ID: <65dcec23.170a0220.61d5b.03bfSMTPIN_ADDED_MISSING@mx.google.com> Received: from [172.21.0.6] (unknown [172.18.0.240]) by postal.iol.unh.edu (Postfix) with ESMTP id 32AB46043300; Mon, 26 Feb 2024 14:53:07 -0500 (EST) Subject: |SUCCESS| pw137211 [PATCH] app/eventdev: support DMA adapter test From: dpdklab@iol.unh.edu To: Test Report Cc: dpdk-test-reports@iol.unh.edu Content-Type: text/plain X-BeenThere: test-report@dpdk.org X-Mailman-Version: 2.1.29 Precedence: list List-Id: automatic DPDK test reports List-Unsubscribe: , List-Archive: List-Post: List-Help: List-Subscribe: , Errors-To: test-report-bounces@dpdk.org Test-Label: iol-unit-amd64-testing Test-Status: SUCCESS http://dpdk.org/patch/137211 _Testing PASS_ Submitter: Amit Prakash Shukla Date: Monday, February 26 2024 13:26:07 DPDK git baseline: Repo:dpdk Branch: master CommitID:850a57695b4647f62f31019baa8a92bcd3ff3531 137211 --> testing pass Test environment and result as below: +------------------+----------------+ | Environment | dpdk_unit_test | +==================+================+ | CentOS Stream 9 | PASS | +------------------+----------------+ | CentOS Stream 8 | PASS | +------------------+----------------+ | Fedora 37 | PASS | +------------------+----------------+ | openSUSE Leap 15 | PASS | +------------------+----------------+ CentOS Stream 9 Kernel: 4.18.0-240.10.1.el8_3.x86_64 Compiler: gcc 11.3.1 20220421 CentOS Stream 8 Kernel: 4.18.0-240.10.1.el8_3.x86_64 Compiler: gcc 8.4.1 20200928 Fedora 37 Kernel: Depends on container host system Compiler: gcc 12.3.1 openSUSE Leap 15 Kernel: 4.18.0-240.10.1.el8_3.x86_64 Compiler: gcc 7.5.0 To view detailed results, visit: https://lab.dpdk.org/results/dashboard/patchsets/29266/ UNH-IOL DPDK Community Lab To manage your email subscriptions, visit: https://lab.dpdk.org/results/dashboard/preferences/subscriptions/