From mboxrd@z Thu Jan 1 00:00:00 1970 Return-Path: Received: from mails.dpdk.org (mails.dpdk.org [217.70.189.124]) by inbox.dpdk.org (Postfix) with ESMTP id 4F22E43BF6 for ; Mon, 26 Feb 2024 20:54:15 +0100 (CET) Received: from mails.dpdk.org (localhost [127.0.0.1]) by mails.dpdk.org (Postfix) with ESMTP id 4AB6B402CC; Mon, 26 Feb 2024 20:54:15 +0100 (CET) Received: from mail-pl1-f227.google.com (mail-pl1-f227.google.com [209.85.214.227]) by mails.dpdk.org (Postfix) with ESMTP id CEF99402C8 for ; Mon, 26 Feb 2024 20:54:09 +0100 (CET) Received: by mail-pl1-f227.google.com with SMTP id d9443c01a7336-1d944e8f367so24475455ad.0 for ; Mon, 26 Feb 2024 11:54:09 -0800 (PST) DKIM-Signature: v=1; a=rsa-sha256; c=relaxed/relaxed; d=iol.unh.edu; s=unh-iol; t=1708977249; x=1709582049; darn=dpdk.org; h=cc:to:from:subject:message-id:date:from:to:cc:subject:date :message-id:reply-to; bh=vbf0runG4CKg5IxnLVxhK68vBLh4Wpgvui602CtLe8o=; b=OsTWhbk1M0Z/TFCnmzs1AT/NntqD5PJ2ZILgNzVl/62oL6V5RAbM6azgVLPvudibvd 6W4YNi+CJ5yry4cW2PKyNymJpATn6pipVDaoqzAS/E3J8V73OjUwyD/OD66bmlQgqmcR jTt1gIvQ1j5jRNr3j0Z5WkMe+Tl+7zYaK/OiQ= X-Google-DKIM-Signature: v=1; a=rsa-sha256; c=relaxed/relaxed; d=1e100.net; s=20230601; t=1708977249; x=1709582049; h=cc:to:from:subject:message-id:date:x-gm-message-state:from:to:cc :subject:date:message-id:reply-to; bh=vbf0runG4CKg5IxnLVxhK68vBLh4Wpgvui602CtLe8o=; b=g7il3CCkKMI5MPzgfRMeefEfUyNgJa/e3ABst4j3NT5SHvSGCG1db9k4h0bYEdWEqw YYFiI8M8usslpz2Gzzr4hZ9Sku08ILc3KnnCQtfsr0gYqcel3Wd7ETPK2hVZkg4fEMhp W4YtGDacMdoMfAlhZGqPDSE3H8NU1VnlZs3wVkHplKIeb4QD2FLAXbDgiT2tIoW5IO8z kor65eFW8TBjggDlf6+YIPP/1kpn6YTq9HeDrTEWBKvBzfBxbDHee2arkHAN563sBeqr S1MhhJsW/MVTvuwJurPVX3+dckq503eaupSmPo8DSynzUA5qAX6uplJtxHCiHjM8ijqv 2KQw== X-Gm-Message-State: AOJu0YwDMPaWSMvVurhIUpctTcDo+S3Ir7YpgCsrk61exHVctIO+d1yh zc5ZYZlOTLDRTWHBqltVurLXgPmqccJQoE2mlies97ebrAcceJfog2705XOydb+XKwwIjvL8jBa vQEvUg/VBV1ObGAnXwcXSg0+vaIUoi+ZBpoKJMOoUXhY2Id6uMb+tmY3f X-Google-Smtp-Source: AGHT+IGdpy65HQjw8cDi1UwTp0sE3Dkqk/wZlgvV9xvFaamy/rSZBWwHPOwyhQUkbP9TfZWpHkFtQWZ+OicJ X-Received: by 2002:a17:902:dacd:b0:1dc:b320:9475 with SMTP id q13-20020a170902dacd00b001dcb3209475mr1581986plx.13.1708977249087; Mon, 26 Feb 2024 11:54:09 -0800 (PST) Received: from postal.iol.unh.edu (postal.iol.unh.edu. [2606:4100:3880:1234::84]) by smtp-relay.gmail.com with ESMTPS id li12-20020a170903294c00b001dcabf3a386sm4027plb.5.2024.02.26.11.54.08 (version=TLS1_2 cipher=ECDHE-ECDSA-AES128-GCM-SHA256 bits=128/128); Mon, 26 Feb 2024 11:54:09 -0800 (PST) X-Relaying-Domain: iol.unh.edu Date: Mon, 26 Feb 2024 11:54:09 -0800 (PST) Message-ID: <65dcec61.170a0220.f2139.042fSMTPIN_ADDED_MISSING@mx.google.com> Received: from [172.21.0.7] (unknown [172.18.0.240]) by postal.iol.unh.edu (Postfix) with ESMTP id 4C2B86043300; Mon, 26 Feb 2024 14:54:08 -0500 (EST) Subject: |SUCCESS| pw137211 [PATCH] app/eventdev: support DMA adapter test From: dpdklab@iol.unh.edu To: Test Report Cc: dpdk-test-reports@iol.unh.edu Content-Type: text/plain X-BeenThere: test-report@dpdk.org X-Mailman-Version: 2.1.29 Precedence: list List-Id: automatic DPDK test reports List-Unsubscribe: , List-Archive: List-Post: List-Help: List-Subscribe: , Errors-To: test-report-bounces@dpdk.org Test-Label: iol-compile-arm64-testing Test-Status: SUCCESS http://dpdk.org/patch/137211 _Testing PASS_ Submitter: Amit Prakash Shukla Date: Monday, February 26 2024 13:26:07 DPDK git baseline: Repo:dpdk Branch: master CommitID:850a57695b4647f62f31019baa8a92bcd3ff3531 137211 --> testing pass Test environment and result as below: +--------------------------+--------------------+ | Environment | dpdk_meson_compile | +==========================+====================+ | Ubuntu 20.04 ARM SVE | PASS | +--------------------------+--------------------+ | Ubuntu 20.04 (ARM) | PASS | +--------------------------+--------------------+ | Fedora 37 (ARM) | PASS | +--------------------------+--------------------+ | Debian 11 (Buster) (ARM) | PASS | +--------------------------+--------------------+ | Fedora 38 (ARM) | PASS | +--------------------------+--------------------+ | CentOS Stream 9 (ARM) | PASS | +--------------------------+--------------------+ Ubuntu 20.04 ARM SVE Kernel: 5.4.0-80-generic Compiler: gcc 10.3.0 (Ubuntu 10.3.0-1ubuntu1~20.04) Ubuntu 20.04 (ARM) Kernel: Container Host Kernel Compiler: gcc 9.4.0 Fedora 37 (ARM) Kernel: Depends on container host Compiler: gcc 12.3.1 Debian 11 (Buster) (ARM) Kernel: Container Host Kernel Compiler: gcc 10.2.1 Fedora 38 (ARM) Kernel: Depends on container host Compiler: gcc 13.1.1 CentOS Stream 9 (ARM) Kernel: Container Host Kernel Compiler: gcc 11.3.1 To view detailed results, visit: https://lab.dpdk.org/results/dashboard/patchsets/29266/ UNH-IOL DPDK Community Lab To manage your email subscriptions, visit: https://lab.dpdk.org/results/dashboard/preferences/subscriptions/