From mboxrd@z Thu Jan 1 00:00:00 1970 Return-Path: Received: from mails.dpdk.org (mails.dpdk.org [217.70.189.124]) by inbox.dpdk.org (Postfix) with ESMTP id 8942D43BF6 for ; Mon, 26 Feb 2024 20:54:51 +0100 (CET) Received: from mails.dpdk.org (localhost [127.0.0.1]) by mails.dpdk.org (Postfix) with ESMTP id 8566C402CC; Mon, 26 Feb 2024 20:54:51 +0100 (CET) Received: from mail-pl1-f225.google.com (mail-pl1-f225.google.com [209.85.214.225]) by mails.dpdk.org (Postfix) with ESMTP id B5318402C8 for ; Mon, 26 Feb 2024 20:54:50 +0100 (CET) Received: by mail-pl1-f225.google.com with SMTP id d9443c01a7336-1dca3951ad9so12231735ad.3 for ; Mon, 26 Feb 2024 11:54:50 -0800 (PST) DKIM-Signature: v=1; a=rsa-sha256; c=relaxed/relaxed; d=iol.unh.edu; s=unh-iol; t=1708977290; x=1709582090; darn=dpdk.org; h=cc:to:from:subject:message-id:date:from:to:cc:subject:date :message-id:reply-to; bh=QTK6moltuS5ZIWCNT0KZh8ayZ3G84SRvRAqFBf6Cw30=; b=W+4J4p1K7EetryWXUjNH88ITrRg+yGWPw0VNXg9LDMlAjXC53rlXKD+0mIxomdLOUb rYNPIah8jlQWkFzNcoVXeQGkZlEnPkvJDGEntBrlli3Y5fl1nKisk5/NZrpDukSkBpZF c0P30a7PlNlUacIxuRWkYMZBnyTMpDXAY2uJA= X-Google-DKIM-Signature: v=1; a=rsa-sha256; c=relaxed/relaxed; d=1e100.net; s=20230601; t=1708977290; x=1709582090; h=cc:to:from:subject:message-id:date:x-gm-message-state:from:to:cc :subject:date:message-id:reply-to; bh=QTK6moltuS5ZIWCNT0KZh8ayZ3G84SRvRAqFBf6Cw30=; b=JjZu2Mw/Nya2CcXTzSe/ZUapJ97+np1m0lq+XARz+BYp45DnOoNmsLF0uVpy2707f4 lDnc3o/pwi/jOSCy9asuirK47Ik7VnKgkAsykl3AfAyXMhg7T5HK4TDdIuGAdy6PinDH AczzGohhzIPTP6OT5y4w4cz4F44S5wHKW4W8JwLCOGRgSQ7a4ynb+9WPZa8qkWohxBWO 6QVr1oKwEdJELb+o7X4oDTiI2RpJJDoZBuuj6QIikhxfWuAJBMcqeVf7sJHJdV+dXn02 AZ6yQjjdr5pWzRhhfkCZfA/zZd126vfI1WzbX/ZB958Z5v5hpP7uggo4ByoSTCOOoATe H0fw== X-Gm-Message-State: AOJu0Yx49sTTJgS8R4I5M5uESggd/tCKK/35D4BSYwMxjEROZZFrrnWO dDnPoNz/p+3UI0pOMZoC5BNPhnlZ7W9UQNH6dLiYaQjx4Avg5GbG7uPvIZY9ujUFSwbd5vhKYeF t6JD4Ku+odA/2rhkNJ34pWzbQYBsvC6kMM9q1mff+tzKcU5ipGeSw3Ajp X-Google-Smtp-Source: AGHT+IE9R8+LOfoGih1d3xi/QbOqgYahsjLOBcKw7CNiMFz99kLLZeEzLNH2aY+z+iO72DFeyt0Enm6rfDap X-Received: by 2002:a17:902:cccb:b0:1dc:6ccd:e73 with SMTP id z11-20020a170902cccb00b001dc6ccd0e73mr11585798ple.8.1708977290012; Mon, 26 Feb 2024 11:54:50 -0800 (PST) Received: from postal.iol.unh.edu (postal.iol.unh.edu. [2606:4100:3880:1234::84]) by smtp-relay.gmail.com with ESMTPS id o10-20020a1709026b0a00b001d729af3e6bsm3815plk.85.2024.02.26.11.54.49 (version=TLS1_2 cipher=ECDHE-ECDSA-AES128-GCM-SHA256 bits=128/128); Mon, 26 Feb 2024 11:54:49 -0800 (PST) X-Relaying-Domain: iol.unh.edu Date: Mon, 26 Feb 2024 11:54:49 -0800 (PST) Message-ID: <65dcec89.170a0220.6de56.03b1SMTPIN_ADDED_MISSING@mx.google.com> Received: from [172.21.0.6] (unknown [172.18.0.240]) by postal.iol.unh.edu (Postfix) with ESMTP id 374F16043300; Mon, 26 Feb 2024 14:54:49 -0500 (EST) Subject: |SUCCESS| pw137211 [PATCH] app/eventdev: support DMA adapter test From: dpdklab@iol.unh.edu To: Test Report Cc: dpdk-test-reports@iol.unh.edu Content-Type: text/plain X-BeenThere: test-report@dpdk.org X-Mailman-Version: 2.1.29 Precedence: list List-Id: automatic DPDK test reports List-Unsubscribe: , List-Archive: List-Post: List-Help: List-Subscribe: , Errors-To: test-report-bounces@dpdk.org Test-Label: iol-unit-amd64-testing Test-Status: SUCCESS http://dpdk.org/patch/137211 _Testing PASS_ Submitter: Amit Prakash Shukla Date: Monday, February 26 2024 13:26:07 DPDK git baseline: Repo:dpdk Branch: master CommitID:850a57695b4647f62f31019baa8a92bcd3ff3531 137211 --> testing pass Test environment and result as below: +------------------+----------------+ | Environment | dpdk_unit_test | +==================+================+ | CentOS Stream 9 | PASS | +------------------+----------------+ | CentOS Stream 8 | PASS | +------------------+----------------+ | Fedora 37 | PASS | +------------------+----------------+ | openSUSE Leap 15 | PASS | +------------------+----------------+ | Fedora 38 | PASS | +------------------+----------------+ CentOS Stream 9 Kernel: 4.18.0-240.10.1.el8_3.x86_64 Compiler: gcc 11.3.1 20220421 CentOS Stream 8 Kernel: 4.18.0-240.10.1.el8_3.x86_64 Compiler: gcc 8.4.1 20200928 Fedora 37 Kernel: Depends on container host system Compiler: gcc 12.3.1 openSUSE Leap 15 Kernel: 4.18.0-240.10.1.el8_3.x86_64 Compiler: gcc 7.5.0 Fedora 38 Kernel: Depends on container host Compiler: clang 16.0.3 To view detailed results, visit: https://lab.dpdk.org/results/dashboard/patchsets/29266/ UNH-IOL DPDK Community Lab To manage your email subscriptions, visit: https://lab.dpdk.org/results/dashboard/preferences/subscriptions/