From mboxrd@z Thu Jan 1 00:00:00 1970 Return-Path: Received: from mails.dpdk.org (mails.dpdk.org [217.70.189.124]) by inbox.dpdk.org (Postfix) with ESMTP id 5342B43BF6 for ; Mon, 26 Feb 2024 20:57:32 +0100 (CET) Received: from mails.dpdk.org (localhost [127.0.0.1]) by mails.dpdk.org (Postfix) with ESMTP id 4F8B2402CC; Mon, 26 Feb 2024 20:57:32 +0100 (CET) Received: from mail-pl1-f227.google.com (mail-pl1-f227.google.com [209.85.214.227]) by mails.dpdk.org (Postfix) with ESMTP id 976FA402C8 for ; Mon, 26 Feb 2024 20:57:31 +0100 (CET) Received: by mail-pl1-f227.google.com with SMTP id d9443c01a7336-1dc0d11d1b7so27191195ad.2 for ; Mon, 26 Feb 2024 11:57:31 -0800 (PST) DKIM-Signature: v=1; a=rsa-sha256; c=relaxed/relaxed; d=iol.unh.edu; s=unh-iol; t=1708977451; x=1709582251; darn=dpdk.org; h=cc:to:from:subject:message-id:date:from:to:cc:subject:date :message-id:reply-to; bh=vbf0runG4CKg5IxnLVxhK68vBLh4Wpgvui602CtLe8o=; b=cXjE9CVgZXgAfGDuA9pRSkmIeyaMGJhVtlTyIoSek9ug8wRhDBGGGAqk21Y9uhznDC H6FmBy7rub6tDv4tsvJzTGSGjt7hrUnfW8vU+fZ0SFlKJvHcpB7IDTEIAc5a/49uSOug eFPcFEu/Mvl7Z2ja80l6v+o9EnDvsVQHNA3kA= X-Google-DKIM-Signature: v=1; a=rsa-sha256; c=relaxed/relaxed; d=1e100.net; s=20230601; t=1708977451; x=1709582251; h=cc:to:from:subject:message-id:date:x-gm-message-state:from:to:cc :subject:date:message-id:reply-to; bh=vbf0runG4CKg5IxnLVxhK68vBLh4Wpgvui602CtLe8o=; b=tIaQ0U/781fnIZWTwK3lQK80aQdLMKWnhPcLjJNdw3vdGFMp3lJ2gRIo2T4hpyQ/4l B7UiZRLXmzmK5rviRSahm6DzpjIFiK6v/Mf1Ha21XQz8GLM1eDQ46ACAP17WtvebmHuv ZGpfauqpjf+uvg7UYBovZMJVDoJxS6CajUX2Zuq/YrcNJ/BgRhE0+pZWEuakiZRABWUo TdKdqkj351886VZaQIZ1SUP9ahOKlGzJoaK98Dk7YiRwJ35tAX9CETFvFG4vGBvi2utb xypR78KrriaiT87CztQebhHxM3z4Vb5KG2bzb0TdVHuJI2xdC5+KuS6mDuQqj/jAZaxi riOQ== X-Gm-Message-State: AOJu0YxbK39OdpHiVe242fKod2gTQnnCJXhTn0pWlikLc8NUTXAaKgbV DMeVD9TZc5197E+4FEHkz5YzHnrPF/coAMtVKur18ss+xd6NG8wmwI9w9PHjERTkzoF8E57A5qk oESEFyqvc8mELDkUTu+PgshYqlu49xMEr3TUAp+RLXGFLNMvSRjnjEQKG X-Google-Smtp-Source: AGHT+IEuFtVUAiVge6YCQIXSJE83dwfaATjhnsFN0kyVaDrIIqaeHod6zSefyQCXnfeFZaFH04JkPv1TvIh/ X-Received: by 2002:a17:902:b782:b0:1db:cf64:732a with SMTP id e2-20020a170902b78200b001dbcf64732amr7003102pls.62.1708977450811; Mon, 26 Feb 2024 11:57:30 -0800 (PST) Received: from postal.iol.unh.edu (postal.iol.unh.edu. [2606:4100:3880:1234::84]) by smtp-relay.gmail.com with ESMTPS id kr14-20020a170903080e00b001dbcf98afa4sm3602plb.96.2024.02.26.11.57.30 (version=TLS1_2 cipher=ECDHE-ECDSA-AES128-GCM-SHA256 bits=128/128); Mon, 26 Feb 2024 11:57:30 -0800 (PST) X-Relaying-Domain: iol.unh.edu Date: Mon, 26 Feb 2024 11:57:30 -0800 (PST) Message-ID: <65dced2a.170a0220.ccc0a.03acSMTPIN_ADDED_MISSING@mx.google.com> Received: from [172.21.0.7] (unknown [172.18.0.240]) by postal.iol.unh.edu (Postfix) with ESMTP id 0723B6043300; Mon, 26 Feb 2024 14:57:30 -0500 (EST) Subject: |SUCCESS| pw137211 [PATCH] app/eventdev: support DMA adapter test From: dpdklab@iol.unh.edu To: Test Report Cc: dpdk-test-reports@iol.unh.edu Content-Type: text/plain X-BeenThere: test-report@dpdk.org X-Mailman-Version: 2.1.29 Precedence: list List-Id: automatic DPDK test reports List-Unsubscribe: , List-Archive: List-Post: List-Help: List-Subscribe: , Errors-To: test-report-bounces@dpdk.org Test-Label: iol-compile-arm64-testing Test-Status: SUCCESS http://dpdk.org/patch/137211 _Testing PASS_ Submitter: Amit Prakash Shukla Date: Monday, February 26 2024 13:26:07 DPDK git baseline: Repo:dpdk Branch: master CommitID:850a57695b4647f62f31019baa8a92bcd3ff3531 137211 --> testing pass Test environment and result as below: +--------------------------+--------------------+ | Environment | dpdk_meson_compile | +==========================+====================+ | Ubuntu 20.04 ARM SVE | PASS | +--------------------------+--------------------+ | Ubuntu 20.04 (ARM) | PASS | +--------------------------+--------------------+ | Fedora 37 (ARM) | PASS | +--------------------------+--------------------+ | Debian 11 (Buster) (ARM) | PASS | +--------------------------+--------------------+ | Fedora 38 (ARM) | PASS | +--------------------------+--------------------+ | CentOS Stream 9 (ARM) | PASS | +--------------------------+--------------------+ Ubuntu 20.04 ARM SVE Kernel: 5.4.0-80-generic Compiler: gcc 10.3.0 (Ubuntu 10.3.0-1ubuntu1~20.04) Ubuntu 20.04 (ARM) Kernel: Container Host Kernel Compiler: gcc 9.4.0 Fedora 37 (ARM) Kernel: Depends on container host Compiler: gcc 12.3.1 Debian 11 (Buster) (ARM) Kernel: Container Host Kernel Compiler: gcc 10.2.1 Fedora 38 (ARM) Kernel: Depends on container host Compiler: gcc 13.1.1 CentOS Stream 9 (ARM) Kernel: Container Host Kernel Compiler: gcc 11.3.1 To view detailed results, visit: https://lab.dpdk.org/results/dashboard/patchsets/29266/ UNH-IOL DPDK Community Lab To manage your email subscriptions, visit: https://lab.dpdk.org/results/dashboard/preferences/subscriptions/