From mboxrd@z Thu Jan 1 00:00:00 1970 Return-Path: Received: from mails.dpdk.org (mails.dpdk.org [217.70.189.124]) by inbox.dpdk.org (Postfix) with ESMTP id A3C0043BF6 for ; Mon, 26 Feb 2024 21:00:08 +0100 (CET) Received: from mails.dpdk.org (localhost [127.0.0.1]) by mails.dpdk.org (Postfix) with ESMTP id 9908D402CC; Mon, 26 Feb 2024 21:00:08 +0100 (CET) Received: from mail-yw1-f227.google.com (mail-yw1-f227.google.com [209.85.128.227]) by mails.dpdk.org (Postfix) with ESMTP id DFD0F402C8 for ; Mon, 26 Feb 2024 21:00:07 +0100 (CET) Received: by mail-yw1-f227.google.com with SMTP id 00721157ae682-608959cfcbfso35930737b3.3 for ; Mon, 26 Feb 2024 12:00:07 -0800 (PST) DKIM-Signature: v=1; a=rsa-sha256; c=relaxed/relaxed; d=iol.unh.edu; s=unh-iol; t=1708977607; x=1709582407; darn=dpdk.org; h=cc:to:from:subject:message-id:date:from:to:cc:subject:date :message-id:reply-to; bh=IhzAUfMdw1ck+tYAwc604C1wuhSz+DqMlQmNzCvxicM=; b=hPcZ0UHPGv+29OXgMQw0O9R8M8UootUqMFgjZ7ZiuQN7qCNcGP7vwLjDRQcK+DDX9y 7e2Jx+x0YttpGUdCCnne44vRiLUmllva26qzcIw+s1nT1Wc503RWUUKkjSQAtEqFpoZa iNxELMkD1tQ9AFxedFNAYXZFpkFpkHjF+XCqA= X-Google-DKIM-Signature: v=1; a=rsa-sha256; c=relaxed/relaxed; d=1e100.net; s=20230601; t=1708977607; x=1709582407; h=cc:to:from:subject:message-id:date:x-gm-message-state:from:to:cc :subject:date:message-id:reply-to; bh=IhzAUfMdw1ck+tYAwc604C1wuhSz+DqMlQmNzCvxicM=; b=dX4/SSJ1XhVTBjMpsCSGkes6ZpSNmxSJ7b+LBUiaqXCwOc0rUzY5JGhcrjqLJ/VJch xtHakl/KgXdGSF+5FHYjo1E5k3qsJ8k8J5w+Wm9uuzZCeECzV7rtQgcVcq8SsPqO0QFZ u85SE+loHpC6fR9SbTHLkas5o+zeInptAw23gTfMkJ+ES6TJadXdSQtu+vHHuVKotfDp LKhD3rEGG1aMRJ3uozfQ7wqL8hcUwgsERHfLAMvSwAWOXh/M7mOg6UiowhlG/tlSs+pa sK8lvhQ6ogJLBgEjoekc9hGsJQdKMqe0K4ypSpXf7up8PtThTguEuHEOs6OpqljFWncK hXMA== X-Gm-Message-State: AOJu0Yyu4WbZ9cD0aE1wtTMcokCx/Ontdna1G9HJ5Uob+MM0k7EfUevI y9JK3otGk0xuh+llEVJK6B+3GIp/1LBc+kM0YAWrV06VMjn0OhW3rtsiIhebZFwyUi5BzwF3EnV Q+Q+vtJxABgpoXRKd6dEQ/POVcQmBF/I+3cF35taBbCFon0jdfX90k5Sc X-Google-Smtp-Source: AGHT+IHyjIE6NfZFZpaMbR76f+2TYyd6KqDt5l5t0XmBpQAYEx5UAGNTwslUdfqc9T3to4FD0Nwe/NpiIltP X-Received: by 2002:a81:f006:0:b0:608:ce22:47a2 with SMTP id p6-20020a81f006000000b00608ce2247a2mr184798ywm.22.1708977607230; Mon, 26 Feb 2024 12:00:07 -0800 (PST) Received: from postal.iol.unh.edu (postal.iol.unh.edu. [2606:4100:3880:1234::84]) by smtp-relay.gmail.com with ESMTPS id l66-20020a0dfb45000000b00607bf10b1c3sm410140ywf.27.2024.02.26.12.00.07 (version=TLS1_2 cipher=ECDHE-ECDSA-AES128-GCM-SHA256 bits=128/128); Mon, 26 Feb 2024 12:00:07 -0800 (PST) X-Relaying-Domain: iol.unh.edu Date: Mon, 26 Feb 2024 12:00:07 -0800 (PST) Message-ID: <65dcedc7.0d0a0220.508ed.7b73SMTPIN_ADDED_MISSING@mx.google.com> Received: from [172.21.0.6] (unknown [172.18.0.240]) by postal.iol.unh.edu (Postfix) with ESMTP id DB0A46043300; Mon, 26 Feb 2024 15:00:06 -0500 (EST) Subject: |SUCCESS| pw137211 [PATCH] app/eventdev: support DMA adapter test From: dpdklab@iol.unh.edu To: Test Report Cc: dpdklab@iol.unh.edu Content-Type: text/plain X-BeenThere: test-report@dpdk.org X-Mailman-Version: 2.1.29 Precedence: list List-Id: automatic DPDK test reports List-Unsubscribe: , List-Archive: List-Post: List-Help: List-Subscribe: , Errors-To: test-report-bounces@dpdk.org Test-Label: iol-unit-amd64-testing Test-Status: SUCCESS http://dpdk.org/patch/137211 _Testing PASS_ Submitter: Amit Prakash Shukla Date: Monday, February 26 2024 13:26:07 DPDK git baseline: Repo:dpdk Branch: master CommitID:850a57695b4647f62f31019baa8a92bcd3ff3531 137211 --> testing pass Test environment and result as below: +------------------+----------------+ | Environment | dpdk_unit_test | +==================+================+ | CentOS Stream 9 | PASS | +------------------+----------------+ | CentOS Stream 8 | PASS | +------------------+----------------+ | Fedora 37 | PASS | +------------------+----------------+ | openSUSE Leap 15 | PASS | +------------------+----------------+ | Fedora 38 | PASS | +------------------+----------------+ | Debian 12 (arm) | PASS | +------------------+----------------+ CentOS Stream 9 Kernel: 4.18.0-240.10.1.el8_3.x86_64 Compiler: gcc 11.3.1 20220421 CentOS Stream 8 Kernel: 4.18.0-240.10.1.el8_3.x86_64 Compiler: gcc 8.4.1 20200928 Fedora 37 Kernel: Depends on container host system Compiler: gcc 12.3.1 openSUSE Leap 15 Kernel: 4.18.0-240.10.1.el8_3.x86_64 Compiler: gcc 7.5.0 Fedora 38 Kernel: Depends on container host Compiler: clang 16.0.3 Debian 12 (arm) Kernel: Container Host Kernel Compiler: gcc 11 To view detailed results, visit: https://lab.dpdk.org/results/dashboard/patchsets/29266/ UNH-IOL DPDK Community Lab To manage your email subscriptions, visit: https://lab.dpdk.org/results/dashboard/preferences/subscriptions/