From mboxrd@z Thu Jan 1 00:00:00 1970 Return-Path: Received: from mails.dpdk.org (mails.dpdk.org [217.70.189.124]) by inbox.dpdk.org (Postfix) with ESMTP id 72FB943BF6 for ; Mon, 26 Feb 2024 21:06:52 +0100 (CET) Received: from mails.dpdk.org (localhost [127.0.0.1]) by mails.dpdk.org (Postfix) with ESMTP id 6EA7C402CC; Mon, 26 Feb 2024 21:06:52 +0100 (CET) Received: from mail-yw1-f225.google.com (mail-yw1-f225.google.com [209.85.128.225]) by mails.dpdk.org (Postfix) with ESMTP id 7AC57402C8 for ; Mon, 26 Feb 2024 21:06:51 +0100 (CET) Received: by mail-yw1-f225.google.com with SMTP id 00721157ae682-608841dfcafso31022577b3.2 for ; Mon, 26 Feb 2024 12:06:51 -0800 (PST) DKIM-Signature: v=1; a=rsa-sha256; c=relaxed/relaxed; d=iol.unh.edu; s=unh-iol; t=1708978011; x=1709582811; darn=dpdk.org; h=cc:to:from:subject:message-id:date:from:to:cc:subject:date :message-id:reply-to; bh=x6mIVQdP4m0B4XBXW8TUVDDr3lICz60X3sBBdv0xBO4=; b=JuYSYoNv08BarZSCCua7kvneDPFljSwgk5xNIW8veWUz+xSrQ+5qxFUGJTnnnWFXA1 MfbzjPV7ZJrw/w/cKCE7bLDneAAKa6xWaiRJBu4uJdNIWUxuuyu+CyxRQgKboBycLMBf NPX2uVNnqF5PO6Ga7F/fRiLtBpohSHAWpiDcI= X-Google-DKIM-Signature: v=1; a=rsa-sha256; c=relaxed/relaxed; d=1e100.net; s=20230601; t=1708978011; x=1709582811; h=cc:to:from:subject:message-id:date:x-gm-message-state:from:to:cc :subject:date:message-id:reply-to; bh=x6mIVQdP4m0B4XBXW8TUVDDr3lICz60X3sBBdv0xBO4=; b=YZWZK9XK3baWpFKOsWvS4gUHa52LBYFvRjbEIB1yTpI4ZXLIPjWnBEwMrllr1W+fuB tdzHQgKdKRmY60eiKL0+fjXhRgxsD8b1N6zU6UuPXJs+yOu0agZCKIvf2UbRJBPJkrTU /swTjjZz8j0r+mrz8mDcmIKVUv4fGdTo3LqjXfLKs5pbhxEjTvB7HygSNd9RAxJ35xhm FuvokeAy9sdJX6X7lFQ9VybQ5DdMF2vgaEGPDCs5I5X0n2571rzqkUAqDYjBm/ZX6kgK Y+XnB3gqmI8g52YJEAwFOxpwqQsmRjDf+GVgi99MQiXlOrbIEISK/RozOBXjZgTaXFK1 XdCw== X-Gm-Message-State: AOJu0Yw8thW69TwuqlpJFrPHdtC4z+R7L2w4q5z6BpM142AQL7lWDZ7d hAwgA1iFQAC7sm4jmw86nlvtk1/GryuetgVpgLXYByo79+eOCYha0peVeaeWIj9JfJkbNl3O4XE EhYl6UMOlNGNaoFhG7+zSrMQiqihJa2ycIxSVUO2n X-Google-Smtp-Source: AGHT+IFqZS7SfUQhiB8RzvgQzul+qSWJdG7RlnVn8xg6aCRB6V+DB3biFxyIMigjcMQmkudBju481/yUcPmP X-Received: by 2002:a81:4e8c:0:b0:608:20fe:dc28 with SMTP id c134-20020a814e8c000000b0060820fedc28mr224014ywb.37.1708978010840; Mon, 26 Feb 2024 12:06:50 -0800 (PST) Received: from postal.iol.unh.edu (postal.iol.unh.edu. [132.177.123.84]) by smtp-relay.gmail.com with ESMTPS id s203-20020a815ed4000000b006049fa6b583sm434026ywb.60.2024.02.26.12.06.50 (version=TLS1_2 cipher=ECDHE-ECDSA-AES128-GCM-SHA256 bits=128/128); Mon, 26 Feb 2024 12:06:50 -0800 (PST) X-Relaying-Domain: iol.unh.edu Date: Mon, 26 Feb 2024 12:06:50 -0800 (PST) Message-ID: <65dcef5a.810a0220.c0fe3.8b54SMTPIN_ADDED_MISSING@mx.google.com> Received: from [172.21.0.6] (unknown [172.18.0.240]) by postal.iol.unh.edu (Postfix) with ESMTP id 6F7CE6043300; Mon, 26 Feb 2024 15:06:50 -0500 (EST) Subject: |SUCCESS| pw137211 [PATCH] app/eventdev: support DMA adapter test From: dpdklab@iol.unh.edu To: Test Report Cc: Amit Prakash Shukla Content-Type: text/plain X-BeenThere: test-report@dpdk.org X-Mailman-Version: 2.1.29 Precedence: list List-Id: automatic DPDK test reports List-Unsubscribe: , List-Archive: List-Post: List-Help: List-Subscribe: , Errors-To: test-report-bounces@dpdk.org Test-Label: iol-unit-amd64-testing Test-Status: SUCCESS http://dpdk.org/patch/137211 _Testing PASS_ Submitter: Amit Prakash Shukla Date: Monday, February 26 2024 13:26:07 DPDK git baseline: Repo:dpdk Branch: master CommitID:850a57695b4647f62f31019baa8a92bcd3ff3531 137211 --> testing pass Test environment and result as below: +---------------------+----------------+ | Environment | dpdk_unit_test | +=====================+================+ | CentOS Stream 9 | PASS | +---------------------+----------------+ | CentOS Stream 8 | PASS | +---------------------+----------------+ | Fedora 37 | PASS | +---------------------+----------------+ | openSUSE Leap 15 | PASS | +---------------------+----------------+ | Fedora 38 | PASS | +---------------------+----------------+ | Debian 12 (arm) | PASS | +---------------------+----------------+ | RHEL8 | PASS | +---------------------+----------------+ | Windows Server 2019 | PASS | +---------------------+----------------+ | Ubuntu 22.04 | PASS | +---------------------+----------------+ | Ubuntu 20.04 | PASS | +---------------------+----------------+ | Debian Bullseye | PASS | +---------------------+----------------+ CentOS Stream 9 Kernel: 4.18.0-240.10.1.el8_3.x86_64 Compiler: gcc 11.3.1 20220421 CentOS Stream 8 Kernel: 4.18.0-240.10.1.el8_3.x86_64 Compiler: gcc 8.4.1 20200928 Fedora 37 Kernel: Depends on container host system Compiler: gcc 12.3.1 openSUSE Leap 15 Kernel: 4.18.0-240.10.1.el8_3.x86_64 Compiler: gcc 7.5.0 Fedora 38 Kernel: Depends on container host Compiler: clang 16.0.3 Debian 12 (arm) Kernel: Container Host Kernel Compiler: gcc 11 RHEL8 Kernel: 4.18.0-240.10.1.el8_3.x86_64 Compiler: gcc 8.3.1 20191121 (Red Hat 8.3.1-5) Windows Server 2019 Kernel: 10.0 Compiler: clang 14.0 and gcc 8.1.0 (MinGW) Ubuntu 22.04 Kernel: 4.18.0-240.10.1.el8_3.x86_64 Compiler: gcc 11.3.0 Ubuntu 20.04 Kernel: 5.4.0-153-generic Compiler: gcc 9.4.0-1ubuntu1~20.04.1 Debian Bullseye Kernel: 5.4.0-122-generic Compiler: gcc 10.2.1-6 To view detailed results, visit: https://lab.dpdk.org/results/dashboard/patchsets/29266/ UNH-IOL DPDK Community Lab To manage your email subscriptions, visit: https://lab.dpdk.org/results/dashboard/preferences/subscriptions/