From mboxrd@z Thu Jan 1 00:00:00 1970 Return-Path: Received: from mails.dpdk.org (mails.dpdk.org [217.70.189.124]) by inbox.dpdk.org (Postfix) with ESMTP id 9432243BF6 for ; Mon, 26 Feb 2024 21:07:13 +0100 (CET) Received: from mails.dpdk.org (localhost [127.0.0.1]) by mails.dpdk.org (Postfix) with ESMTP id 9019A402CC; Mon, 26 Feb 2024 21:07:13 +0100 (CET) Received: from mail-yw1-f227.google.com (mail-yw1-f227.google.com [209.85.128.227]) by mails.dpdk.org (Postfix) with ESMTP id 7FE82402C8 for ; Mon, 26 Feb 2024 21:07:12 +0100 (CET) Received: by mail-yw1-f227.google.com with SMTP id 00721157ae682-60922e16f6fso1358737b3.3 for ; Mon, 26 Feb 2024 12:07:12 -0800 (PST) DKIM-Signature: v=1; a=rsa-sha256; c=relaxed/relaxed; d=iol.unh.edu; s=unh-iol; t=1708978032; x=1709582832; darn=dpdk.org; h=cc:to:from:subject:message-id:date:from:to:cc:subject:date :message-id:reply-to; bh=x6mIVQdP4m0B4XBXW8TUVDDr3lICz60X3sBBdv0xBO4=; b=WiO6llJ5YbCMY1C3oy/S4MniDlGLmtZO33c+pTcWnMDBqzqigu6k/w2h6rjlUlOoX3 ZksuLjSXyPDBb8K1myPR+/lik9HNN62P3wQ7qfNCPz24RQ24de8p6B5JTZNMajSOGAx6 vbjtxZpSpC5M0nRQ0lwVxVFS0F6fgCfl1hSSE= X-Google-DKIM-Signature: v=1; a=rsa-sha256; c=relaxed/relaxed; d=1e100.net; s=20230601; t=1708978032; x=1709582832; h=cc:to:from:subject:message-id:date:x-gm-message-state:from:to:cc :subject:date:message-id:reply-to; bh=x6mIVQdP4m0B4XBXW8TUVDDr3lICz60X3sBBdv0xBO4=; b=QnFRpEfGfns4YUnpwRyGYTbHknTsTIZ0ilPF1Nl1cXlffYkd9P8TVRNsQUc0eVI5T8 6grPbXB5F2rkb0dmiaF0ZJxav0KruHW1jsnX7SwYRPS3z892/Ruk/fheaMuPqM1CVxrx ssQxWIqBt/QyOVaQZg4/8ptoSjJ8eb+SXGhP0Vvr72hHsTYx8hN5zJN1p+xXAZB4RHwO 5lMuCua7Qp0ZBgVBAT/kpHgr6KYysHj1fh+iG8ptwOL5gHCHlxVDR/cpaV2G5kn2Let7 ByTWoqhSzOQvPCisfk3PmEY1GcOeJ7LUIxnVFRsx+dgTd8GrK1CBEhicpQm9RhWvkc8j oezQ== X-Gm-Message-State: AOJu0YzpdZkmXNn8ZGqDRGc+KaJ53lMogxVcDXKt9zk9GPfoJlr41CfU CUeYEc3h3Kfb6JjSzD6tSQ3C1+0hQCMzmCEX7Lezl7UTwJ5wXFeSyk6d/O00cKM3wHMm3UgE4LP 9lIK14u2g7/Xp3kXoOhUE5ksnWNYr3bZa4cGIHY3d X-Google-Smtp-Source: AGHT+IGuyi6BOnz7897rkF+TBKscv/u5l3KLqwCiUBX27glXxzEXeyLCxyN+CCi5kCiq+CneLqsb5ZUCE6Uo X-Received: by 2002:a81:6e42:0:b0:609:2360:6ccc with SMTP id j63-20020a816e42000000b0060923606cccmr106975ywc.46.1708978032017; Mon, 26 Feb 2024 12:07:12 -0800 (PST) Received: from postal.iol.unh.edu (postal.iol.unh.edu. [132.177.123.84]) by smtp-relay.gmail.com with ESMTPS id y186-20020a0dd6c3000000b006041915be45sm415315ywd.68.2024.02.26.12.07.11 (version=TLS1_2 cipher=ECDHE-ECDSA-AES128-GCM-SHA256 bits=128/128); Mon, 26 Feb 2024 12:07:12 -0800 (PST) X-Relaying-Domain: iol.unh.edu Date: Mon, 26 Feb 2024 12:07:12 -0800 (PST) Message-ID: <65dcef70.0d0a0220.38700.7174SMTPIN_ADDED_MISSING@mx.google.com> Received: from [172.21.0.6] (unknown [172.18.0.240]) by postal.iol.unh.edu (Postfix) with ESMTP id A97916043300; Mon, 26 Feb 2024 15:07:11 -0500 (EST) Subject: |SUCCESS| pw137211 [PATCH] app/eventdev: support DMA adapter test From: dpdklab@iol.unh.edu To: Test Report Cc: Amit Prakash Shukla Content-Type: text/plain X-BeenThere: test-report@dpdk.org X-Mailman-Version: 2.1.29 Precedence: list List-Id: automatic DPDK test reports List-Unsubscribe: , List-Archive: List-Post: List-Help: List-Subscribe: , Errors-To: test-report-bounces@dpdk.org Test-Label: iol-unit-amd64-testing Test-Status: SUCCESS http://dpdk.org/patch/137211 _Testing PASS_ Submitter: Amit Prakash Shukla Date: Monday, February 26 2024 13:26:07 DPDK git baseline: Repo:dpdk Branch: master CommitID:850a57695b4647f62f31019baa8a92bcd3ff3531 137211 --> testing pass Test environment and result as below: +---------------------+----------------+ | Environment | dpdk_unit_test | +=====================+================+ | CentOS Stream 9 | PASS | +---------------------+----------------+ | CentOS Stream 8 | PASS | +---------------------+----------------+ | Fedora 37 | PASS | +---------------------+----------------+ | openSUSE Leap 15 | PASS | +---------------------+----------------+ | Fedora 38 | PASS | +---------------------+----------------+ | Debian 12 (arm) | PASS | +---------------------+----------------+ | RHEL8 | PASS | +---------------------+----------------+ | Windows Server 2019 | PASS | +---------------------+----------------+ | Ubuntu 22.04 | PASS | +---------------------+----------------+ | Ubuntu 20.04 | PASS | +---------------------+----------------+ | Debian Bullseye | PASS | +---------------------+----------------+ CentOS Stream 9 Kernel: 4.18.0-240.10.1.el8_3.x86_64 Compiler: gcc 11.3.1 20220421 CentOS Stream 8 Kernel: 4.18.0-240.10.1.el8_3.x86_64 Compiler: gcc 8.4.1 20200928 Fedora 37 Kernel: Depends on container host system Compiler: gcc 12.3.1 openSUSE Leap 15 Kernel: 4.18.0-240.10.1.el8_3.x86_64 Compiler: gcc 7.5.0 Fedora 38 Kernel: Depends on container host Compiler: clang 16.0.3 Debian 12 (arm) Kernel: Container Host Kernel Compiler: gcc 11 RHEL8 Kernel: 4.18.0-240.10.1.el8_3.x86_64 Compiler: gcc 8.3.1 20191121 (Red Hat 8.3.1-5) Windows Server 2019 Kernel: 10.0 Compiler: clang 14.0 and gcc 8.1.0 (MinGW) Ubuntu 22.04 Kernel: 4.18.0-240.10.1.el8_3.x86_64 Compiler: gcc 11.3.0 Ubuntu 20.04 Kernel: 5.4.0-153-generic Compiler: gcc 9.4.0-1ubuntu1~20.04.1 Debian Bullseye Kernel: 5.4.0-122-generic Compiler: gcc 10.2.1-6 To view detailed results, visit: https://lab.dpdk.org/results/dashboard/patchsets/29266/ UNH-IOL DPDK Community Lab To manage your email subscriptions, visit: https://lab.dpdk.org/results/dashboard/preferences/subscriptions/