From mboxrd@z Thu Jan 1 00:00:00 1970 Return-Path: Received: from mails.dpdk.org (mails.dpdk.org [217.70.189.124]) by inbox.dpdk.org (Postfix) with ESMTP id 63B3643BF6 for ; Mon, 26 Feb 2024 21:09:28 +0100 (CET) Received: from mails.dpdk.org (localhost [127.0.0.1]) by mails.dpdk.org (Postfix) with ESMTP id 5B1FF402CC; Mon, 26 Feb 2024 21:09:28 +0100 (CET) Received: from mail-il1-f225.google.com (mail-il1-f225.google.com [209.85.166.225]) by mails.dpdk.org (Postfix) with ESMTP id 4C3D2402C8 for ; Mon, 26 Feb 2024 21:09:26 +0100 (CET) Received: by mail-il1-f225.google.com with SMTP id e9e14a558f8ab-3652762edcfso8189255ab.2 for ; Mon, 26 Feb 2024 12:09:26 -0800 (PST) DKIM-Signature: v=1; a=rsa-sha256; c=relaxed/relaxed; d=iol.unh.edu; s=unh-iol; t=1708978165; x=1709582965; darn=dpdk.org; h=cc:to:from:subject:message-id:date:from:to:cc:subject:date :message-id:reply-to; bh=x6mIVQdP4m0B4XBXW8TUVDDr3lICz60X3sBBdv0xBO4=; b=YWXJ5XPS7tzs2lslcXM4ywjZmUQBGVigKttMhIHEbamrZrfUeF1MOSVuLRlpX4FU+a BZPM+O5sx45Z9B5duv5YTK/6N2L4iOx/kYwfCGM9I9iZo3TjwLFpycAyXksUYxQTA0UB /aUfQ3gfgn6w5RjUidK4wXgOtQJyk4XWsQpTI= X-Google-DKIM-Signature: v=1; a=rsa-sha256; c=relaxed/relaxed; d=1e100.net; s=20230601; t=1708978165; x=1709582965; h=cc:to:from:subject:message-id:date:x-gm-message-state:from:to:cc :subject:date:message-id:reply-to; bh=x6mIVQdP4m0B4XBXW8TUVDDr3lICz60X3sBBdv0xBO4=; b=mlj+SH+IGtzwkImaVoxlD54dTe1C1BHW05YqLJvyB4LD/VXb5fz06gV5bNpqa1XKGx msn7FLHqEnh7k3pGljIbhDkJQ270cytzVy7QrQHPTnec0FNQFgzkJ3JmTLF1KdXZZ9ew gEU3bCyfAmkByN82cEvWsUm5pTnP54RhVvevnPlUjdYqoAxKTgfCw92jEDpuapTsig4s 3axjnE7+kmCv/hqVYSa+FNgh3O/hDSIfpMZKx4Bm3sP5AZvjRRw27U6lOjcNvoIzmTIR lOuwEhR2jzC6oKCQiHprylx5uaDTU7yoRS9FeJEbs9PxxChet2Wx1H6o2GyvHmixjpoc inAQ== X-Gm-Message-State: AOJu0YyU4jbcGnxR1zdsez5rDv1BmGUxkfgXjhvzBk6p0xvNdiWXrFu4 lR0Ur+Gg3ToD+WJCbNQ4vIAXzY0We0ODCSBBoePkRQbxuxkFYqePGOQmCH6uwcipWdfFZcVAmhs LW5K7Cvbki2jNv+yfJ5EkJxxT1SfdPIs3e3RSKf+i X-Google-Smtp-Source: AGHT+IGMcepCwpXwXxd4fkRrzXr33esrIMYEL5k60z9Q4lOI/kPgGzhHazG2mGPoHr1ApFBbdkSpqgHQJpUj X-Received: by 2002:a92:d24d:0:b0:365:3409:8748 with SMTP id v13-20020a92d24d000000b0036534098748mr10193238ilg.25.1708978165753; Mon, 26 Feb 2024 12:09:25 -0800 (PST) Received: from postal.iol.unh.edu (postal.iol.unh.edu. [132.177.123.84]) by smtp-relay.gmail.com with ESMTPS id a2-20020a92d102000000b00363a24654adsm280235ilb.12.2024.02.26.12.09.25 (version=TLS1_2 cipher=ECDHE-ECDSA-AES128-GCM-SHA256 bits=128/128); Mon, 26 Feb 2024 12:09:25 -0800 (PST) X-Relaying-Domain: iol.unh.edu Date: Mon, 26 Feb 2024 12:09:25 -0800 (PST) Message-ID: <65dceff5.920a0220.25d4b.67bdSMTPIN_ADDED_MISSING@mx.google.com> Received: from [172.21.0.9] (unknown [172.18.0.240]) by postal.iol.unh.edu (Postfix) with ESMTP id 4BE7E6043300; Mon, 26 Feb 2024 15:09:25 -0500 (EST) Subject: |SUCCESS| pw137211 [PATCH] app/eventdev: support DMA adapter test From: dpdklab@iol.unh.edu To: Test Report Cc: Amit Prakash Shukla Content-Type: text/plain X-BeenThere: test-report@dpdk.org X-Mailman-Version: 2.1.29 Precedence: list List-Id: automatic DPDK test reports List-Unsubscribe: , List-Archive: List-Post: List-Help: List-Subscribe: , Errors-To: test-report-bounces@dpdk.org Test-Label: iol-unit-amd64-testing Test-Status: SUCCESS http://dpdk.org/patch/137211 _Testing PASS_ Submitter: Amit Prakash Shukla Date: Monday, February 26 2024 13:26:07 DPDK git baseline: Repo:dpdk Branch: master CommitID:850a57695b4647f62f31019baa8a92bcd3ff3531 137211 --> testing pass Test environment and result as below: +---------------------+----------------+ | Environment | dpdk_unit_test | +=====================+================+ | CentOS Stream 9 | PASS | +---------------------+----------------+ | CentOS Stream 8 | PASS | +---------------------+----------------+ | Fedora 37 | PASS | +---------------------+----------------+ | openSUSE Leap 15 | PASS | +---------------------+----------------+ | Fedora 38 | PASS | +---------------------+----------------+ | Debian 12 (arm) | PASS | +---------------------+----------------+ | RHEL8 | PASS | +---------------------+----------------+ | Windows Server 2019 | PASS | +---------------------+----------------+ | Ubuntu 22.04 | PASS | +---------------------+----------------+ | Ubuntu 20.04 | PASS | +---------------------+----------------+ | Debian Bullseye | PASS | +---------------------+----------------+ CentOS Stream 9 Kernel: 4.18.0-240.10.1.el8_3.x86_64 Compiler: gcc 11.3.1 20220421 CentOS Stream 8 Kernel: 4.18.0-240.10.1.el8_3.x86_64 Compiler: gcc 8.4.1 20200928 Fedora 37 Kernel: Depends on container host system Compiler: gcc 12.3.1 openSUSE Leap 15 Kernel: 4.18.0-240.10.1.el8_3.x86_64 Compiler: gcc 7.5.0 Fedora 38 Kernel: Depends on container host Compiler: clang 16.0.3 Debian 12 (arm) Kernel: Container Host Kernel Compiler: gcc 11 RHEL8 Kernel: 4.18.0-240.10.1.el8_3.x86_64 Compiler: gcc 8.3.1 20191121 (Red Hat 8.3.1-5) Windows Server 2019 Kernel: 10.0 Compiler: clang 14.0 and gcc 8.1.0 (MinGW) Ubuntu 22.04 Kernel: 4.18.0-240.10.1.el8_3.x86_64 Compiler: gcc 11.3.0 Ubuntu 20.04 Kernel: 5.4.0-153-generic Compiler: gcc 9.4.0-1ubuntu1~20.04.1 Debian Bullseye Kernel: 5.4.0-122-generic Compiler: gcc 10.2.1-6 To view detailed results, visit: https://lab.dpdk.org/results/dashboard/patchsets/29266/ UNH-IOL DPDK Community Lab To manage your email subscriptions, visit: https://lab.dpdk.org/results/dashboard/preferences/subscriptions/