From mboxrd@z Thu Jan 1 00:00:00 1970 Return-Path: Received: from mails.dpdk.org (mails.dpdk.org [217.70.189.124]) by inbox.dpdk.org (Postfix) with ESMTP id 480D843BF6 for ; Mon, 26 Feb 2024 21:11:57 +0100 (CET) Received: from mails.dpdk.org (localhost [127.0.0.1]) by mails.dpdk.org (Postfix) with ESMTP id 3F9B9402CC; Mon, 26 Feb 2024 21:11:57 +0100 (CET) Received: from mail-io1-f100.google.com (mail-io1-f100.google.com [209.85.166.100]) by mails.dpdk.org (Postfix) with ESMTP id 2EEA1402C8 for ; Mon, 26 Feb 2024 21:11:56 +0100 (CET) Received: by mail-io1-f100.google.com with SMTP id ca18e2360f4ac-7c76a566218so172505339f.2 for ; Mon, 26 Feb 2024 12:11:56 -0800 (PST) DKIM-Signature: v=1; a=rsa-sha256; c=relaxed/relaxed; d=iol.unh.edu; s=unh-iol; t=1708978315; x=1709583115; darn=dpdk.org; h=cc:to:from:subject:message-id:date:from:to:cc:subject:date :message-id:reply-to; bh=x6mIVQdP4m0B4XBXW8TUVDDr3lICz60X3sBBdv0xBO4=; b=YHGEZDUFO44IuYso18oFMIUGKwBfdS6HnOda2KkIRss+9TMTjeWubiXl4mLKxfc3U8 8B+UTRzd3jwuvOO+FVZUWF4Nm2slytQ1XwD95y3i1+FFyzlRmbYZKm2E97yGSgpJgQc1 1fS+kz4YWyUzKcZwljxcigsrQPe2Y/HX/MEkM= X-Google-DKIM-Signature: v=1; a=rsa-sha256; c=relaxed/relaxed; d=1e100.net; s=20230601; t=1708978315; x=1709583115; h=cc:to:from:subject:message-id:date:x-gm-message-state:from:to:cc :subject:date:message-id:reply-to; bh=x6mIVQdP4m0B4XBXW8TUVDDr3lICz60X3sBBdv0xBO4=; b=mrDADN2baToOBGzPMHU4gyeU53DjJPp5RTJ89YenU0TfdZZVCxOXgCX5UY+fopvwHP dbWg+bgO7D2SggdqpcAlGNhnW6raHw4teRtWCuCn0DlBzJMUyC/EKBB5IJ9VxaKHrxej RwZXswMFErLo6sjZKDYB2IXwX36m1tYUnoW4wSmpWEv1VxPyTCSZrpxC51FQ/4h4Rbem XFz1XlffL41P1UOfFfJoVAUdFUTcXVkj3Tenk34IleGFHo/sJW3UUJd+brTzGBbTUbW9 kNimtPqi0oYbIPQuh/CZTXMmdSi5+7faad7ingtITuplPAGW0d4MGkgx8wzalgeo8HVb +c9Q== X-Gm-Message-State: AOJu0YwX2ogAjZoBxZWa/5/F90pIlcJdLeZ1vVwj15xDaaz1OmJ2f1Ph r3cu/YTuVAfJZ/l/Y4S7XnKAnTs0EvUccHr90+8o63hf1TzVIPvD3plOyWCtDJ5fxBFtNV+d2Qh ra4qThs9+Cv96g2lsTQrnNnUGLcHQiN/CVvf8WzqA X-Google-Smtp-Source: AGHT+IHYuBQ7gUld4ryES5byNQBMWprpEmyRIShItg29lt7mmeaIzRZ7wgMzcM1ebHiDQL2ZttYSFx2tfNmN X-Received: by 2002:a05:6602:3051:b0:7c7:4fa7:f55f with SMTP id p17-20020a056602305100b007c74fa7f55fmr8771057ioy.20.1708978315539; Mon, 26 Feb 2024 12:11:55 -0800 (PST) Received: from postal.iol.unh.edu (postal.iol.unh.edu. [132.177.123.84]) by smtp-relay.gmail.com with ESMTPS id k15-20020a0566022d8f00b007c457f85e42sm196363iow.5.2024.02.26.12.11.55 (version=TLS1_2 cipher=ECDHE-ECDSA-AES128-GCM-SHA256 bits=128/128); Mon, 26 Feb 2024 12:11:55 -0800 (PST) X-Relaying-Domain: iol.unh.edu Date: Mon, 26 Feb 2024 12:11:55 -0800 (PST) Message-ID: <65dcf08b.050a0220.21953.cfe1SMTPIN_ADDED_MISSING@mx.google.com> Received: from [172.21.0.6] (unknown [172.18.0.240]) by postal.iol.unh.edu (Postfix) with ESMTP id 13D926043300; Mon, 26 Feb 2024 15:11:55 -0500 (EST) Subject: |SUCCESS| pw137211 [PATCH] app/eventdev: support DMA adapter test From: dpdklab@iol.unh.edu To: Test Report Cc: Amit Prakash Shukla Content-Type: text/plain X-BeenThere: test-report@dpdk.org X-Mailman-Version: 2.1.29 Precedence: list List-Id: automatic DPDK test reports List-Unsubscribe: , List-Archive: List-Post: List-Help: List-Subscribe: , Errors-To: test-report-bounces@dpdk.org Test-Label: iol-unit-amd64-testing Test-Status: SUCCESS http://dpdk.org/patch/137211 _Testing PASS_ Submitter: Amit Prakash Shukla Date: Monday, February 26 2024 13:26:07 DPDK git baseline: Repo:dpdk Branch: master CommitID:850a57695b4647f62f31019baa8a92bcd3ff3531 137211 --> testing pass Test environment and result as below: +---------------------+----------------+ | Environment | dpdk_unit_test | +=====================+================+ | CentOS Stream 9 | PASS | +---------------------+----------------+ | CentOS Stream 8 | PASS | +---------------------+----------------+ | Fedora 37 | PASS | +---------------------+----------------+ | openSUSE Leap 15 | PASS | +---------------------+----------------+ | Fedora 38 | PASS | +---------------------+----------------+ | Debian 12 (arm) | PASS | +---------------------+----------------+ | RHEL8 | PASS | +---------------------+----------------+ | Windows Server 2019 | PASS | +---------------------+----------------+ | Ubuntu 22.04 | PASS | +---------------------+----------------+ | Ubuntu 20.04 | PASS | +---------------------+----------------+ | Debian Bullseye | PASS | +---------------------+----------------+ CentOS Stream 9 Kernel: 4.18.0-240.10.1.el8_3.x86_64 Compiler: gcc 11.3.1 20220421 CentOS Stream 8 Kernel: 4.18.0-240.10.1.el8_3.x86_64 Compiler: gcc 8.4.1 20200928 Fedora 37 Kernel: Depends on container host system Compiler: gcc 12.3.1 openSUSE Leap 15 Kernel: 4.18.0-240.10.1.el8_3.x86_64 Compiler: gcc 7.5.0 Fedora 38 Kernel: Depends on container host Compiler: clang 16.0.3 Debian 12 (arm) Kernel: Container Host Kernel Compiler: gcc 11 RHEL8 Kernel: 4.18.0-240.10.1.el8_3.x86_64 Compiler: gcc 8.3.1 20191121 (Red Hat 8.3.1-5) Windows Server 2019 Kernel: 10.0 Compiler: clang 14.0 and gcc 8.1.0 (MinGW) Ubuntu 22.04 Kernel: 4.18.0-240.10.1.el8_3.x86_64 Compiler: gcc 11.3.0 Ubuntu 20.04 Kernel: 5.4.0-153-generic Compiler: gcc 9.4.0-1ubuntu1~20.04.1 Debian Bullseye Kernel: 5.4.0-122-generic Compiler: gcc 10.2.1-6 To view detailed results, visit: https://lab.dpdk.org/results/dashboard/patchsets/29266/ UNH-IOL DPDK Community Lab To manage your email subscriptions, visit: https://lab.dpdk.org/results/dashboard/preferences/subscriptions/