From mboxrd@z Thu Jan  1 00:00:00 1970
Return-Path: <test-report-bounces@dpdk.org>
Received: from mails.dpdk.org (mails.dpdk.org [217.70.189.124])
	by inbox.dpdk.org (Postfix) with ESMTP id 965CF43BF6
	for <public@inbox.dpdk.org>; Mon, 26 Feb 2024 21:14:15 +0100 (CET)
Received: from mails.dpdk.org (localhost [127.0.0.1])
	by mails.dpdk.org (Postfix) with ESMTP id 920D3402CC;
	Mon, 26 Feb 2024 21:14:15 +0100 (CET)
Received: from mail-il1-f225.google.com (mail-il1-f225.google.com
 [209.85.166.225])
 by mails.dpdk.org (Postfix) with ESMTP id 74CA4402C8
 for <test-report@dpdk.org>; Mon, 26 Feb 2024 21:14:14 +0100 (CET)
Received: by mail-il1-f225.google.com with SMTP id
 e9e14a558f8ab-3651d6dea15so11813435ab.1
 for <test-report@dpdk.org>; Mon, 26 Feb 2024 12:14:14 -0800 (PST)
DKIM-Signature: v=1; a=rsa-sha256; c=relaxed/relaxed;
 d=iol.unh.edu; s=unh-iol; t=1708978454; x=1709583254; darn=dpdk.org;
 h=cc:to:from:subject:message-id:date:from:to:cc:subject:date
 :message-id:reply-to;
 bh=bTqvBbhscaR1KDhtPm4qXUiFDDCQjbValcgQ9Yf532c=;
 b=D0jaGTQGVfahG3NCX79tauxSKKbDiLSEgA/pLFjGqnhuGiV88IckFQbvxxUyVuT2Tv
 sObkPnseBLZiH4IceVf/o7o1bZrozPasz8ZDTFEkA06zJgSsKeBCrHaCMz6CgWRqFyC7
 75OLd7QcB8eh0YjoJFTq95pKjV6FxzJAeGGwM=
X-Google-DKIM-Signature: v=1; a=rsa-sha256; c=relaxed/relaxed;
 d=1e100.net; s=20230601; t=1708978454; x=1709583254;
 h=cc:to:from:subject:message-id:date:x-gm-message-state:from:to:cc
 :subject:date:message-id:reply-to;
 bh=bTqvBbhscaR1KDhtPm4qXUiFDDCQjbValcgQ9Yf532c=;
 b=YG4h5/iXcRr6UnoH4Ue7Y2+gew6Wnx8XFY9zUjwwhUFQ4GfMvgoGM6AgsYsRJaOQgm
 /g2IU3stBALoKgN4nn5IWzpmg6Uu4maHYWJolou+gwPJVJYw3JB3thHyYxgiRSYOqY3A
 dOlor83wil0mvSmlisbLBad8qVrXtukZlbDs1ZunIpbD9W8MBlwECr9T+ZaLrUPl1pyN
 KnvoFmYRaNDw4MGGTjY1T2SYpyFfwm+BCKMAUb+K79VPU/rQOq979DOvMwJD+zP044yF
 LgUXTFmdFUrkbUnatNMyBErscajczuJ8GEYOZWv8mE1RTXUqame51OT8UOUqEXNfQFPs
 ah2w==
X-Gm-Message-State: AOJu0YxrMtY6qsdeDZi5FSfEViWS2Sf9S5J54OWXC240/p4MlJVhGYTH
 pMQRMfyXxuwg+kLUA1EL+oKJ8PSZFJBmkgGV97BzbhF/ihgUOU4X5p+IDX1vr8lEvgjRIv3YYwY
 J9QXT0jC2jtN0SuotShORKs6wy0y7e5ZdQGrmK/XKtebl5ne2XNNA/j1A
X-Google-Smtp-Source: AGHT+IHvncjM7nJVTvEYvAeIce8WqBWgJaoc8fiFWF8sThT1iB1db0O4+Peb7u8ox79GzsMKc6/Pj6PwuOfZ
X-Received: by 2002:a92:c561:0:b0:365:89a4:a7ac with SMTP id
 b1-20020a92c561000000b0036589a4a7acmr6033547ilj.11.1708978453859; 
 Mon, 26 Feb 2024 12:14:13 -0800 (PST)
Received: from postal.iol.unh.edu (postal.iol.unh.edu.
 [2606:4100:3880:1234::84]) by smtp-relay.gmail.com with ESMTPS id
 bc7-20020a056e02008700b00363cd2cc71csm289048ilb.50.2024.02.26.12.14.13
 (version=TLS1_2 cipher=ECDHE-ECDSA-AES128-GCM-SHA256 bits=128/128);
 Mon, 26 Feb 2024 12:14:13 -0800 (PST)
X-Relaying-Domain: iol.unh.edu
Date: Mon, 26 Feb 2024 12:14:13 -0800 (PST)
Message-ID: <65dcf115.050a0220.360df.79f1SMTPIN_ADDED_MISSING@mx.google.com>
Received: from [172.21.0.6] (unknown [172.18.0.240])
 by postal.iol.unh.edu (Postfix) with ESMTP id 32D9A6043300;
 Mon, 26 Feb 2024 15:14:13 -0500 (EST)
Subject: |SUCCESS| pw137211 [PATCH] app/eventdev: support DMA adapter test
From: dpdklab@iol.unh.edu
To: Test Report <test-report@dpdk.org>
Cc: dpdk-test-reports@iol.unh.edu
Content-Type: text/plain
X-BeenThere: test-report@dpdk.org
X-Mailman-Version: 2.1.29
Precedence: list
List-Id: automatic DPDK test reports <test-report.dpdk.org>
List-Unsubscribe: <https://mails.dpdk.org/options/test-report>,
 <mailto:test-report-request@dpdk.org?subject=unsubscribe>
List-Archive: <http://mails.dpdk.org/archives/test-report/>
List-Post: <mailto:test-report@dpdk.org>
List-Help: <mailto:test-report-request@dpdk.org?subject=help>
List-Subscribe: <https://mails.dpdk.org/listinfo/test-report>,
 <mailto:test-report-request@dpdk.org?subject=subscribe>
Errors-To: test-report-bounces@dpdk.org

Test-Label: iol-unit-arm64-testing
Test-Status: SUCCESS
http://dpdk.org/patch/137211

_Testing PASS_

Submitter: Amit Prakash Shukla <amitprakashs@marvell.com>
Date: Monday, February 26 2024 13:26:07 
DPDK git baseline: Repo:dpdk
  Branch: master
  CommitID:850a57695b4647f62f31019baa8a92bcd3ff3531

137211 --> testing pass

Test environment and result as below:

+--------------------------+--------------+---------------------------+----------------+
|       Environment        | lpm_autotest | cryptodev_sw_zuc_autotest | dpdk_unit_test |
+==========================+==============+===========================+================+
| Ubuntu 20.04 ARM SVE     | PASS         | SKIPPED                   | SKIPPED        |
+--------------------------+--------------+---------------------------+----------------+
| Debian 12 (arm)          | SKIPPED      | PASS                      | SKIPPED        |
+--------------------------+--------------+---------------------------+----------------+
| CentOS Stream 9 (ARM)    | SKIPPED      | SKIPPED                   | PASS           |
+--------------------------+--------------+---------------------------+----------------+
| Debian 11 (Buster) (ARM) | SKIPPED      | SKIPPED                   | PASS           |
+--------------------------+--------------+---------------------------+----------------+
| Fedora 37 (ARM)          | SKIPPED      | SKIPPED                   | PASS           |
+--------------------------+--------------+---------------------------+----------------+


Ubuntu 20.04 ARM SVE
	Kernel: 5.4.0-80-generic
	Compiler: gcc 10.3.0 (Ubuntu 10.3.0-1ubuntu1~20.04)

Debian 12 (arm)
	Kernel: Container Host Kernel
	Compiler: gcc 11

CentOS Stream 9 (ARM)
	Kernel: Container Host Kernel
	Compiler: gcc 11.3.1

Debian 11 (Buster) (ARM)
	Kernel: Container Host Kernel
	Compiler: gcc 10.2.1

Fedora 37 (ARM)
	Kernel: Depends on container host
	Compiler: gcc 12.3.1

To view detailed results, visit:
https://lab.dpdk.org/results/dashboard/patchsets/29266/

UNH-IOL DPDK Community Lab

To manage your email subscriptions, visit: 
https://lab.dpdk.org/results/dashboard/preferences/subscriptions/