From mboxrd@z Thu Jan 1 00:00:00 1970 Return-Path: Received: from mails.dpdk.org (mails.dpdk.org [217.70.189.124]) by inbox.dpdk.org (Postfix) with ESMTP id D89C743BF6 for ; Mon, 26 Feb 2024 21:14:53 +0100 (CET) Received: from mails.dpdk.org (localhost [127.0.0.1]) by mails.dpdk.org (Postfix) with ESMTP id D1A0F402CC; Mon, 26 Feb 2024 21:14:53 +0100 (CET) Received: from mail-pf1-f227.google.com (mail-pf1-f227.google.com [209.85.210.227]) by mails.dpdk.org (Postfix) with ESMTP id C07F7402C8 for ; Mon, 26 Feb 2024 21:14:51 +0100 (CET) Received: by mail-pf1-f227.google.com with SMTP id d2e1a72fcca58-6e4d869b019so1628684b3a.0 for ; Mon, 26 Feb 2024 12:14:51 -0800 (PST) DKIM-Signature: v=1; a=rsa-sha256; c=relaxed/relaxed; d=iol.unh.edu; s=unh-iol; t=1708978491; x=1709583291; darn=dpdk.org; h=cc:to:from:subject:message-id:date:from:to:cc:subject:date :message-id:reply-to; bh=pLakuswpulDn2AjtIkhzt9SqtEvGyqnH6z+bRg6i8Jg=; b=OW/tuptzgaQ2HS/EvF1Qn/Q3Ux0R+itpWNkRR1NMXvKStiCU7BJdNbG2me5Ho72h3f Qh5ZNuoHNZGNDiNoVoV/VM54tXlzhU90Dsoxjm6J+jYVN4l9mTrV+t7ZmfqzZOq94KH5 znqBPi6/D2hs1bwHEoTKLFLHzcmr+ims/NWGg= X-Google-DKIM-Signature: v=1; a=rsa-sha256; c=relaxed/relaxed; d=1e100.net; s=20230601; t=1708978491; x=1709583291; h=cc:to:from:subject:message-id:date:x-gm-message-state:from:to:cc :subject:date:message-id:reply-to; bh=pLakuswpulDn2AjtIkhzt9SqtEvGyqnH6z+bRg6i8Jg=; b=r8ZpV9jUNNv7/I2DiLY2PQASL1GoCMF8Sfp4rStCFhoL7cJZXnznDD+gz4BweHejtp R0sew2BoEAQ/BF6Qz7URGBarn7G9jyaczZROy6T8xGDP0jJbFx8xk88veqXD7By+mCo/ A23qr9P+jLV3/Eip0wsn3ojrRuDfKkS75KTr7fbaRJ43DYYDgdfjTGvxNm7Vrxc+iFGF LBYXDvc7VL1O9Ui2r90T9y9nY7ZDtmA8x83R5HKQuk92FXDb9bYWTXF/7qy2E9uso8lc pDaLvU4fvegpQ2ICmah09eVvCy2xuKUOAdY2WADAVY0Y3fp2K4hnSQJJB27LDC370TLz qBOQ== X-Gm-Message-State: AOJu0YxnIE/zSke5y/6E+CQ3qI1+8CZ44UBesjtXyot5gRlnpmAAx/fF FKN6aXKmGpIAMu/f2/CqLV/OTUtLgcgtCchfTgsNztDSkyJchjpZIkjQuQUPBCClfAICxF7WX1Y UG+F7FpFQFSmLAktfMY/Ecz/kbL+OH00VbMUtX+bKm3arYaSLBdrN/rJP X-Google-Smtp-Source: AGHT+IGV3DTIjqkSVdPEnJyopXq/MIqe/gnuimkSEGglphhaypzbIuOsSxGjvnZNrL0mcgNgsEjoSdOUunxo X-Received: by 2002:a05:6a20:7829:b0:1a0:ee92:b6d2 with SMTP id a41-20020a056a20782900b001a0ee92b6d2mr193087pzg.14.1708978490990; Mon, 26 Feb 2024 12:14:50 -0800 (PST) Received: from postal.iol.unh.edu (postal.iol.unh.edu. [2606:4100:3880:1234::84]) by smtp-relay.gmail.com with ESMTPS id y17-20020aa79e11000000b006e4368a6ee3sm175462pfq.21.2024.02.26.12.14.50 (version=TLS1_2 cipher=ECDHE-ECDSA-AES128-GCM-SHA256 bits=128/128); Mon, 26 Feb 2024 12:14:50 -0800 (PST) X-Relaying-Domain: iol.unh.edu Date: Mon, 26 Feb 2024 12:14:50 -0800 (PST) Message-ID: <65dcf13a.a70a0220.2de53.a3a9SMTPIN_ADDED_MISSING@mx.google.com> Received: from [172.21.0.6] (unknown [172.18.0.240]) by postal.iol.unh.edu (Postfix) with ESMTP id 305596043300; Mon, 26 Feb 2024 15:14:50 -0500 (EST) Subject: |SUCCESS| pw137211 [PATCH] app/eventdev: support DMA adapter test From: dpdklab@iol.unh.edu To: Test Report Cc: dpdk-test-reports@iol.unh.edu Content-Type: text/plain X-BeenThere: test-report@dpdk.org X-Mailman-Version: 2.1.29 Precedence: list List-Id: automatic DPDK test reports List-Unsubscribe: , List-Archive: List-Post: List-Help: List-Subscribe: , Errors-To: test-report-bounces@dpdk.org Test-Label: iol-compile-amd64-testing Test-Status: SUCCESS http://dpdk.org/patch/137211 _Testing PASS_ Submitter: Amit Prakash Shukla Date: Monday, February 26 2024 13:26:07 DPDK git baseline: Repo:dpdk Branch: master CommitID:850a57695b4647f62f31019baa8a92bcd3ff3531 137211 --> testing pass Test environment and result as below: +---------------------+--------------------+----------------------+ | Environment | dpdk_meson_compile | dpdk_mingw64_compile | +=====================+====================+======================+ | Windows Server 2022 | PASS | SKIPPED | +---------------------+--------------------+----------------------+ | FreeBSD 13.2 | PASS | SKIPPED | +---------------------+--------------------+----------------------+ | Windows Server 2019 | PASS | PASS | +---------------------+--------------------+----------------------+ | Debian Bullseye | PASS | SKIPPED | +---------------------+--------------------+----------------------+ | CentOS Stream 8 | PASS | SKIPPED | +---------------------+--------------------+----------------------+ | Fedora 37 | PASS | SKIPPED | +---------------------+--------------------+----------------------+ | Fedora 38 | PASS | SKIPPED | +---------------------+--------------------+----------------------+ | Ubuntu 22.04 | PASS | SKIPPED | +---------------------+--------------------+----------------------+ | RHEL8 | PASS | SKIPPED | +---------------------+--------------------+----------------------+ Windows Server 2022 Kernel: OS Build 20348.2031 Compiler: MSVC VS-Preview FreeBSD 13.2 Kernel: 13.2 Compiler: clang 11.3.0 Windows Server 2019 Kernel: 10.0 Compiler: clang 14.0 and gcc 8.1.0 (MinGW) Debian Bullseye Kernel: 5.4.0-122-generic Compiler: gcc 10.2.1-6 CentOS Stream 8 Kernel: 4.18.0-240.10.1.el8_3.x86_64 Compiler: gcc 8.4.1 20200928 Fedora 37 Kernel: Depends on container host system Compiler: gcc 12.3.1 Fedora 38 Kernel: Depends on container host Compiler: gcc 13.1.1 Ubuntu 22.04 Kernel: 4.18.0-240.10.1.el8_3.x86_64 Compiler: gcc 11.3.0 RHEL8 Kernel: 4.18.0-240.10.1.el8_3.x86_64 Compiler: gcc 8.3.1 20191121 (Red Hat 8.3.1-5) To view detailed results, visit: https://lab.dpdk.org/results/dashboard/patchsets/29266/ UNH-IOL DPDK Community Lab To manage your email subscriptions, visit: https://lab.dpdk.org/results/dashboard/preferences/subscriptions/