From mboxrd@z Thu Jan 1 00:00:00 1970 Return-Path: Received: from mails.dpdk.org (mails.dpdk.org [217.70.189.124]) by inbox.dpdk.org (Postfix) with ESMTP id A523643BF6 for ; Mon, 26 Feb 2024 21:22:29 +0100 (CET) Received: from mails.dpdk.org (localhost [127.0.0.1]) by mails.dpdk.org (Postfix) with ESMTP id A1AF542EDE; Mon, 26 Feb 2024 21:22:29 +0100 (CET) Received: from mail-pg1-f225.google.com (mail-pg1-f225.google.com [209.85.215.225]) by mails.dpdk.org (Postfix) with ESMTP id 36FAF402CC for ; Mon, 26 Feb 2024 21:22:04 +0100 (CET) Received: by mail-pg1-f225.google.com with SMTP id 41be03b00d2f7-5d8b70b39efso3630700a12.0 for ; Mon, 26 Feb 2024 12:22:04 -0800 (PST) DKIM-Signature: v=1; a=rsa-sha256; c=relaxed/relaxed; d=iol.unh.edu; s=unh-iol; t=1708978923; x=1709583723; darn=dpdk.org; h=cc:to:from:subject:message-id:date:from:to:cc:subject:date :message-id:reply-to; bh=aS1+K9G7E5fo25Tfhz1D/doKfL47yqoN8A95gcy/Ph4=; b=MGugH9Ui4JLD9WZUw8H2fHUMl5lANIFph5wtjKaF0SSC/bWk5vVpshQQkXhKyawPrz DeUCv1kDoY9KhnAEhV0uumfioHrqfN7y84UtVTsRQ756jBkElGON9JkqzQdOutK94hhi UV7xq7ld/s/aeJb7h85CBKeUYLDY/M5R+HRZA= X-Google-DKIM-Signature: v=1; a=rsa-sha256; c=relaxed/relaxed; d=1e100.net; s=20230601; t=1708978923; x=1709583723; h=cc:to:from:subject:message-id:date:x-gm-message-state:from:to:cc :subject:date:message-id:reply-to; bh=aS1+K9G7E5fo25Tfhz1D/doKfL47yqoN8A95gcy/Ph4=; b=DZm9qNvjJ3g6ZuW42541zUtErnaON4g4GNCSzzTkGFe131DOyQHwIgDB/tqmMsm5Sh cIDroRKbTLBe/ljkGe8nTK5ZISeKXCO8ZG+zZIRhiltIOHrOuazIp/GWKprACoRhGJBN qvywY+2lyxJ7y6Y+rOPX/J/+Yn1/UM7NQzmEHj2pKlOFEyH1UHihhRHqTZzHTKRMoKRE XHU7Ct1lGAkKGwLkaGGuVadbTMaT7l/AOPYXd93igO5dAIchT5+ie2fteHXf7AtS/jF4 J9nHcm1uA7NKldT/rcVoSYNBhBCSm5KLqs/wB3W9qAzhc4SCHOdjvzKRS/YmvsGNKO7x Z8PQ== X-Gm-Message-State: AOJu0YwH3WNic3FkB4BHInsBBnMjddKZwIJWt4Kjpk31Pb1u2M6q7+G9 /7mmubS+GbbGR5eXEckX9O+Fr7ShdTLtt1+0yFyvRpJAfX/rNGEkSiQTqje+7zqC+24wmL3K6wr LTkaEy4M3qsXBtJS1i5XVBplb1ZDrkmjSGsrrU+FO X-Google-Smtp-Source: AGHT+IHEwMlb9hzL4/H78rBdE36huZLPubC78fv9lEZoOqpdRi7/Ps3tdy6HA/8fNX0FrkxPfyhEbDw5T/YH X-Received: by 2002:a17:902:8303:b0:1dc:5e8a:93b with SMTP id bd3-20020a170902830300b001dc5e8a093bmr6135624plb.8.1708978923455; Mon, 26 Feb 2024 12:22:03 -0800 (PST) Received: from postal.iol.unh.edu (postal.iol.unh.edu. [132.177.123.84]) by smtp-relay.gmail.com with ESMTPS id u5-20020a17090282c500b001d936afdd34sm4799plz.135.2024.02.26.12.22.03 (version=TLS1_2 cipher=ECDHE-ECDSA-AES128-GCM-SHA256 bits=128/128); Mon, 26 Feb 2024 12:22:03 -0800 (PST) X-Relaying-Domain: iol.unh.edu Date: Mon, 26 Feb 2024 12:22:03 -0800 (PST) Message-ID: <65dcf2eb.170a0220.e54af.04d7SMTPIN_ADDED_MISSING@mx.google.com> Received: from [172.21.0.7] (unknown [172.18.0.240]) by postal.iol.unh.edu (Postfix) with ESMTP id A384C6043300; Mon, 26 Feb 2024 15:22:02 -0500 (EST) Subject: |SUCCESS| pw137211 [PATCH] app/eventdev: support DMA adapter test From: dpdklab@iol.unh.edu To: Test Report Cc: dpdk-test-reports@iol.unh.edu Content-Type: text/plain X-BeenThere: test-report@dpdk.org X-Mailman-Version: 2.1.29 Precedence: list List-Id: automatic DPDK test reports List-Unsubscribe: , List-Archive: List-Post: List-Help: List-Subscribe: , Errors-To: test-report-bounces@dpdk.org Test-Label: iol-unit-arm64-testing Test-Status: SUCCESS http://dpdk.org/patch/137211 _Testing PASS_ Submitter: Amit Prakash Shukla Date: Monday, February 26 2024 13:26:07 DPDK git baseline: Repo:dpdk Branch: master CommitID:850a57695b4647f62f31019baa8a92bcd3ff3531 137211 --> testing pass Test environment and result as below: +--------------------------+--------------+---------------------------+----------------+------------------------------+ | Environment | lpm_autotest | cryptodev_sw_zuc_autotest | dpdk_unit_test | cryptodev_sw_snow3g_autotest | +==========================+==============+===========================+================+==============================+ | Ubuntu 20.04 ARM SVE | PASS | SKIPPED | SKIPPED | SKIPPED | +--------------------------+--------------+---------------------------+----------------+------------------------------+ | Debian 12 (arm) | SKIPPED | PASS | SKIPPED | PASS | +--------------------------+--------------+---------------------------+----------------+------------------------------+ | CentOS Stream 9 (ARM) | SKIPPED | SKIPPED | PASS | SKIPPED | +--------------------------+--------------+---------------------------+----------------+------------------------------+ | Debian 11 (Buster) (ARM) | SKIPPED | SKIPPED | PASS | SKIPPED | +--------------------------+--------------+---------------------------+----------------+------------------------------+ | Fedora 37 (ARM) | SKIPPED | SKIPPED | PASS | SKIPPED | +--------------------------+--------------+---------------------------+----------------+------------------------------+ | Fedora 38 (ARM) | SKIPPED | SKIPPED | PASS | SKIPPED | +--------------------------+--------------+---------------------------+----------------+------------------------------+ Ubuntu 20.04 ARM SVE Kernel: 5.4.0-80-generic Compiler: gcc 10.3.0 (Ubuntu 10.3.0-1ubuntu1~20.04) Debian 12 (arm) Kernel: Container Host Kernel Compiler: gcc 11 CentOS Stream 9 (ARM) Kernel: Container Host Kernel Compiler: gcc 11.3.1 Debian 11 (Buster) (ARM) Kernel: Container Host Kernel Compiler: gcc 10.2.1 Fedora 37 (ARM) Kernel: Depends on container host Compiler: gcc 12.3.1 Fedora 38 (ARM) Kernel: Depends on container host Compiler: gcc 13.1.1 To view detailed results, visit: https://lab.dpdk.org/results/dashboard/patchsets/29266/ UNH-IOL DPDK Community Lab To manage your email subscriptions, visit: https://lab.dpdk.org/results/dashboard/preferences/subscriptions/