From mboxrd@z Thu Jan 1 00:00:00 1970 Return-Path: Received: from mails.dpdk.org (mails.dpdk.org [217.70.189.124]) by inbox.dpdk.org (Postfix) with ESMTP id E571543BF6 for ; Mon, 26 Feb 2024 21:23:21 +0100 (CET) Received: from mails.dpdk.org (localhost [127.0.0.1]) by mails.dpdk.org (Postfix) with ESMTP id E1E7942E8C; Mon, 26 Feb 2024 21:23:21 +0100 (CET) Received: from mail-pj1-f99.google.com (mail-pj1-f99.google.com [209.85.216.99]) by mails.dpdk.org (Postfix) with ESMTP id 7D34A402CC for ; Mon, 26 Feb 2024 21:23:01 +0100 (CET) Received: by mail-pj1-f99.google.com with SMTP id 98e67ed59e1d1-29ad73b4686so606062a91.0 for ; Mon, 26 Feb 2024 12:23:01 -0800 (PST) DKIM-Signature: v=1; a=rsa-sha256; c=relaxed/relaxed; d=iol.unh.edu; s=unh-iol; t=1708978980; x=1709583780; darn=dpdk.org; h=cc:to:from:subject:message-id:date:from:to:cc:subject:date :message-id:reply-to; bh=aBjZcFWH8RT/yZuUXIDfCyDuHncnkV3g12LtEmav5gQ=; b=NoAmQXTGNz+HYu4NOdTmmk/KZV5krVhZ2K/iymGkXz/d5U5aAo8iYhgVg0oy6czMXU NqIEs8A7fA+HQOABuKBIlFnHh5KN586A07Bq/EVNe7DIQ/SNFPhqVcQTPYpaTzsf3vTq xsPBSt371lOAjO/4zjXBmWQcwrshc1eZ/1xfg= X-Google-DKIM-Signature: v=1; a=rsa-sha256; c=relaxed/relaxed; d=1e100.net; s=20230601; t=1708978980; x=1709583780; h=cc:to:from:subject:message-id:date:x-gm-message-state:from:to:cc :subject:date:message-id:reply-to; bh=aBjZcFWH8RT/yZuUXIDfCyDuHncnkV3g12LtEmav5gQ=; b=nfM/nzt1pMAA1Gl+Q5EMZX6WdgmwfCoXezk63miekCiXJJWqbnmybWiU+R9X679C8x zYpqc02arARhAhx2PcvYcA521N5Wl/U6ox83plFfuiRG1brFRw6vcIx7K2fJpiY/Gi0J YZTrPDlocfcJHtV41qHNJCLNjwZ3dO2e9Rc78LsBKuqNvu87oBVRVIrj5Wkv6E+xO414 TwQYyAvuLm07SSA5lz5j51UZTGumx28b46cfcJ+yRn6/w/2S5ZtfP3mghTUXxCNW9I/D 3MLKECckb+tDvLPLWEOqsNij+KBjUZOyjEsCFjxP/Vn1PNp0glMkNlds8FyVSOjdK1ZW gcXw== X-Gm-Message-State: AOJu0YxxEkrgzHjJTGNsl4VuJsw83tmUZp5wso1V+Euntft6nbYxxMZu MKt0zyO2qI27jYqoMStUF4YLShxC8L6KSwA3tvlk0ZvYamB7ULCTUjJToBP0EJ5cm+QK1UT4XTa L7e/RUM7NRVu4Bv9MPoPRgtKuVHwilzG8ellF3jXF X-Google-Smtp-Source: AGHT+IHWJfpICn3W/EgwPRtsovuH0hkkgxgdSmMceQqL1f1XHWaKHYIZaR/+nRQekvCHP+2kCk26Bo4iHsbp X-Received: by 2002:a17:90a:ea90:b0:299:4fa7:71e5 with SMTP id h16-20020a17090aea9000b002994fa771e5mr5628722pjz.8.1708978980705; Mon, 26 Feb 2024 12:23:00 -0800 (PST) Received: from postal.iol.unh.edu (postal.iol.unh.edu. [132.177.123.84]) by smtp-relay.gmail.com with ESMTPS id a7-20020a17090a854700b0029982663830sm395121pjw.9.2024.02.26.12.23.00 (version=TLS1_2 cipher=ECDHE-ECDSA-AES128-GCM-SHA256 bits=128/128); Mon, 26 Feb 2024 12:23:00 -0800 (PST) X-Relaying-Domain: iol.unh.edu Date: Mon, 26 Feb 2024 12:23:00 -0800 (PST) Message-ID: <65dcf324.170a0220.dcb3b.db04SMTPIN_ADDED_MISSING@mx.google.com> Received: from [172.21.0.7] (unknown [172.18.0.240]) by postal.iol.unh.edu (Postfix) with ESMTP id DB1526043301; Mon, 26 Feb 2024 15:22:59 -0500 (EST) Subject: |SUCCESS| pw137211 [PATCH] app/eventdev: support DMA adapter test From: dpdklab@iol.unh.edu To: Test Report Cc: dpdk-test-reports@iol.unh.edu Content-Type: text/plain X-BeenThere: test-report@dpdk.org X-Mailman-Version: 2.1.29 Precedence: list List-Id: automatic DPDK test reports List-Unsubscribe: , List-Archive: List-Post: List-Help: List-Subscribe: , Errors-To: test-report-bounces@dpdk.org Test-Label: iol-compile-amd64-testing Test-Status: SUCCESS http://dpdk.org/patch/137211 _Testing PASS_ Submitter: Amit Prakash Shukla Date: Monday, February 26 2024 13:26:07 DPDK git baseline: Repo:dpdk Branch: master CommitID:850a57695b4647f62f31019baa8a92bcd3ff3531 137211 --> testing pass Test environment and result as below: +---------------------+--------------------+----------------------+ | Environment | dpdk_meson_compile | dpdk_mingw64_compile | +=====================+====================+======================+ | Windows Server 2022 | PASS | SKIPPED | +---------------------+--------------------+----------------------+ | FreeBSD 13.2 | PASS | SKIPPED | +---------------------+--------------------+----------------------+ | Windows Server 2019 | PASS | PASS | +---------------------+--------------------+----------------------+ | Debian Bullseye | PASS | SKIPPED | +---------------------+--------------------+----------------------+ | CentOS Stream 8 | PASS | SKIPPED | +---------------------+--------------------+----------------------+ | Fedora 37 | PASS | SKIPPED | +---------------------+--------------------+----------------------+ | Fedora 38 | PASS | SKIPPED | +---------------------+--------------------+----------------------+ | Ubuntu 22.04 | PASS | SKIPPED | +---------------------+--------------------+----------------------+ | RHEL8 | PASS | SKIPPED | +---------------------+--------------------+----------------------+ | CentOS Stream 9 | PASS | SKIPPED | +---------------------+--------------------+----------------------+ | openSUSE Leap 15 | PASS | SKIPPED | +---------------------+--------------------+----------------------+ | Ubuntu 20.04 | PASS | SKIPPED | +---------------------+--------------------+----------------------+ Windows Server 2022 Kernel: OS Build 20348.2031 Compiler: MSVC VS-Preview FreeBSD 13.2 Kernel: 13.2 Compiler: clang 11.3.0 Windows Server 2019 Kernel: 10.0 Compiler: clang 14.0 and gcc 8.1.0 (MinGW) Debian Bullseye Kernel: 5.4.0-122-generic Compiler: gcc 10.2.1-6 CentOS Stream 8 Kernel: 4.18.0-240.10.1.el8_3.x86_64 Compiler: gcc 8.4.1 20200928 Fedora 37 Kernel: Depends on container host system Compiler: gcc 12.3.1 Fedora 38 Kernel: Depends on container host Compiler: gcc 13.1.1 Ubuntu 22.04 Kernel: 4.18.0-240.10.1.el8_3.x86_64 Compiler: gcc 11.3.0 RHEL8 Kernel: 4.18.0-240.10.1.el8_3.x86_64 Compiler: gcc 8.3.1 20191121 (Red Hat 8.3.1-5) CentOS Stream 9 Kernel: 4.18.0-240.10.1.el8_3.x86_64 Compiler: gcc 11.3.1 20220421 openSUSE Leap 15 Kernel: 4.18.0-240.10.1.el8_3.x86_64 Compiler: gcc 7.5.0 Ubuntu 20.04 Kernel: 5.4.0-153-generic Compiler: gcc 9.4.0-1ubuntu1~20.04.1 To view detailed results, visit: https://lab.dpdk.org/results/dashboard/patchsets/29266/ UNH-IOL DPDK Community Lab To manage your email subscriptions, visit: https://lab.dpdk.org/results/dashboard/preferences/subscriptions/