From mboxrd@z Thu Jan 1 00:00:00 1970 Return-Path: Received: from mails.dpdk.org (mails.dpdk.org [217.70.189.124]) by inbox.dpdk.org (Postfix) with ESMTP id 476AC43BF6 for ; Mon, 26 Feb 2024 21:23:55 +0100 (CET) Received: from mails.dpdk.org (localhost [127.0.0.1]) by mails.dpdk.org (Postfix) with ESMTP id 43D2E42ED7; Mon, 26 Feb 2024 21:23:55 +0100 (CET) Received: from mail-oa1-f100.google.com (mail-oa1-f100.google.com [209.85.160.100]) by mails.dpdk.org (Postfix) with ESMTP id 6C425402CC for ; Mon, 26 Feb 2024 21:23:35 +0100 (CET) Received: by mail-oa1-f100.google.com with SMTP id 586e51a60fabf-22034c323a3so280123fac.0 for ; Mon, 26 Feb 2024 12:23:35 -0800 (PST) DKIM-Signature: v=1; a=rsa-sha256; c=relaxed/relaxed; d=iol.unh.edu; s=unh-iol; t=1708979015; x=1709583815; darn=dpdk.org; h=cc:to:from:subject:message-id:date:from:to:cc:subject:date :message-id:reply-to; bh=RFwmmPmbBz6G1K7z1wD5m4yEs2PkiDAMwqlAPAvVps4=; b=aBMjB5Gb6d9U7y6b/w9YaAfXsXTqO7dHmKBCefkICPvznNTWf7ak49LLOjasTD/fhf zZHFN5hknHaTNIcJGjDYdbyDzy/7RsqcYWCPYQaIlP+FkZDzq0etJf/gA+sorfn9OsAH s49bbLKCxXVEYnW4ZY9l2zCG7Z/suQzninIcI= X-Google-DKIM-Signature: v=1; a=rsa-sha256; c=relaxed/relaxed; d=1e100.net; s=20230601; t=1708979015; x=1709583815; h=cc:to:from:subject:message-id:date:x-gm-message-state:from:to:cc :subject:date:message-id:reply-to; bh=RFwmmPmbBz6G1K7z1wD5m4yEs2PkiDAMwqlAPAvVps4=; b=viz8sOfzbQPuIe8c1Knrng9T/LLx9ZwKHc/9NYiGQfoAS/5T+NpwJX+EgnLf8Y2qfv 2BbUh3EpgH6qZujyWMzWd/lhCG/HjjixKZwDXNZZheoIyKmW+HdeYNxodnOJBgeNsfUt orPsM9auj+ZtDMBiemsHTcSqmGb84UKkOXmmNbbIFjSSgkdDeIeR7bSE8m7wCZ3w4jtA +1BwuhwrxNbFTO2loaZRFiabsTr/Ivtclix5xpQSVpZPTCmv6L05r0a0piVyIPUmmbsB 5T/Pumzy1/hxDxpr3POE+Ea7ui69jRCOXVtrheckgtrY6IfDIUFjmgG2aer4KCQ7ABn3 XJOg== X-Gm-Message-State: AOJu0Yy0TRlk30Om/OuplTT07WnJNdhBXgQhBNqFbdN/m7XRIAB12BVZ PIk1CNTCrYQvKgGoRZiJ/Hgn6DuegroyeQg2xfaVkE7AODZd6wgNanAYnOxCKt1V8EbYqnCvy0r +drN1tz5JPsGGWQrmcJ5UbpcudOj8RsOFsW43/BsfIYaK9wvPjXCqwgg3 X-Google-Smtp-Source: AGHT+IGmofmMKAAHaeWkf32snO04Fcn8LVU+rrOfpUeecCIYmOEARXcGEB1uBzE9JK9CUEARQsTzf8O7mYP9 X-Received: by 2002:a05:6870:8a20:b0:21e:d9c3:39e0 with SMTP id p32-20020a0568708a2000b0021ed9c339e0mr9581905oaq.48.1708979014807; Mon, 26 Feb 2024 12:23:34 -0800 (PST) Received: from postal.iol.unh.edu (postal.iol.unh.edu. [2606:4100:3880:1234::84]) by smtp-relay.gmail.com with ESMTPS id du6-20020a0568716e0600b0021e7c9d798bsm84348oac.5.2024.02.26.12.23.34 (version=TLS1_2 cipher=ECDHE-ECDSA-AES128-GCM-SHA256 bits=128/128); Mon, 26 Feb 2024 12:23:34 -0800 (PST) X-Relaying-Domain: iol.unh.edu Date: Mon, 26 Feb 2024 12:23:34 -0800 (PST) Message-ID: <65dcf346.050a0220.2a5fc.5b72SMTPIN_ADDED_MISSING@mx.google.com> Received: from [172.21.0.7] (unknown [172.18.0.240]) by postal.iol.unh.edu (Postfix) with ESMTP id 4A59C6043300; Mon, 26 Feb 2024 15:23:34 -0500 (EST) Subject: |SUCCESS| pw137211 [PATCH] app/eventdev: support DMA adapter test From: dpdklab@iol.unh.edu To: Test Report Cc: dpdk-test-reports@iol.unh.edu Content-Type: text/plain X-BeenThere: test-report@dpdk.org X-Mailman-Version: 2.1.29 Precedence: list List-Id: automatic DPDK test reports List-Unsubscribe: , List-Archive: List-Post: List-Help: List-Subscribe: , Errors-To: test-report-bounces@dpdk.org Test-Label: iol-unit-arm64-testing Test-Status: SUCCESS http://dpdk.org/patch/137211 _Testing PASS_ Submitter: Amit Prakash Shukla Date: Monday, February 26 2024 13:26:07 DPDK git baseline: Repo:dpdk Branch: master CommitID:850a57695b4647f62f31019baa8a92bcd3ff3531 137211 --> testing pass Test environment and result as below: +--------------------------+--------------+---------------------------+----------------+------------------------------+ | Environment | lpm_autotest | cryptodev_sw_zuc_autotest | dpdk_unit_test | cryptodev_sw_snow3g_autotest | +==========================+==============+===========================+================+==============================+ | Ubuntu 20.04 ARM SVE | PASS | SKIPPED | SKIPPED | SKIPPED | +--------------------------+--------------+---------------------------+----------------+------------------------------+ | Debian 12 (arm) | SKIPPED | PASS | SKIPPED | PASS | +--------------------------+--------------+---------------------------+----------------+------------------------------+ | CentOS Stream 9 (ARM) | SKIPPED | SKIPPED | PASS | SKIPPED | +--------------------------+--------------+---------------------------+----------------+------------------------------+ | Debian 11 (Buster) (ARM) | SKIPPED | SKIPPED | PASS | SKIPPED | +--------------------------+--------------+---------------------------+----------------+------------------------------+ | Fedora 37 (ARM) | SKIPPED | SKIPPED | PASS | SKIPPED | +--------------------------+--------------+---------------------------+----------------+------------------------------+ | Fedora 38 (ARM) | SKIPPED | SKIPPED | PASS | SKIPPED | +--------------------------+--------------+---------------------------+----------------+------------------------------+ | Ubuntu 20.04 (ARM) | SKIPPED | SKIPPED | PASS | SKIPPED | +--------------------------+--------------+---------------------------+----------------+------------------------------+ Ubuntu 20.04 ARM SVE Kernel: 5.4.0-80-generic Compiler: gcc 10.3.0 (Ubuntu 10.3.0-1ubuntu1~20.04) Debian 12 (arm) Kernel: Container Host Kernel Compiler: gcc 11 CentOS Stream 9 (ARM) Kernel: Container Host Kernel Compiler: gcc 11.3.1 Debian 11 (Buster) (ARM) Kernel: Container Host Kernel Compiler: gcc 10.2.1 Fedora 37 (ARM) Kernel: Depends on container host Compiler: gcc 12.3.1 Fedora 38 (ARM) Kernel: Depends on container host Compiler: gcc 13.1.1 Ubuntu 20.04 (ARM) Kernel: Container Host Kernel Compiler: gcc 9.4.0 To view detailed results, visit: https://lab.dpdk.org/results/dashboard/patchsets/29266/ UNH-IOL DPDK Community Lab To manage your email subscriptions, visit: https://lab.dpdk.org/results/dashboard/preferences/subscriptions/