From mboxrd@z Thu Jan 1 00:00:00 1970 Return-Path: Received: from mails.dpdk.org (mails.dpdk.org [217.70.189.124]) by inbox.dpdk.org (Postfix) with ESMTP id CFE1443BF6 for ; Mon, 26 Feb 2024 21:25:15 +0100 (CET) Received: from mails.dpdk.org (localhost [127.0.0.1]) by mails.dpdk.org (Postfix) with ESMTP id CC8ED42EC7; Mon, 26 Feb 2024 21:25:15 +0100 (CET) Received: from mail-yw1-f228.google.com (mail-yw1-f228.google.com [209.85.128.228]) by mails.dpdk.org (Postfix) with ESMTP id C08FE402CC for ; Mon, 26 Feb 2024 21:24:43 +0100 (CET) Received: by mail-yw1-f228.google.com with SMTP id 00721157ae682-608a21f1cbcso21427857b3.0 for ; Mon, 26 Feb 2024 12:24:43 -0800 (PST) DKIM-Signature: v=1; a=rsa-sha256; c=relaxed/relaxed; d=iol.unh.edu; s=unh-iol; t=1708979083; x=1709583883; darn=dpdk.org; h=cc:to:from:subject:message-id:date:from:to:cc:subject:date :message-id:reply-to; bh=aBjZcFWH8RT/yZuUXIDfCyDuHncnkV3g12LtEmav5gQ=; b=KZhbqRnzdUzdQzK/ks1eV7BlKcrgRPxpms3DJXbAlAbbrSSjPdo1RKHfz/TGBfXeB/ 0GU77cT9t+I/9x4MbzUO3r+TduudptE4w/bDOA87XjZIorLVwOWUDtgjLfS0SKxArIf8 33fibIiaAH5p7xwHrmvKS+mOV0XetQbF6XMnU= X-Google-DKIM-Signature: v=1; a=rsa-sha256; c=relaxed/relaxed; d=1e100.net; s=20230601; t=1708979083; x=1709583883; h=cc:to:from:subject:message-id:date:x-gm-message-state:from:to:cc :subject:date:message-id:reply-to; bh=aBjZcFWH8RT/yZuUXIDfCyDuHncnkV3g12LtEmav5gQ=; b=oiKKU4rwTk++kCyO91uasIPztilmBWOH6+99ZEPT45pQ2wp+Joatpi95wqIZBubCSO p2INCV+yBJTkhV/AMye6Afvh3ELyQ+kjuTOxzOEuK069LFt7c8SC7XYNEd3JxZ84zrAO GIq53iY4MuvchEuqkAasHqcIoN/te18DZKfylLS3PohJOGfBZm2UEoZVDpViqUftWNtY RZn49wt+h2tbe4Y+vfIXClAgQYlOY+XgxWXi6JQL7oEwGXVCGtomeFf7nysW43wyPyA5 31PUeqGnakYklj0PmPe5T1EIVumC/8QGeJo2H8F6YGHGhVa0skROTbXns/2X/f1wqoqm 03zA== X-Gm-Message-State: AOJu0Yzk4xELj7xNmfPHiq3V49ckg9fS3qA6StOslIi+Un1uBq441BEW XnjrwYaG5mVXugjaCoTOKPUmkucIW76/yVkiaIblqe+0kCv+JRZ2vjp5HgmsiT13lpcv+lzQvHS y81zs/2bZNWSS12QRD8X+9MJ1WQ9hb4BlUNCnf07K X-Google-Smtp-Source: AGHT+IEqG6k4JUL2Bo2BV2/R4fD70O+IkSlBEBqD/yq/JKechyudQ86fbeQe+Ifky1AjTdW5SD1Y5GFDOOr4 X-Received: by 2002:a81:9107:0:b0:608:bc79:1af5 with SMTP id i7-20020a819107000000b00608bc791af5mr251487ywg.18.1708979083196; Mon, 26 Feb 2024 12:24:43 -0800 (PST) Received: from postal.iol.unh.edu (postal.iol.unh.edu. [132.177.123.84]) by smtp-relay.gmail.com with ESMTPS id s203-20020a815ed4000000b006049fa6b583sm436090ywb.60.2024.02.26.12.24.43 (version=TLS1_2 cipher=ECDHE-ECDSA-AES128-GCM-SHA256 bits=128/128); Mon, 26 Feb 2024 12:24:43 -0800 (PST) X-Relaying-Domain: iol.unh.edu Date: Mon, 26 Feb 2024 12:24:43 -0800 (PST) Message-ID: <65dcf38b.810a0220.c0fe3.8f1dSMTPIN_ADDED_MISSING@mx.google.com> Received: from [172.21.0.6] (unknown [172.18.0.240]) by postal.iol.unh.edu (Postfix) with ESMTP id AFB076043300; Mon, 26 Feb 2024 15:24:42 -0500 (EST) Subject: |SUCCESS| pw137211 [PATCH] app/eventdev: support DMA adapter test From: dpdklab@iol.unh.edu To: Test Report Cc: dpdk-test-reports@iol.unh.edu Content-Type: text/plain X-BeenThere: test-report@dpdk.org X-Mailman-Version: 2.1.29 Precedence: list List-Id: automatic DPDK test reports List-Unsubscribe: , List-Archive: List-Post: List-Help: List-Subscribe: , Errors-To: test-report-bounces@dpdk.org Test-Label: iol-compile-amd64-testing Test-Status: SUCCESS http://dpdk.org/patch/137211 _Testing PASS_ Submitter: Amit Prakash Shukla Date: Monday, February 26 2024 13:26:07 DPDK git baseline: Repo:dpdk Branch: master CommitID:850a57695b4647f62f31019baa8a92bcd3ff3531 137211 --> testing pass Test environment and result as below: +---------------------+--------------------+----------------------+ | Environment | dpdk_meson_compile | dpdk_mingw64_compile | +=====================+====================+======================+ | Windows Server 2022 | PASS | SKIPPED | +---------------------+--------------------+----------------------+ | FreeBSD 13.2 | PASS | SKIPPED | +---------------------+--------------------+----------------------+ | Windows Server 2019 | PASS | PASS | +---------------------+--------------------+----------------------+ | Debian Bullseye | PASS | SKIPPED | +---------------------+--------------------+----------------------+ | CentOS Stream 8 | PASS | SKIPPED | +---------------------+--------------------+----------------------+ | Fedora 37 | PASS | SKIPPED | +---------------------+--------------------+----------------------+ | Fedora 38 | PASS | SKIPPED | +---------------------+--------------------+----------------------+ | Ubuntu 22.04 | PASS | SKIPPED | +---------------------+--------------------+----------------------+ | RHEL8 | PASS | SKIPPED | +---------------------+--------------------+----------------------+ | CentOS Stream 9 | PASS | SKIPPED | +---------------------+--------------------+----------------------+ | openSUSE Leap 15 | PASS | SKIPPED | +---------------------+--------------------+----------------------+ | Ubuntu 20.04 | PASS | SKIPPED | +---------------------+--------------------+----------------------+ Windows Server 2022 Kernel: OS Build 20348.2031 Compiler: MSVC VS-Preview FreeBSD 13.2 Kernel: 13.2 Compiler: clang 11.3.0 Windows Server 2019 Kernel: 10.0 Compiler: clang 14.0 and gcc 8.1.0 (MinGW) Debian Bullseye Kernel: 5.4.0-122-generic Compiler: gcc 10.2.1-6 CentOS Stream 8 Kernel: 4.18.0-240.10.1.el8_3.x86_64 Compiler: gcc 8.4.1 20200928 Fedora 37 Kernel: Depends on container host system Compiler: gcc 12.3.1 Fedora 38 Kernel: Depends on container host Compiler: gcc 13.1.1 Ubuntu 22.04 Kernel: 4.18.0-240.10.1.el8_3.x86_64 Compiler: gcc 11.3.0 RHEL8 Kernel: 4.18.0-240.10.1.el8_3.x86_64 Compiler: gcc 8.3.1 20191121 (Red Hat 8.3.1-5) CentOS Stream 9 Kernel: 4.18.0-240.10.1.el8_3.x86_64 Compiler: gcc 11.3.1 20220421 openSUSE Leap 15 Kernel: 4.18.0-240.10.1.el8_3.x86_64 Compiler: gcc 7.5.0 Ubuntu 20.04 Kernel: 5.4.0-153-generic Compiler: gcc 9.4.0-1ubuntu1~20.04.1 To view detailed results, visit: https://lab.dpdk.org/results/dashboard/patchsets/29266/ UNH-IOL DPDK Community Lab To manage your email subscriptions, visit: https://lab.dpdk.org/results/dashboard/preferences/subscriptions/