From mboxrd@z Thu Jan 1 00:00:00 1970 Return-Path: Received: from mails.dpdk.org (mails.dpdk.org [217.70.189.124]) by inbox.dpdk.org (Postfix) with ESMTP id E624D43BF6 for ; Mon, 26 Feb 2024 21:25:15 +0100 (CET) Received: from mails.dpdk.org (localhost [127.0.0.1]) by mails.dpdk.org (Postfix) with ESMTP id E2A9542EDE; Mon, 26 Feb 2024 21:25:15 +0100 (CET) Received: from mail-oi1-f225.google.com (mail-oi1-f225.google.com [209.85.167.225]) by mails.dpdk.org (Postfix) with ESMTP id 5DDA8402CC for ; Mon, 26 Feb 2024 21:25:00 +0100 (CET) Received: by mail-oi1-f225.google.com with SMTP id 5614622812f47-3c19b79535aso1592717b6e.0 for ; Mon, 26 Feb 2024 12:25:00 -0800 (PST) DKIM-Signature: v=1; a=rsa-sha256; c=relaxed/relaxed; d=iol.unh.edu; s=unh-iol; t=1708979099; x=1709583899; darn=dpdk.org; h=cc:to:from:subject:message-id:date:from:to:cc:subject:date :message-id:reply-to; bh=aBjZcFWH8RT/yZuUXIDfCyDuHncnkV3g12LtEmav5gQ=; b=L/qMt2QyuzXjOExQPJ4SI/8oAkhxAwO/cXibMiKjT3gVs7K1fniP2fSSCHcJKftC5Q Vbqdt7rgPHgpA3N7wGj7xV6RuA7A+E0rLPDrBGo6HzcHFz6YX4kYAZ3X6I2p8RSQQxgh V6q0KD/AcEOHVZrPUz3mH7f46Y8m+HdSChCuY= X-Google-DKIM-Signature: v=1; a=rsa-sha256; c=relaxed/relaxed; d=1e100.net; s=20230601; t=1708979099; x=1709583899; h=cc:to:from:subject:message-id:date:x-gm-message-state:from:to:cc :subject:date:message-id:reply-to; bh=aBjZcFWH8RT/yZuUXIDfCyDuHncnkV3g12LtEmav5gQ=; b=Lud8AZU96D+j2/gPbikKhIFZk/QlqBmfS5Og8R2bBzK/HMhWKsh4AS80crat0b/9lm YuzEBDAyDMLlbmO52T3MQpJjR7ERStEPYpfAUMMmAd2ysJb201fsM8QzsDqlLxJgz5tT cFoSYb1dIfoRy5cBg0Y5mB08qG2KLsBfPG9kXdj6NUIJl/FDKBM4BvXZmS3qAB1WDYH9 13cFG4Q7+QhhWkMkTn+UdxZOv+CQa+TgtnD9Kgw2fmiYns4/OUInIoCRFhfFCBqD0lHI vTshrIoYnz7AJ159AnfOx6rPpG2jpWRk9iA9ZDK2lwbklY2U5TM6rh1D2VK05cZv/q5t wZlQ== X-Gm-Message-State: AOJu0Ywm8N8leM/qqd5nAc0JU4OlDiER/W7IixuwjCuJtVkNgZHXsbyj cgvOqy+ex3939zShowycgWtFZ4qDZUlF71gmoTCVDnKrrGpxth9FUNFRftk61W8EnG2EupOh2Ls 9aMnDG4g0vspGTHdX/qU+sVNTNt+lSsKva7z1H2NX X-Google-Smtp-Source: AGHT+IHHgSkbkdlUl9U9/YE1Suw1kkNcpl8r4Kly+VnIyM85w/VlNBcbawWtsxM/0NIREoEq8nsABs0TX6om X-Received: by 2002:a05:6808:120d:b0:3c0:2b65:dd2 with SMTP id a13-20020a056808120d00b003c02b650dd2mr214906oil.8.1708979099615; Mon, 26 Feb 2024 12:24:59 -0800 (PST) Received: from postal.iol.unh.edu (postal.iol.unh.edu. [132.177.123.84]) by smtp-relay.gmail.com with ESMTPS id o8-20020ad45c88000000b0068d03613934sm332944qvh.74.2024.02.26.12.24.59 (version=TLS1_2 cipher=ECDHE-ECDSA-AES128-GCM-SHA256 bits=128/128); Mon, 26 Feb 2024 12:24:59 -0800 (PST) X-Relaying-Domain: iol.unh.edu Date: Mon, 26 Feb 2024 12:24:59 -0800 (PST) Message-ID: <65dcf39b.d40a0220.f46d1.ec78SMTPIN_ADDED_MISSING@mx.google.com> Received: from [172.21.0.7] (unknown [172.18.0.240]) by postal.iol.unh.edu (Postfix) with ESMTP id 4B9E46043300; Mon, 26 Feb 2024 15:24:59 -0500 (EST) Subject: |SUCCESS| pw137211 [PATCH] app/eventdev: support DMA adapter test From: dpdklab@iol.unh.edu To: Test Report Cc: dpdk-test-reports@iol.unh.edu Content-Type: text/plain X-BeenThere: test-report@dpdk.org X-Mailman-Version: 2.1.29 Precedence: list List-Id: automatic DPDK test reports List-Unsubscribe: , List-Archive: List-Post: List-Help: List-Subscribe: , Errors-To: test-report-bounces@dpdk.org Test-Label: iol-compile-amd64-testing Test-Status: SUCCESS http://dpdk.org/patch/137211 _Testing PASS_ Submitter: Amit Prakash Shukla Date: Monday, February 26 2024 13:26:07 DPDK git baseline: Repo:dpdk Branch: master CommitID:850a57695b4647f62f31019baa8a92bcd3ff3531 137211 --> testing pass Test environment and result as below: +---------------------+--------------------+----------------------+ | Environment | dpdk_meson_compile | dpdk_mingw64_compile | +=====================+====================+======================+ | Windows Server 2022 | PASS | SKIPPED | +---------------------+--------------------+----------------------+ | FreeBSD 13.2 | PASS | SKIPPED | +---------------------+--------------------+----------------------+ | Windows Server 2019 | PASS | PASS | +---------------------+--------------------+----------------------+ | Debian Bullseye | PASS | SKIPPED | +---------------------+--------------------+----------------------+ | CentOS Stream 8 | PASS | SKIPPED | +---------------------+--------------------+----------------------+ | Fedora 37 | PASS | SKIPPED | +---------------------+--------------------+----------------------+ | Fedora 38 | PASS | SKIPPED | +---------------------+--------------------+----------------------+ | Ubuntu 22.04 | PASS | SKIPPED | +---------------------+--------------------+----------------------+ | RHEL8 | PASS | SKIPPED | +---------------------+--------------------+----------------------+ | CentOS Stream 9 | PASS | SKIPPED | +---------------------+--------------------+----------------------+ | openSUSE Leap 15 | PASS | SKIPPED | +---------------------+--------------------+----------------------+ | Ubuntu 20.04 | PASS | SKIPPED | +---------------------+--------------------+----------------------+ Windows Server 2022 Kernel: OS Build 20348.2031 Compiler: MSVC VS-Preview FreeBSD 13.2 Kernel: 13.2 Compiler: clang 11.3.0 Windows Server 2019 Kernel: 10.0 Compiler: clang 14.0 and gcc 8.1.0 (MinGW) Debian Bullseye Kernel: 5.4.0-122-generic Compiler: gcc 10.2.1-6 CentOS Stream 8 Kernel: 4.18.0-240.10.1.el8_3.x86_64 Compiler: gcc 8.4.1 20200928 Fedora 37 Kernel: Depends on container host system Compiler: gcc 12.3.1 Fedora 38 Kernel: Depends on container host Compiler: gcc 13.1.1 Ubuntu 22.04 Kernel: 4.18.0-240.10.1.el8_3.x86_64 Compiler: gcc 11.3.0 RHEL8 Kernel: 4.18.0-240.10.1.el8_3.x86_64 Compiler: gcc 8.3.1 20191121 (Red Hat 8.3.1-5) CentOS Stream 9 Kernel: 4.18.0-240.10.1.el8_3.x86_64 Compiler: gcc 11.3.1 20220421 openSUSE Leap 15 Kernel: 4.18.0-240.10.1.el8_3.x86_64 Compiler: gcc 7.5.0 Ubuntu 20.04 Kernel: 5.4.0-153-generic Compiler: gcc 9.4.0-1ubuntu1~20.04.1 To view detailed results, visit: https://lab.dpdk.org/results/dashboard/patchsets/29266/ UNH-IOL DPDK Community Lab To manage your email subscriptions, visit: https://lab.dpdk.org/results/dashboard/preferences/subscriptions/