From mboxrd@z Thu Jan 1 00:00:00 1970 Return-Path: Received: from mails.dpdk.org (mails.dpdk.org [217.70.189.124]) by inbox.dpdk.org (Postfix) with ESMTP id 3CCB043BF6 for ; Mon, 26 Feb 2024 21:37:15 +0100 (CET) Received: from mails.dpdk.org (localhost [127.0.0.1]) by mails.dpdk.org (Postfix) with ESMTP id 386EB42E21; Mon, 26 Feb 2024 21:37:15 +0100 (CET) Received: from mail-ot1-f99.google.com (mail-ot1-f99.google.com [209.85.210.99]) by mails.dpdk.org (Postfix) with ESMTP id 33D9A402CC for ; Mon, 26 Feb 2024 21:37:14 +0100 (CET) Received: by mail-ot1-f99.google.com with SMTP id 46e09a7af769-6e4a0e80d14so849035a34.1 for ; Mon, 26 Feb 2024 12:37:14 -0800 (PST) DKIM-Signature: v=1; a=rsa-sha256; c=relaxed/relaxed; d=iol.unh.edu; s=unh-iol; t=1708979833; x=1709584633; darn=dpdk.org; h=cc:to:from:subject:message-id:date:from:to:cc:subject:date :message-id:reply-to; bh=NVj+upyqwmPDA1d8nHc+wpTDGxm23h+3QC3aqoZ9V5I=; b=aJxGJph58TVxEKATk5t+VDgJ+hB78gCZJnMFYlTSlZgsWAHNA9qNcuf8jhgxzaMwLH 4EJxTCSFgMUhSfHyMGamqpzFASCxG+R9AXyki+Na2GZppAPTeO6zbvTd4gtkLNVWegvZ wZzskmV9uZdxdbQ+GsXdin0AGYYisGWCHS+vw= X-Google-DKIM-Signature: v=1; a=rsa-sha256; c=relaxed/relaxed; d=1e100.net; s=20230601; t=1708979833; x=1709584633; h=cc:to:from:subject:message-id:date:x-gm-message-state:from:to:cc :subject:date:message-id:reply-to; bh=NVj+upyqwmPDA1d8nHc+wpTDGxm23h+3QC3aqoZ9V5I=; b=fK8087JsXK/mQJCFA5mOa3xq/m1IxebVApVnCNrz3KdFZUcaiOYrmzzalhaQXUBYnb QOdx6yzdf2wL1PQx7gqfVaMd1w+YfkShyWyhj3SH6Yc7+Qp2xAo87sF+Q1CPsRVwvKfR Wml2AELdy48jkHpMRU+CHwQ30u8IDd+Y5RT3hiTat25KdHhMW8lteHERUTEsz1sFjd23 mQVBMeNmR8pVgQI+FEDhNfhdBOB8VZGI4oSuQaGp3PacD+ZMh4XlgqhUAHvpRKdMAJRx m+9JeND5khiJgKgcSuYVsCG2HLaA5b9rnu6aoCr08wCKy9gGd8e6aRVT+T9+YlHCNl+T JdPQ== X-Gm-Message-State: AOJu0YxZlp4uqgBS1Ge7fk3P8F18VBCA6M4MwYsblu4VYXoq62+7m4do g/uvNLAz9sb6km4wQzxeRVBsLfnlqEPg1ruCJPliOfqC37UFBLnyGPJuvtHjC65cILi1/HKNiIA Fj8MgMIImRbrj/+00Ho6CfUv5SxYfOc9QobcdeOGRKMmXi1lQCY26mooR X-Google-Smtp-Source: AGHT+IFYXNSYrpMhMgSeGySc7EGufTqUd9KGCkH/eUEat90uHShgsF+mI4MMp9I4Rdt7kde/vJABnyivRfyj X-Received: by 2002:a9d:77d9:0:b0:6e4:9a7f:3e0b with SMTP id w25-20020a9d77d9000000b006e49a7f3e0bmr4350660otl.13.1708979833446; Mon, 26 Feb 2024 12:37:13 -0800 (PST) Received: from postal.iol.unh.edu (postal.iol.unh.edu. [2606:4100:3880:1234::84]) by smtp-relay.gmail.com with ESMTPS id c17-20020a056830349100b006e4983d2879sm170724otu.7.2024.02.26.12.37.13 (version=TLS1_2 cipher=ECDHE-ECDSA-AES128-GCM-SHA256 bits=128/128); Mon, 26 Feb 2024 12:37:13 -0800 (PST) X-Relaying-Domain: iol.unh.edu Date: Mon, 26 Feb 2024 12:37:13 -0800 (PST) Message-ID: <65dcf679.050a0220.f5358.8e26SMTPIN_ADDED_MISSING@mx.google.com> Received: from [172.21.0.6] (unknown [172.18.0.240]) by postal.iol.unh.edu (Postfix) with ESMTP id DB3BB6043300; Mon, 26 Feb 2024 15:37:12 -0500 (EST) Subject: |SUCCESS| pw137211 [PATCH] app/eventdev: support DMA adapter test From: dpdklab@iol.unh.edu To: Test Report Cc: dpdk-test-reports@iol.unh.edu Content-Type: text/plain X-BeenThere: test-report@dpdk.org X-Mailman-Version: 2.1.29 Precedence: list List-Id: automatic DPDK test reports List-Unsubscribe: , List-Archive: List-Post: List-Help: List-Subscribe: , Errors-To: test-report-bounces@dpdk.org Test-Label: iol-unit-arm64-testing Test-Status: SUCCESS http://dpdk.org/patch/137211 _Testing PASS_ Submitter: Amit Prakash Shukla Date: Monday, February 26 2024 13:26:07 DPDK git baseline: Repo:dpdk Branch: master CommitID:850a57695b4647f62f31019baa8a92bcd3ff3531 137211 --> testing pass Test environment and result as below: +--------------------------+--------------+---------------------------+----------------+------------------------------+ | Environment | lpm_autotest | cryptodev_sw_zuc_autotest | dpdk_unit_test | cryptodev_sw_snow3g_autotest | +==========================+==============+===========================+================+==============================+ | Ubuntu 20.04 ARM SVE | PASS | SKIPPED | SKIPPED | SKIPPED | +--------------------------+--------------+---------------------------+----------------+------------------------------+ | Debian 12 (arm) | SKIPPED | PASS | PASS | PASS | +--------------------------+--------------+---------------------------+----------------+------------------------------+ | CentOS Stream 9 (ARM) | SKIPPED | SKIPPED | PASS | SKIPPED | +--------------------------+--------------+---------------------------+----------------+------------------------------+ | Debian 11 (Buster) (ARM) | SKIPPED | SKIPPED | PASS | SKIPPED | +--------------------------+--------------+---------------------------+----------------+------------------------------+ | Fedora 37 (ARM) | SKIPPED | SKIPPED | PASS | SKIPPED | +--------------------------+--------------+---------------------------+----------------+------------------------------+ | Fedora 38 (ARM) | SKIPPED | SKIPPED | PASS | SKIPPED | +--------------------------+--------------+---------------------------+----------------+------------------------------+ | Ubuntu 20.04 (ARM) | SKIPPED | SKIPPED | PASS | SKIPPED | +--------------------------+--------------+---------------------------+----------------+------------------------------+ Ubuntu 20.04 ARM SVE Kernel: 5.4.0-80-generic Compiler: gcc 10.3.0 (Ubuntu 10.3.0-1ubuntu1~20.04) Debian 12 (arm) Kernel: Container Host Kernel Compiler: gcc 11 CentOS Stream 9 (ARM) Kernel: Container Host Kernel Compiler: gcc 11.3.1 Debian 11 (Buster) (ARM) Kernel: Container Host Kernel Compiler: gcc 10.2.1 Fedora 37 (ARM) Kernel: Depends on container host Compiler: gcc 12.3.1 Fedora 38 (ARM) Kernel: Depends on container host Compiler: gcc 13.1.1 Ubuntu 20.04 (ARM) Kernel: Container Host Kernel Compiler: gcc 9.4.0 To view detailed results, visit: https://lab.dpdk.org/results/dashboard/patchsets/29266/ UNH-IOL DPDK Community Lab To manage your email subscriptions, visit: https://lab.dpdk.org/results/dashboard/preferences/subscriptions/