From mboxrd@z Thu Jan  1 00:00:00 1970
Return-Path: <test-report-bounces@dpdk.org>
Received: from mails.dpdk.org (mails.dpdk.org [217.70.189.124])
	by inbox.dpdk.org (Postfix) with ESMTP id 17B2343BF0
	for <public@inbox.dpdk.org>; Tue, 27 Feb 2024 21:04:56 +0100 (CET)
Received: from mails.dpdk.org (localhost [127.0.0.1])
	by mails.dpdk.org (Postfix) with ESMTP id 136784026E;
	Tue, 27 Feb 2024 21:04:56 +0100 (CET)
Received: from mail-ot1-f97.google.com (mail-ot1-f97.google.com
 [209.85.210.97]) by mails.dpdk.org (Postfix) with ESMTP id B39D640150
 for <test-report@dpdk.org>; Tue, 27 Feb 2024 21:04:54 +0100 (CET)
Received: by mail-ot1-f97.google.com with SMTP id
 46e09a7af769-6ddf26eba3cso3701903a34.0
 for <test-report@dpdk.org>; Tue, 27 Feb 2024 12:04:54 -0800 (PST)
DKIM-Signature: v=1; a=rsa-sha256; c=relaxed/relaxed;
 d=iol.unh.edu; s=unh-iol; t=1709064294; x=1709669094; darn=dpdk.org;
 h=references:in-reply-to:cc:to:from:subject:message-id:date:from:to
 :cc:subject:date:message-id:reply-to;
 bh=I5e1UbAZG01fueExHHO8mgjz7NLzBzOtXqt8I2MomqQ=;
 b=cMHIOw7X6wAkVSg7lF8imquWlFLTyWi0/sOzZbQzDMbZaq0XxFxThfgEB7Pl5586yF
 qWQ8MycxmHH5TeCCuSgDlQ7OnxoZvXnj9z5lY9BoWeO0z/HCd2U3sYBt9u8z419ofE3k
 IfAhlsctIZMtvKHP+i8uqRwGW171LiPhoqo6Y=
X-Google-DKIM-Signature: v=1; a=rsa-sha256; c=relaxed/relaxed;
 d=1e100.net; s=20230601; t=1709064294; x=1709669094;
 h=references:in-reply-to:cc:to:from:subject:message-id:date
 :x-gm-message-state:from:to:cc:subject:date:message-id:reply-to;
 bh=I5e1UbAZG01fueExHHO8mgjz7NLzBzOtXqt8I2MomqQ=;
 b=jeEQftKpxLmLxhwGhlQ5l7dCgS57+peGAKwIMcKJ0LQn54IGC0/u4CtiEDEsf1OX1U
 3gTxLMS1O/24O/CkPL7lxCLD8cCOFD1lWNK6aQSdvH3Rlqi3FEJ1j59I8U5/juPhxhFJ
 Ipse1v4+3+pCYwl6L8OYzQOxn1RND6B6m1uxWdpKQIi103v5J1jtRXsrrmTe31v8Oxp3
 WMEH99C11leVJkTcrl1Fv+5op95aa0NHTJuj45DAhxlTTrFMSiPfc+Cp9PyHMKUdkoEs
 Dl/GYVpNOXMZ2LAUZGn4G5VOsUHpgLCXXMjDhiPTaRBMNkEYd7tB780NeMm8O4ZhdsWz
 ihBA==
X-Gm-Message-State: AOJu0YzVYo5qDtUyGmWO4y3TSvV8MK/baz5qX1KXxEthdBieXdyjBoKi
 W8edpsjE9aqRpI7DbQVFkqc1GwKviea/31sVGousdWobI1tNnOEM6q14HniPM4T2ugTD9LfO6Yb
 p8qCnSLIdrFehbGrdEOLllxuRoiAeypQhmddbStNX
X-Google-Smtp-Source: AGHT+IHgS8O4h1flyxm0OUyvWpQScei+4KCFCYMQLVyYM8dbguyaQqqHWd5PUjO7Ku7s/jTEnmlU0xaAE86V
X-Received: by 2002:a05:6870:e38d:b0:21e:df09:9a07 with SMTP id
 x13-20020a056870e38d00b0021edf099a07mr13451013oad.5.1709064294009; 
 Tue, 27 Feb 2024 12:04:54 -0800 (PST)
Received: from postal.iol.unh.edu (postal.iol.unh.edu. [132.177.123.84])
 by smtp-relay.gmail.com with ESMTPS id
 r9-20020a056870624900b00214904530d0sm157709oak.13.2024.02.27.12.04.53
 (version=TLS1_2 cipher=ECDHE-ECDSA-AES128-GCM-SHA256 bits=128/128);
 Tue, 27 Feb 2024 12:04:53 -0800 (PST)
X-Relaying-Domain: iol.unh.edu
Date: Tue, 27 Feb 2024 12:04:53 -0800 (PST)
Message-ID: <65de4065.050a0220.aac0d.a693SMTPIN_ADDED_MISSING@mx.google.com>
Received: from [172.21.0.6] (unknown [172.18.0.240])
 by postal.iol.unh.edu (Postfix) with ESMTP id 80B2F6043300;
 Tue, 27 Feb 2024 15:04:53 -0500 (EST)
Subject: |SUCCESS| pw137339 [PATCH] [v4] vhost: enhance virtqueue access lock
From: dpdklab@iol.unh.edu
To: Test Report <test-report@dpdk.org>
Cc: dpdk-test-reports@iol.unh.edu
In-Reply-To: <20240227103903.1338151-1-david.marchand@redhat.com>
References: <20240227103903.1338151-1-david.marchand@redhat.com>
Content-Type: text/plain
X-BeenThere: test-report@dpdk.org
X-Mailman-Version: 2.1.29
Precedence: list
List-Id: automatic DPDK test reports <test-report.dpdk.org>
List-Unsubscribe: <https://mails.dpdk.org/options/test-report>,
 <mailto:test-report-request@dpdk.org?subject=unsubscribe>
List-Archive: <http://mails.dpdk.org/archives/test-report/>
List-Post: <mailto:test-report@dpdk.org>
List-Help: <mailto:test-report-request@dpdk.org?subject=help>
List-Subscribe: <https://mails.dpdk.org/listinfo/test-report>,
 <mailto:test-report-request@dpdk.org?subject=subscribe>
Errors-To: test-report-bounces@dpdk.org

Test-Label: iol-unit-arm64-testing
Test-Status: SUCCESS
http://dpdk.org/patch/137339

_Testing PASS_

Submitter: David Marchand <david.marchand@redhat.com>
Date: Tuesday, February 27 2024 10:39:03 
DPDK git baseline: Repo:dpdk
  Branch: master
  CommitID:92c0ad70caf3ed6f4b93de6ddaf7bc369737c049

137339 --> testing pass

Test environment and result as below:

+--------------------------+----------------+------------------------------+---------------------------+--------------+
|       Environment        | dpdk_unit_test | cryptodev_sw_snow3g_autotest | cryptodev_sw_zuc_autotest | lpm_autotest |
+==========================+================+==============================+===========================+==============+
| Debian 12 (arm)          | PASS           | PASS                         | PASS                      | SKIPPED      |
+--------------------------+----------------+------------------------------+---------------------------+--------------+
| CentOS Stream 9 (ARM)    | PASS           | SKIPPED                      | SKIPPED                   | SKIPPED      |
+--------------------------+----------------+------------------------------+---------------------------+--------------+
| Debian 11 (Buster) (ARM) | PASS           | SKIPPED                      | SKIPPED                   | SKIPPED      |
+--------------------------+----------------+------------------------------+---------------------------+--------------+
| Fedora 37 (ARM)          | PASS           | SKIPPED                      | SKIPPED                   | SKIPPED      |
+--------------------------+----------------+------------------------------+---------------------------+--------------+
| Fedora 38 (ARM)          | PASS           | SKIPPED                      | SKIPPED                   | SKIPPED      |
+--------------------------+----------------+------------------------------+---------------------------+--------------+
| Ubuntu 20.04 (ARM)       | PASS           | SKIPPED                      | SKIPPED                   | SKIPPED      |
+--------------------------+----------------+------------------------------+---------------------------+--------------+
| Fedora 38 (ARM Clang)    | PASS           | SKIPPED                      | SKIPPED                   | SKIPPED      |
+--------------------------+----------------+------------------------------+---------------------------+--------------+
| Ubuntu 20.04 ARM SVE     | SKIPPED        | SKIPPED                      | SKIPPED                   | PASS         |
+--------------------------+----------------+------------------------------+---------------------------+--------------+


Debian 12 (arm)
	Kernel: Container Host Kernel
	Compiler: gcc 11

CentOS Stream 9 (ARM)
	Kernel: Container Host Kernel
	Compiler: gcc 11.3.1

Debian 11 (Buster) (ARM)
	Kernel: Container Host Kernel
	Compiler: gcc 10.2.1

Fedora 37 (ARM)
	Kernel: Depends on container host
	Compiler: gcc 12.3.1

Fedora 38 (ARM)
	Kernel: Depends on container host
	Compiler: gcc 13.1.1

Ubuntu 20.04 (ARM)
	Kernel: Container Host Kernel
	Compiler: gcc 9.4.0

Fedora 38 (ARM Clang)
	Kernel: Depends on container host
	Compiler: clang 16.0.3

Ubuntu 20.04 ARM SVE
	Kernel: 5.4.0-80-generic
	Compiler: gcc 10.3.0 (Ubuntu 10.3.0-1ubuntu1~20.04)

To view detailed results, visit:
https://lab.dpdk.org/results/dashboard/patchsets/29283/

UNH-IOL DPDK Community Lab

To manage your email subscriptions, visit: 
https://lab.dpdk.org/results/dashboard/preferences/subscriptions/