From mboxrd@z Thu Jan  1 00:00:00 1970
Return-Path: <test-report-bounces@dpdk.org>
Received: from mails.dpdk.org (mails.dpdk.org [217.70.189.124])
	by inbox.dpdk.org (Postfix) with ESMTP id 9081843BF0
	for <public@inbox.dpdk.org>; Tue, 27 Feb 2024 21:24:14 +0100 (CET)
Received: from mails.dpdk.org (localhost [127.0.0.1])
	by mails.dpdk.org (Postfix) with ESMTP id 84FC940A81;
	Tue, 27 Feb 2024 21:24:14 +0100 (CET)
Received: from mail-yw1-f227.google.com (mail-yw1-f227.google.com
 [209.85.128.227])
 by mails.dpdk.org (Postfix) with ESMTP id A5D2640150
 for <test-report@dpdk.org>; Tue, 27 Feb 2024 21:24:12 +0100 (CET)
Received: by mail-yw1-f227.google.com with SMTP id
 00721157ae682-607eefeea90so1775897b3.1
 for <test-report@dpdk.org>; Tue, 27 Feb 2024 12:24:12 -0800 (PST)
DKIM-Signature: v=1; a=rsa-sha256; c=relaxed/relaxed;
 d=iol.unh.edu; s=unh-iol; t=1709065452; x=1709670252; darn=dpdk.org;
 h=references:in-reply-to:cc:to:from:subject:message-id:date:from:to
 :cc:subject:date:message-id:reply-to;
 bh=/j1AmYRalNhCWNTcZ0AkUE/UHZ1npOTgpt4bMhPqeJQ=;
 b=SszAUUXuOoD4fMz4brorPfSEPBKGwLHs2kF9sWLZ7WT50MBmnIqEXMja6gnB8UAjNR
 ZK1T3IY9Nn0fy/fllxi4SBjG0W6lwpxLSfbnU1sxHk9i9D6Pj0CkjkXZ0xJNv3mLYYqI
 ahcbIseB9aI/6p2CO/YS0dM+rcYTkIic+wYCQ=
X-Google-DKIM-Signature: v=1; a=rsa-sha256; c=relaxed/relaxed;
 d=1e100.net; s=20230601; t=1709065452; x=1709670252;
 h=references:in-reply-to:cc:to:from:subject:message-id:date
 :x-gm-message-state:from:to:cc:subject:date:message-id:reply-to;
 bh=/j1AmYRalNhCWNTcZ0AkUE/UHZ1npOTgpt4bMhPqeJQ=;
 b=s8SNQlyIMvixrV+oRT9R5uT+4HB6tKjWB4PjW8kOYo7Sy99HenEq8o+4kmDZQfAcGq
 E0PpBjl8h3uaq8b3XRwQxebGMOZpJ0wNT5IkT/N5V4j8+v2Kd+2BzSOK4Js20sItZmCm
 62RRAymzSZ43B4VRWvXu+QCLO0o1FALrtRAiBIujRuRiwT06ebt29QLgbA07xwLf8OVU
 PSEWG4WLTZeit07vasyYVhiZX6c6EE2qzxC3UfAfqc7SFJ3h5LpTR1qzVTEFaFLYRLgs
 sqUUH8ve6+KxbtPckzHqi2g9whVnSJrv9TG4rwKIga9AnUlHNNkqsfq3uHCoe+UkiEMn
 Z7oA==
X-Gm-Message-State: AOJu0YzKpthip9tyPCpYchCMbczoj1HgxhgaLWjRDplYvvTL3jXyDp8L
 cUMz9hA7XPL4B8OI2S/JNboEgUSOXTeiT7dXozf7L7HFV58UeUdsXWjuWINutXjpdqUpAOishO3
 IfAgiP6/arzSecvKVfo01w5lQHbCFm7ep0ZxhBLWK
X-Google-Smtp-Source: AGHT+IHtvjeTNtcfcJfJMK587guH/z6154TfKiv0eIGkI65AR3+mD93NiFS8fBuKP1P5QylV/BrqhAzdmSqj
X-Received: by 2002:a81:b284:0:b0:608:cc10:f4f4 with SMTP id
 q126-20020a81b284000000b00608cc10f4f4mr356102ywh.16.1709065452080; 
 Tue, 27 Feb 2024 12:24:12 -0800 (PST)
Received: from postal.iol.unh.edu (postal.iol.unh.edu. [132.177.123.84])
 by smtp-relay.gmail.com with ESMTPS id
 t10-20020a815f0a000000b0060929b7a242sm127964ywb.78.2024.02.27.12.24.12
 (version=TLS1_2 cipher=ECDHE-ECDSA-AES128-GCM-SHA256 bits=128/128);
 Tue, 27 Feb 2024 12:24:12 -0800 (PST)
X-Relaying-Domain: iol.unh.edu
Date: Tue, 27 Feb 2024 12:24:12 -0800 (PST)
Message-ID: <65de44ec.810a0220.8528b.80e0SMTPIN_ADDED_MISSING@mx.google.com>
Received: from [172.21.0.8] (unknown [172.18.0.240])
 by postal.iol.unh.edu (Postfix) with ESMTP id B89746043300;
 Tue, 27 Feb 2024 15:24:11 -0500 (EST)
Subject: |SUCCESS| pw137349-137350 [PATCH] [v4,2/2] net/mlx5: add cross port 
From: dpdklab@iol.unh.edu
To: Test Report <test-report@dpdk.org>
Cc: dpdk-test-reports@iol.unh.edu
In-Reply-To: <20240227133714.12705-3-dsosnowski@nvidia.com>
References: <20240227133714.12705-3-dsosnowski@nvidia.com>
Content-Type: text/plain
X-BeenThere: test-report@dpdk.org
X-Mailman-Version: 2.1.29
Precedence: list
List-Id: automatic DPDK test reports <test-report.dpdk.org>
List-Unsubscribe: <https://mails.dpdk.org/options/test-report>,
 <mailto:test-report-request@dpdk.org?subject=unsubscribe>
List-Archive: <http://mails.dpdk.org/archives/test-report/>
List-Post: <mailto:test-report@dpdk.org>
List-Help: <mailto:test-report-request@dpdk.org?subject=help>
List-Subscribe: <https://mails.dpdk.org/listinfo/test-report>,
 <mailto:test-report-request@dpdk.org?subject=subscribe>
Errors-To: test-report-bounces@dpdk.org

Test-Label: iol-abi-testing
Test-Status: SUCCESS
http://dpdk.org/patch/137350

_Testing PASS_

Submitter: Dariusz Sosnowski <dsosnowski@nvidia.com>
Date: Tuesday, February 27 2024 13:37:14 
DPDK git baseline: Repo:dpdk
  Branch: master
  CommitID:fdcd099fbaa513409ea4185b2362d9d6623cf26e

137349-137350 --> testing pass

Test environment and result as below:

+------------------+----------+
|   Environment    | abi_test |
+==================+==========+
| Debian Bullseye  | PASS     |
+------------------+----------+
| CentOS Stream 9  | PASS     |
+------------------+----------+
| CentOS Stream 8  | PASS     |
+------------------+----------+
| Ubuntu 22.04     | PASS     |
+------------------+----------+
| openSUSE Leap 15 | PASS     |
+------------------+----------+
| Fedora 38        | PASS     |
+------------------+----------+
| RHEL8            | PASS     |
+------------------+----------+
| Fedora 37        | PASS     |
+------------------+----------+
| Debian 12 (arm)  | PASS     |
+------------------+----------+


Debian Bullseye
	Kernel: 5.4.0-122-generic
	Compiler: gcc 10.2.1-6

CentOS Stream 9
	Kernel: 4.18.0-240.10.1.el8_3.x86_64
	Compiler: gcc 11.3.1 20220421

CentOS Stream 8
	Kernel: 4.18.0-240.10.1.el8_3.x86_64
	Compiler: gcc 8.4.1 20200928

Ubuntu 22.04
	Kernel: 4.18.0-240.10.1.el8_3.x86_64
	Compiler: gcc 11.3.0

openSUSE Leap 15
	Kernel: 4.18.0-240.10.1.el8_3.x86_64
	Compiler: gcc 7.5.0

Fedora 38
	Kernel: Depends on container host
	Compiler: gcc 13.1.1

RHEL8
	Kernel: 4.18.0-240.10.1.el8_3.x86_64
	Compiler: gcc 8.3.1 20191121 (Red Hat 8.3.1-5)

Fedora 37
	Kernel: Depends on container host system
	Compiler: gcc 12.3.1

Debian 12 (arm)
	Kernel: Container Host Kernel
	Compiler: gcc 11

To view detailed results, visit:
https://lab.dpdk.org/results/dashboard/patchsets/29288/

UNH-IOL DPDK Community Lab

To manage your email subscriptions, visit: 
https://lab.dpdk.org/results/dashboard/preferences/subscriptions/