From mboxrd@z Thu Jan  1 00:00:00 1970
Return-Path: <test-report-bounces@dpdk.org>
Received: from mails.dpdk.org (mails.dpdk.org [217.70.189.124])
	by inbox.dpdk.org (Postfix) with ESMTP id 3B9E843BF0
	for <public@inbox.dpdk.org>; Tue, 27 Feb 2024 21:59:34 +0100 (CET)
Received: from mails.dpdk.org (localhost [127.0.0.1])
	by mails.dpdk.org (Postfix) with ESMTP id 3823640A7F;
	Tue, 27 Feb 2024 21:59:34 +0100 (CET)
Received: from mail-yb1-f226.google.com (mail-yb1-f226.google.com
 [209.85.219.226])
 by mails.dpdk.org (Postfix) with ESMTP id 4703F4026E
 for <test-report@dpdk.org>; Tue, 27 Feb 2024 21:59:17 +0100 (CET)
Received: by mail-yb1-f226.google.com with SMTP id
 3f1490d57ef6-dcbf82cdf05so4873313276.2
 for <test-report@dpdk.org>; Tue, 27 Feb 2024 12:59:17 -0800 (PST)
DKIM-Signature: v=1; a=rsa-sha256; c=relaxed/relaxed;
 d=iol.unh.edu; s=unh-iol; t=1709067556; x=1709672356; darn=dpdk.org;
 h=references:in-reply-to:cc:to:from:subject:message-id:date:from:to
 :cc:subject:date:message-id:reply-to;
 bh=jn/PqtMqbMqqH1rWUVAAH8K7ZxRB/Q1zlNuJ/Jx7L6I=;
 b=IRSI7hjsJva8Plm2yyXCpc8EURi0kXg1UoZUwIxUwjhBmeErqG/6j5i+zw7I+BXWTE
 TFxM+fMnh6wnqvqbqK8JrgI/8Y2d2r8jXUUTRfB2J7ZXLh5JALgWFhgzVg1Nkoxfe9sj
 n2fflgOAroCbts2bMgFXjArfOAwqN7Gnv02vk=
X-Google-DKIM-Signature: v=1; a=rsa-sha256; c=relaxed/relaxed;
 d=1e100.net; s=20230601; t=1709067556; x=1709672356;
 h=references:in-reply-to:cc:to:from:subject:message-id:date
 :x-gm-message-state:from:to:cc:subject:date:message-id:reply-to;
 bh=jn/PqtMqbMqqH1rWUVAAH8K7ZxRB/Q1zlNuJ/Jx7L6I=;
 b=nh9YX91Qo+ny1+04DNvHiQc/BIBzT6BnIDtZYEt6aHaZojn/naNe7Na8Q8SIOT989G
 3WaR+xsC90p8vAbg4YjaBcg4rGdadjzFdEjrsKDxerYgPxno4COiF105qDbWzDvHWPm6
 pIwy2Uot/zwGeoA1HCkoS6JXYnmTu/qXtRbzBUym3Kz9T440W7+wuk5I5pI71y+3m1g0
 QoYWtphl4H0NbCc5U/XlIIA9VvUwkLfaph8G2IrdSIZAgLxkhpvYl30M8fyFzJvG59Jo
 pyrvEBZCHY6c7AaYN1my6SP33hr81sU8t95eKmHH08BkfbIninl+vEUh0DROoxfE54UV
 r2ow==
X-Gm-Message-State: AOJu0YxkzJb3Q+Ff2cLCaAva57hLX6V91DYaB8r22IFjfgNAHGbYdEDZ
 XlhvFDFgUfIbmgXQViWKVYXZ8ABJk6sYNUNJDgaLovCDeFkE1UORo1Q8EQPrkngjgMH70QgEy0+
 DY0dKw7j3sHT/OW0StKoJ6iTThIzVWFU9NPpKPzU8
X-Google-Smtp-Source: AGHT+IHk9ZnKge/mmG6u9Ganf2Unccn5yEWk5bq7CTuJOc8kqlUxLbaKnzydyXOwBjC020GphY1I5Ycp0hA4
X-Received: by 2002:a5b:b0a:0:b0:dcd:98bd:7cc8 with SMTP id
 z10-20020a5b0b0a000000b00dcd98bd7cc8mr564395ybp.48.1709067556634; 
 Tue, 27 Feb 2024 12:59:16 -0800 (PST)
Received: from postal.iol.unh.edu (postal.iol.unh.edu. [132.177.123.84])
 by smtp-relay.gmail.com with ESMTPS id
 u2-20020a25c402000000b00dc246c69794sm352382ybf.16.2024.02.27.12.59.16
 (version=TLS1_2 cipher=ECDHE-ECDSA-AES128-GCM-SHA256 bits=128/128);
 Tue, 27 Feb 2024 12:59:16 -0800 (PST)
X-Relaying-Domain: iol.unh.edu
Date: Tue, 27 Feb 2024 12:59:16 -0800 (PST)
Message-ID: <65de4d24.250a0220.d0304.7195SMTPIN_ADDED_MISSING@mx.google.com>
Received: from [172.17.0.6] (unknown [172.18.0.217])
 by postal.iol.unh.edu (Postfix) with ESMTP id 4B2F96052712;
 Tue, 27 Feb 2024 15:59:16 -0500 (EST)
Subject: |SUCCESS| pw137344-137346 [PATCH] [v5,4/4] test/cryptodev: add tests
From: dpdklab@iol.unh.edu
To: Test Report <test-report@dpdk.org>
Cc: dpdk-test-reports@iol.unh.edu
In-Reply-To: <20240227113345.863082-5-nishikanta.nayak@intel.com>
References: <20240227113345.863082-5-nishikanta.nayak@intel.com>
Content-Type: text/plain
X-BeenThere: test-report@dpdk.org
X-Mailman-Version: 2.1.29
Precedence: list
List-Id: automatic DPDK test reports <test-report.dpdk.org>
List-Unsubscribe: <https://mails.dpdk.org/options/test-report>,
 <mailto:test-report-request@dpdk.org?subject=unsubscribe>
List-Archive: <http://mails.dpdk.org/archives/test-report/>
List-Post: <mailto:test-report@dpdk.org>
List-Help: <mailto:test-report-request@dpdk.org?subject=help>
List-Subscribe: <https://mails.dpdk.org/listinfo/test-report>,
 <mailto:test-report-request@dpdk.org?subject=subscribe>
Errors-To: test-report-bounces@dpdk.org

Test-Label: iol-unit-arm64-testing
Test-Status: SUCCESS
http://dpdk.org/patch/137346

_Testing PASS_

Submitter: Nishikant Nayak <nishikanta.nayak@intel.com>
Date: Tuesday, February 27 2024 11:33:45 
DPDK git baseline: Repo:dpdk
  Branch: master
  CommitID:92c0ad70caf3ed6f4b93de6ddaf7bc369737c049

137344-137346 --> testing pass

Test environment and result as below:

+--------------------------+---------------------------+------------------------------+----------------+--------------+
|       Environment        | cryptodev_sw_zuc_autotest | cryptodev_sw_snow3g_autotest | dpdk_unit_test | lpm_autotest |
+==========================+===========================+==============================+================+==============+
| Debian 12 (arm)          | PASS                      | PASS                         | PASS           | SKIPPED      |
+--------------------------+---------------------------+------------------------------+----------------+--------------+
| Fedora 37 (ARM)          | SKIPPED                   | SKIPPED                      | PASS           | SKIPPED      |
+--------------------------+---------------------------+------------------------------+----------------+--------------+
| Fedora 38 (ARM)          | SKIPPED                   | SKIPPED                      | PASS           | SKIPPED      |
+--------------------------+---------------------------+------------------------------+----------------+--------------+
| CentOS Stream 9 (ARM)    | SKIPPED                   | SKIPPED                      | PASS           | SKIPPED      |
+--------------------------+---------------------------+------------------------------+----------------+--------------+
| Debian 11 (Buster) (ARM) | SKIPPED                   | SKIPPED                      | PASS           | SKIPPED      |
+--------------------------+---------------------------+------------------------------+----------------+--------------+
| Ubuntu 20.04 (ARM)       | SKIPPED                   | SKIPPED                      | PASS           | SKIPPED      |
+--------------------------+---------------------------+------------------------------+----------------+--------------+
| Ubuntu 20.04 ARM SVE     | SKIPPED                   | SKIPPED                      | SKIPPED        | PASS         |
+--------------------------+---------------------------+------------------------------+----------------+--------------+


Debian 12 (arm)
	Kernel: Container Host Kernel
	Compiler: gcc 11

Fedora 37 (ARM)
	Kernel: Depends on container host
	Compiler: gcc 12.3.1

Fedora 38 (ARM)
	Kernel: Depends on container host
	Compiler: gcc 13.1.1

CentOS Stream 9 (ARM)
	Kernel: Container Host Kernel
	Compiler: gcc 11.3.1

Debian 11 (Buster) (ARM)
	Kernel: Container Host Kernel
	Compiler: gcc 10.2.1

Ubuntu 20.04 (ARM)
	Kernel: Container Host Kernel
	Compiler: gcc 9.4.0

Ubuntu 20.04 ARM SVE
	Kernel: 5.4.0-80-generic
	Compiler: gcc 10.3.0 (Ubuntu 10.3.0-1ubuntu1~20.04)

To view detailed results, visit:
https://lab.dpdk.org/results/dashboard/patchsets/29286/

UNH-IOL DPDK Community Lab

To manage your email subscriptions, visit: 
https://lab.dpdk.org/results/dashboard/preferences/subscriptions/