From mboxrd@z Thu Jan  1 00:00:00 1970
Return-Path: <test-report-bounces@dpdk.org>
Received: from mails.dpdk.org (mails.dpdk.org [217.70.189.124])
	by inbox.dpdk.org (Postfix) with ESMTP id 1CE6C43B6A
	for <public@inbox.dpdk.org>; Tue, 27 Feb 2024 22:01:41 +0100 (CET)
Received: from mails.dpdk.org (localhost [127.0.0.1])
	by mails.dpdk.org (Postfix) with ESMTP id 16C0440E32;
	Tue, 27 Feb 2024 22:01:41 +0100 (CET)
Received: from mail-pl1-f225.google.com (mail-pl1-f225.google.com
 [209.85.214.225])
 by mails.dpdk.org (Postfix) with ESMTP id D0D9240150
 for <test-report@dpdk.org>; Tue, 27 Feb 2024 22:01:21 +0100 (CET)
Received: by mail-pl1-f225.google.com with SMTP id
 d9443c01a7336-1dc49afb495so41000755ad.2
 for <test-report@dpdk.org>; Tue, 27 Feb 2024 13:01:21 -0800 (PST)
DKIM-Signature: v=1; a=rsa-sha256; c=relaxed/relaxed;
 d=iol.unh.edu; s=unh-iol; t=1709067681; x=1709672481; darn=dpdk.org;
 h=references:in-reply-to:cc:to:from:subject:message-id:date:from:to
 :cc:subject:date:message-id:reply-to;
 bh=2Qv/h+YrDfn8U6kIrtCxRpxSod6xoZThNpcqCUPdQm4=;
 b=FLO3C0j+VjfcDKcI3ag/oCRD8v5vlXXczMwDPzIrpP/N7G64oMqXsCXmIx2D2oRu5r
 fnTsOiuZe9+FsocZDW3bmUDXbqJr53tDJ8ROBj6JYLNjlSlpJl6Y+nAJm3kclBX5tTs5
 g0JM/xvnALyvXH7qfnSdrbaNs3RvNWa87pzaE=
X-Google-DKIM-Signature: v=1; a=rsa-sha256; c=relaxed/relaxed;
 d=1e100.net; s=20230601; t=1709067681; x=1709672481;
 h=references:in-reply-to:cc:to:from:subject:message-id:date
 :x-gm-message-state:from:to:cc:subject:date:message-id:reply-to;
 bh=2Qv/h+YrDfn8U6kIrtCxRpxSod6xoZThNpcqCUPdQm4=;
 b=BlsucToNgTzWmfRC/2mMf3HIfCslAlY/ISignPIjkqzT6vqbLgumilJ2WurpLT0NJ3
 rH2fCcKorQO4HNf8n9xDdSknySTiRHCz5/64tabiJcddD665Q5HaMjMR5t/VFNaFegpR
 8x4bb194diheUj1/VJtgjHxg4aafNSOLuR4cIfQVYMU7iqyB8Rs0g7+6n+/Hm9L3WUyQ
 i28AlEOk8tCSyNnzEkcnRAWqIRGGfVBKoJj4kMvrqXmWJ51KbdA499XiAddcfOcRUysr
 Xx3wDVFNhFKJhDpVmZ8QWD8fYo1CVkizCss1e6uzmTKBbQR/Br5qeyekqNPiUwXD8Eb4
 ba8A==
X-Gm-Message-State: AOJu0YxFC1oeFvMfqKa8Sm2yUr0rTv7gvoiq9lm3oi/JzeGE3Mz4A3MI
 69tJ4juALfkyj5R4JfjaUaefo0EMTuTfanf14JzcpByCn+TIfWSaUMcfXANje8y/lcy/ug7QpQy
 lIMv1snV0ZSdwna50L+z60fE6bBl16ti6ZWbErTFidETN1ldQ9todAQ29
X-Google-Smtp-Source: AGHT+IFZrRRVWjZ0o3Lfu/STzxntB+PwS/COc3udWiH0Uqm1bbYVbz2iQncBXBTX95I66P1IdpvYpvSSauBg
X-Received: by 2002:a17:902:b68e:b0:1dc:a647:6979 with SMTP id
 c14-20020a170902b68e00b001dca6476979mr6126890pls.58.1709067681023; 
 Tue, 27 Feb 2024 13:01:21 -0800 (PST)
Received: from postal.iol.unh.edu (postal.iol.unh.edu.
 [2606:4100:3880:1234::84]) by smtp-relay.gmail.com with ESMTPS id
 h8-20020a170902b94800b001dba739d18bsm81263pls.88.2024.02.27.13.01.20
 (version=TLS1_2 cipher=ECDHE-ECDSA-AES128-GCM-SHA256 bits=128/128);
 Tue, 27 Feb 2024 13:01:21 -0800 (PST)
X-Relaying-Domain: iol.unh.edu
Date: Tue, 27 Feb 2024 13:01:21 -0800 (PST)
Message-ID: <65de4da1.170a0220.c5594.52aaSMTPIN_ADDED_MISSING@mx.google.com>
Received: from [172.17.0.7] (unknown [172.18.0.217])
 by postal.iol.unh.edu (Postfix) with ESMTP id 31EB16052712;
 Tue, 27 Feb 2024 16:01:20 -0500 (EST)
Subject: |SUCCESS| pw137344-137346 [PATCH] [v5,4/4] test/cryptodev: add tests
From: dpdklab@iol.unh.edu
To: Test Report <test-report@dpdk.org>
Cc: dpdk-test-reports@iol.unh.edu
In-Reply-To: <20240227113345.863082-5-nishikanta.nayak@intel.com>
References: <20240227113345.863082-5-nishikanta.nayak@intel.com>
Content-Type: text/plain
X-BeenThere: test-report@dpdk.org
X-Mailman-Version: 2.1.29
Precedence: list
List-Id: automatic DPDK test reports <test-report.dpdk.org>
List-Unsubscribe: <https://mails.dpdk.org/options/test-report>,
 <mailto:test-report-request@dpdk.org?subject=unsubscribe>
List-Archive: <http://mails.dpdk.org/archives/test-report/>
List-Post: <mailto:test-report@dpdk.org>
List-Help: <mailto:test-report-request@dpdk.org?subject=help>
List-Subscribe: <https://mails.dpdk.org/listinfo/test-report>,
 <mailto:test-report-request@dpdk.org?subject=subscribe>
Errors-To: test-report-bounces@dpdk.org

Test-Label: iol-compile-amd64-testing
Test-Status: SUCCESS
http://dpdk.org/patch/137346

_Testing PASS_

Submitter: Nishikant Nayak <nishikanta.nayak@intel.com>
Date: Tuesday, February 27 2024 11:33:45 
DPDK git baseline: Repo:dpdk
  Branch: master
  CommitID:92c0ad70caf3ed6f4b93de6ddaf7bc369737c049

137344-137346 --> testing pass

Test environment and result as below:

+------------------+--------------------+
|   Environment    | dpdk_meson_compile |
+==================+====================+
| FreeBSD 13.2     | PASS               |
+------------------+--------------------+
| CentOS Stream 8  | PASS               |
+------------------+--------------------+
| CentOS Stream 9  | PASS               |
+------------------+--------------------+
| Debian Bullseye  | PASS               |
+------------------+--------------------+
| openSUSE Leap 15 | PASS               |
+------------------+--------------------+
| RHEL8            | PASS               |
+------------------+--------------------+
| Fedora 38        | PASS               |
+------------------+--------------------+
| Fedora 37        | PASS               |
+------------------+--------------------+
| Ubuntu 22.04     | PASS               |
+------------------+--------------------+
| Alpine           | PASS               |
+------------------+--------------------+
| Ubuntu 20.04     | PASS               |
+------------------+--------------------+
| Debian 12 (arm)  | PASS               |
+------------------+--------------------+


FreeBSD 13.2
	Kernel: 13.2
	Compiler: clang 11.3.0

CentOS Stream 8
	Kernel: 4.18.0-240.10.1.el8_3.x86_64
	Compiler: gcc 8.4.1 20200928

CentOS Stream 9
	Kernel: 4.18.0-240.10.1.el8_3.x86_64
	Compiler: gcc 11.3.1 20220421

Debian Bullseye
	Kernel: 5.4.0-122-generic
	Compiler: gcc 10.2.1-6

openSUSE Leap 15
	Kernel: 4.18.0-240.10.1.el8_3.x86_64
	Compiler: gcc 7.5.0

RHEL8
	Kernel: 4.18.0-240.10.1.el8_3.x86_64
	Compiler: gcc 8.3.1 20191121 (Red Hat 8.3.1-5)

Fedora 38
	Kernel: Depends on container host
	Compiler: gcc 13.1.1

Fedora 37
	Kernel: Depends on container host system
	Compiler: gcc 12.3.1

Ubuntu 22.04
	Kernel: 4.18.0-240.10.1.el8_3.x86_64
	Compiler: gcc 11.3.0

Alpine
	Kernel: 5.4.0-73-generic
	Compiler: gcc (Alpine 10.3.1_git20210424) 10.3.1 20210424

Ubuntu 20.04
	Kernel: 5.4.0-153-generic
	Compiler: gcc 9.4.0-1ubuntu1~20.04.1

Debian 12 (arm)
	Kernel: Container Host Kernel
	Compiler: gcc 11

To view detailed results, visit:
https://lab.dpdk.org/results/dashboard/patchsets/29286/

UNH-IOL DPDK Community Lab

To manage your email subscriptions, visit: 
https://lab.dpdk.org/results/dashboard/preferences/subscriptions/