From mboxrd@z Thu Jan  1 00:00:00 1970
Return-Path: <test-report-bounces@dpdk.org>
Received: from mails.dpdk.org (mails.dpdk.org [217.70.189.124])
	by inbox.dpdk.org (Postfix) with ESMTP id 4C14843BF7
	for <public@inbox.dpdk.org>; Tue, 27 Feb 2024 22:02:28 +0100 (CET)
Received: from mails.dpdk.org (localhost [127.0.0.1])
	by mails.dpdk.org (Postfix) with ESMTP id 47A434026E;
	Tue, 27 Feb 2024 22:02:28 +0100 (CET)
Received: from mail-io1-f100.google.com (mail-io1-f100.google.com
 [209.85.166.100])
 by mails.dpdk.org (Postfix) with ESMTP id E91A540150
 for <test-report@dpdk.org>; Tue, 27 Feb 2024 22:01:41 +0100 (CET)
Received: by mail-io1-f100.google.com with SMTP id
 ca18e2360f4ac-7bb5fda069bso274249239f.0
 for <test-report@dpdk.org>; Tue, 27 Feb 2024 13:01:41 -0800 (PST)
DKIM-Signature: v=1; a=rsa-sha256; c=relaxed/relaxed;
 d=iol.unh.edu; s=unh-iol; t=1709067701; x=1709672501; darn=dpdk.org;
 h=references:in-reply-to:cc:to:from:subject:message-id:date:from:to
 :cc:subject:date:message-id:reply-to;
 bh=j6EO229UFy1eL4J2BFx0bwIsAfZ63fqYLzi2jY5Cg7g=;
 b=LkjS60RpqwhhGE83dF790buhleaWDrmTUEltWK35uMER25f7Gm2ND/Ff7QCecwhtjM
 WU1HztO5ruMlinhvoPwYGdCekw41Dk9cORtv4J8rrUf5xQ+AYQHwOOO/Yx4FqF32kx43
 UO9SNkCKBJlJywF47XOS0M6k9m6RVvOWWXigE=
X-Google-DKIM-Signature: v=1; a=rsa-sha256; c=relaxed/relaxed;
 d=1e100.net; s=20230601; t=1709067701; x=1709672501;
 h=references:in-reply-to:cc:to:from:subject:message-id:date
 :x-gm-message-state:from:to:cc:subject:date:message-id:reply-to;
 bh=j6EO229UFy1eL4J2BFx0bwIsAfZ63fqYLzi2jY5Cg7g=;
 b=qYvX7n/dKV/aaXVl+mh9d3wMLiR/tLj0viTz2fMT/DI7IrziN+QQpNzNvtb1AfMsfR
 bIF/YvlV60RkYS6vQxLuO2x48yz875i9tcQYbyQCCtRqJzdkRCFdZ16WdLbeF3AanH3J
 2TzUV0R0218OixZlXwEkI6dBbfC7NSVt/AV/qHOsRjgL972R98H7EZUeOhxDc+vP4wKV
 Q2QgnaCX1gwIFDa2jB0t71hgINYGRN05bBGwn0CRdUOUu2qumIZgXaDv8Vxs/Y8/+B86
 IF6FJlqK7XL3SNLXMHRFQRQBI6lQcrJ1QYXKvODSNRkEC//8yn7WVW5RExX8NO6WWZbA
 JyeA==
X-Gm-Message-State: AOJu0Yzqn7IjMlpkDRhjjhfzx5va/+pDwDak6cJVKOY0ER1raERRzpis
 WJ7T61S/40ybjTLjBWo9XiY/mQl/17ocIfS7KWzHWX5973DlztvZ+5pVZN31LWnUTmvdJnz7NpH
 HIF2ryCk7wlQJjZbCoSJc3LDogMEyOpjW/B8RAht9
X-Google-Smtp-Source: AGHT+IFaqxrsRF1gxIOVmi+T1SoedTIOQtcJ1D9L0ToOxvpAW7kUVr+7J957c1AFGojvDaoH55kRK+DY+ixp
X-Received: by 2002:a05:6602:c6:b0:7c7:2502:2d77 with SMTP id
 z6-20020a05660200c600b007c725022d77mr12412026ioe.4.1709067701410; 
 Tue, 27 Feb 2024 13:01:41 -0800 (PST)
Received: from postal.iol.unh.edu (postal.iol.unh.edu. [132.177.123.84])
 by smtp-relay.gmail.com with ESMTPS id
 n8-20020a056602340800b007c7f50bbd1asm12197ioz.29.2024.02.27.13.01.41
 (version=TLS1_2 cipher=ECDHE-ECDSA-AES128-GCM-SHA256 bits=128/128);
 Tue, 27 Feb 2024 13:01:41 -0800 (PST)
X-Relaying-Domain: iol.unh.edu
Date: Tue, 27 Feb 2024 13:01:41 -0800 (PST)
Message-ID: <65de4db5.050a0220.261c.0b7cSMTPIN_ADDED_MISSING@mx.google.com>
Received: from [172.17.0.6] (unknown [172.18.0.217])
 by postal.iol.unh.edu (Postfix) with ESMTP id E93C26052712;
 Tue, 27 Feb 2024 16:01:40 -0500 (EST)
Subject: |SUCCESS| pw137344-137346 [PATCH] [v5,4/4] test/cryptodev: add tests
From: dpdklab@iol.unh.edu
To: Test Report <test-report@dpdk.org>
Cc: dpdk-test-reports@iol.unh.edu
In-Reply-To: <20240227113345.863082-5-nishikanta.nayak@intel.com>
References: <20240227113345.863082-5-nishikanta.nayak@intel.com>
Content-Type: text/plain
X-BeenThere: test-report@dpdk.org
X-Mailman-Version: 2.1.29
Precedence: list
List-Id: automatic DPDK test reports <test-report.dpdk.org>
List-Unsubscribe: <https://mails.dpdk.org/options/test-report>,
 <mailto:test-report-request@dpdk.org?subject=unsubscribe>
List-Archive: <http://mails.dpdk.org/archives/test-report/>
List-Post: <mailto:test-report@dpdk.org>
List-Help: <mailto:test-report-request@dpdk.org?subject=help>
List-Subscribe: <https://mails.dpdk.org/listinfo/test-report>,
 <mailto:test-report-request@dpdk.org?subject=subscribe>
Errors-To: test-report-bounces@dpdk.org

Test-Label: iol-compile-arm64-testing
Test-Status: SUCCESS
http://dpdk.org/patch/137346

_Testing PASS_

Submitter: Nishikant Nayak <nishikanta.nayak@intel.com>
Date: Tuesday, February 27 2024 11:33:45 
DPDK git baseline: Repo:dpdk
  Branch: master
  CommitID:92c0ad70caf3ed6f4b93de6ddaf7bc369737c049

137344-137346 --> testing pass

Test environment and result as below:

+----------------------------------------+--------------------+
|              Environment               | dpdk_meson_compile |
+========================================+====================+
| Ubuntu 20.04 ARM SVE                   | PASS               |
+----------------------------------------+--------------------+
| Fedora 38 (ARM)                        | PASS               |
+----------------------------------------+--------------------+
| Fedora 37 (ARM)                        | PASS               |
+----------------------------------------+--------------------+
| Debian 12 (arm)                        | PASS               |
+----------------------------------------+--------------------+
| CentOS Stream 9 (ARM)                  | PASS               |
+----------------------------------------+--------------------+
| Ubuntu 20.04 ARM Clang Cross Compile   | PASS               |
+----------------------------------------+--------------------+
| Debian 11 (Buster) (ARM)               | PASS               |
+----------------------------------------+--------------------+
| Ubuntu 20.04 aarch32 GCC Cross Compile | PASS               |
+----------------------------------------+--------------------+
| Ubuntu 20.04 ARM GCC Cross Compile     | PASS               |
+----------------------------------------+--------------------+


Ubuntu 20.04 ARM SVE
	Kernel: 5.4.0-80-generic
	Compiler: gcc 10.3.0 (Ubuntu 10.3.0-1ubuntu1~20.04)

Fedora 38 (ARM)
	Kernel: Depends on container host
	Compiler: gcc 13.1.1

Fedora 37 (ARM)
	Kernel: Depends on container host
	Compiler: gcc 12.3.1

Debian 12 (arm)
	Kernel: Container Host Kernel
	Compiler: gcc 11

CentOS Stream 9 (ARM)
	Kernel: Container Host Kernel
	Compiler: gcc 11.3.1

Ubuntu 20.04 ARM Clang Cross Compile
	Kernel: 5.4.0-72-generic
	Compiler: clang version 10.0.0-4ubuntu1

Debian 11 (Buster) (ARM)
	Kernel: Container Host Kernel
	Compiler: gcc 10.2.1

Ubuntu 20.04 aarch32 GCC Cross Compile
	Kernel: 5.4.0-72-generic
	Compiler: gcc 9.3.0

Ubuntu 20.04 ARM GCC Cross Compile
	Kernel: 5.4.0-72-generic
	Compiler: aarch64-linux-gnu-gcc (Ubuntu 9.3.0-17ubuntu1~20.04) 9.3.0

To view detailed results, visit:
https://lab.dpdk.org/results/dashboard/patchsets/29286/

UNH-IOL DPDK Community Lab

To manage your email subscriptions, visit: 
https://lab.dpdk.org/results/dashboard/preferences/subscriptions/