From mboxrd@z Thu Jan  1 00:00:00 1970
Return-Path: <test-report-bounces@dpdk.org>
Received: from mails.dpdk.org (mails.dpdk.org [217.70.189.124])
	by inbox.dpdk.org (Postfix) with ESMTP id E4B9843BF7
	for <public@inbox.dpdk.org>; Tue, 27 Feb 2024 22:03:14 +0100 (CET)
Received: from mails.dpdk.org (localhost [127.0.0.1])
	by mails.dpdk.org (Postfix) with ESMTP id E0EFA40F35;
	Tue, 27 Feb 2024 22:03:14 +0100 (CET)
Received: from mail-pl1-f227.google.com (mail-pl1-f227.google.com
 [209.85.214.227])
 by mails.dpdk.org (Postfix) with ESMTP id E42C340150
 for <test-report@dpdk.org>; Tue, 27 Feb 2024 22:03:06 +0100 (CET)
Received: by mail-pl1-f227.google.com with SMTP id
 d9443c01a7336-1dc1ff697f9so38787075ad.0
 for <test-report@dpdk.org>; Tue, 27 Feb 2024 13:03:06 -0800 (PST)
DKIM-Signature: v=1; a=rsa-sha256; c=relaxed/relaxed;
 d=iol.unh.edu; s=unh-iol; t=1709067786; x=1709672586; darn=dpdk.org;
 h=references:in-reply-to:cc:to:from:subject:message-id:date:from:to
 :cc:subject:date:message-id:reply-to;
 bh=4ItcCZ/576J+JCBfdBgIyMSNvN2TkKdx1a2aQjTq8ic=;
 b=TJ2xzbMigy0fPArRBVx3Y+UYMMZOTrO6P9qX7+iwK07LJm2ZawejQU6uQDCrVmZhRs
 4PNCJEsRBekyeQ8I8voQXR1XvZGWKPiQFQAaCl7hjaiVHpBbEu+r/Mkqr0IJIM8gortn
 cDdsk0pVNZg3sdv9NfNoQx746WjJCwGX6X5xY=
X-Google-DKIM-Signature: v=1; a=rsa-sha256; c=relaxed/relaxed;
 d=1e100.net; s=20230601; t=1709067786; x=1709672586;
 h=references:in-reply-to:cc:to:from:subject:message-id:date
 :x-gm-message-state:from:to:cc:subject:date:message-id:reply-to;
 bh=4ItcCZ/576J+JCBfdBgIyMSNvN2TkKdx1a2aQjTq8ic=;
 b=ghUkZJPCkA12iOh2wzAi/uVass/CbvMTO040dopukaa7g+6ZYY1jGYX18qJiI9D6ea
 LB+AIeQ8hqKpYiBuVOevgJdtpBwPeAx7XsKlDMfAFn77LG8xI7NhKTfkl1VPuu6beK+b
 ftaAXSo+TjnVAKy51I4xhi+HOD2P8bF+2VTrjcBu0tcWmlzqMS2W/0aqiDJvHKiOMeCf
 qquVfhONzvsbTFEpd4MJvbHFyZ8q9SuM75BGTxplYfQzno3Ql7+D7wLViTIwhw0F2sZy
 Wd2nlpBlmo9DV0D2jEz80r8bUnk1KNCw1LIlJLuQd7Bv4GQYCQWioeDjY54CITmY+GUy
 OPXw==
X-Gm-Message-State: AOJu0Ywi5dv/jnO10x6S8w8yzeEAIIeHAwWNQWjqsuGwFRCAxlxRKsZv
 z2V5o1SfU7nMkaO/xyQiR7sM3/Oq404KAe10CJH2OhtAxFTyGYlEgFSonrjGeVG6K3tkyyMO4jX
 5RgE9sNg0gTYnKm0Y1lmFssPLehFYC9aPZeMeNMzr
X-Google-Smtp-Source: AGHT+IE/hhUIkp2Ihr9Jy7+9inOep0gsMOhQpgVVuBPZOV3/KM3sLqkQ7nG4fD+fiMOBwN5IcufCmhVDtRio
X-Received: by 2002:a17:902:8494:b0:1db:729a:e2a0 with SMTP id
 c20-20020a170902849400b001db729ae2a0mr10600742plo.47.1709067786172; 
 Tue, 27 Feb 2024 13:03:06 -0800 (PST)
Received: from postal.iol.unh.edu (postal.iol.unh.edu. [132.177.123.84])
 by smtp-relay.gmail.com with ESMTPS id
 e14-20020a170902cf4e00b001d9c054a438sm86178plg.102.2024.02.27.13.03.06
 (version=TLS1_2 cipher=ECDHE-ECDSA-AES128-GCM-SHA256 bits=128/128);
 Tue, 27 Feb 2024 13:03:06 -0800 (PST)
X-Relaying-Domain: iol.unh.edu
Date: Tue, 27 Feb 2024 13:03:06 -0800 (PST)
Message-ID: <65de4e0a.170a0220.5c04f.53e9SMTPIN_ADDED_MISSING@mx.google.com>
Received: from [172.17.0.7] (unknown [172.18.0.217])
 by postal.iol.unh.edu (Postfix) with ESMTP id 9DED16052712;
 Tue, 27 Feb 2024 16:03:05 -0500 (EST)
Subject: |SUCCESS| pw137344-137346 [PATCH] [v5,4/4] test/cryptodev: add tests
From: dpdklab@iol.unh.edu
To: Test Report <test-report@dpdk.org>
Cc: dpdk-test-reports@iol.unh.edu
In-Reply-To: <20240227113345.863082-5-nishikanta.nayak@intel.com>
References: <20240227113345.863082-5-nishikanta.nayak@intel.com>
Content-Type: text/plain
X-BeenThere: test-report@dpdk.org
X-Mailman-Version: 2.1.29
Precedence: list
List-Id: automatic DPDK test reports <test-report.dpdk.org>
List-Unsubscribe: <https://mails.dpdk.org/options/test-report>,
 <mailto:test-report-request@dpdk.org?subject=unsubscribe>
List-Archive: <http://mails.dpdk.org/archives/test-report/>
List-Post: <mailto:test-report@dpdk.org>
List-Help: <mailto:test-report-request@dpdk.org?subject=help>
List-Subscribe: <https://mails.dpdk.org/listinfo/test-report>,
 <mailto:test-report-request@dpdk.org?subject=subscribe>
Errors-To: test-report-bounces@dpdk.org

Test-Label: iol-unit-amd64-testing
Test-Status: SUCCESS
http://dpdk.org/patch/137346

_Testing PASS_

Submitter: Nishikant Nayak <nishikanta.nayak@intel.com>
Date: Tuesday, February 27 2024 11:33:45 
DPDK git baseline: Repo:dpdk
  Branch: master
  CommitID:92c0ad70caf3ed6f4b93de6ddaf7bc369737c049

137344-137346 --> testing pass

Test environment and result as below:

+------------------+----------------+
|   Environment    | dpdk_unit_test |
+==================+================+
| openSUSE Leap 15 | PASS           |
+------------------+----------------+
| CentOS Stream 9  | PASS           |
+------------------+----------------+
| CentOS Stream 8  | PASS           |
+------------------+----------------+
| Ubuntu 20.04     | PASS           |
+------------------+----------------+
| Debian 12 (arm)  | PASS           |
+------------------+----------------+
| Debian Bullseye  | PASS           |
+------------------+----------------+
| RHEL8            | PASS           |
+------------------+----------------+
| Ubuntu 22.04     | PASS           |
+------------------+----------------+
| Fedora 38        | PASS           |
+------------------+----------------+


openSUSE Leap 15
	Kernel: 4.18.0-240.10.1.el8_3.x86_64
	Compiler: gcc 7.5.0

CentOS Stream 9
	Kernel: 4.18.0-240.10.1.el8_3.x86_64
	Compiler: gcc 11.3.1 20220421

CentOS Stream 8
	Kernel: 4.18.0-240.10.1.el8_3.x86_64
	Compiler: gcc 8.4.1 20200928

Ubuntu 20.04
	Kernel: 5.4.0-153-generic
	Compiler: gcc 9.4.0-1ubuntu1~20.04.1

Debian 12 (arm)
	Kernel: Container Host Kernel
	Compiler: gcc 11

Debian Bullseye
	Kernel: 5.4.0-122-generic
	Compiler: gcc 10.2.1-6

RHEL8
	Kernel: 4.18.0-240.10.1.el8_3.x86_64
	Compiler: gcc 8.3.1 20191121 (Red Hat 8.3.1-5)

Ubuntu 22.04
	Kernel: 4.18.0-240.10.1.el8_3.x86_64
	Compiler: gcc 11.3.0

Fedora 38
	Kernel: Depends on container host
	Compiler: clang 16.0.3

To view detailed results, visit:
https://lab.dpdk.org/results/dashboard/patchsets/29286/

UNH-IOL DPDK Community Lab

To manage your email subscriptions, visit: 
https://lab.dpdk.org/results/dashboard/preferences/subscriptions/