From mboxrd@z Thu Jan  1 00:00:00 1970
Return-Path: <test-report-bounces@dpdk.org>
Received: from mails.dpdk.org (mails.dpdk.org [217.70.189.124])
	by inbox.dpdk.org (Postfix) with ESMTP id 357B643BF7
	for <public@inbox.dpdk.org>; Tue, 27 Feb 2024 22:04:11 +0100 (CET)
Received: from mails.dpdk.org (localhost [127.0.0.1])
	by mails.dpdk.org (Postfix) with ESMTP id 2C67E4026E;
	Tue, 27 Feb 2024 22:04:11 +0100 (CET)
Received: from mail-io1-f100.google.com (mail-io1-f100.google.com
 [209.85.166.100])
 by mails.dpdk.org (Postfix) with ESMTP id BC50E409FA
 for <test-report@dpdk.org>; Tue, 27 Feb 2024 22:03:14 +0100 (CET)
Received: by mail-io1-f100.google.com with SMTP id
 ca18e2360f4ac-7bed9fb159fso233938039f.1
 for <test-report@dpdk.org>; Tue, 27 Feb 2024 13:03:14 -0800 (PST)
DKIM-Signature: v=1; a=rsa-sha256; c=relaxed/relaxed;
 d=iol.unh.edu; s=unh-iol; t=1709067794; x=1709672594; darn=dpdk.org;
 h=references:in-reply-to:cc:to:from:subject:message-id:date:from:to
 :cc:subject:date:message-id:reply-to;
 bh=r00FN4kg2l3+1jfQfe8Ks/2Nc7X5cGaCWUWigISEzPE=;
 b=W8Wx1SMHxBK2yMPjVbpvZmHN37cw+oshVfydFI/uC3hot3yNvitjWU15HpuF6beSyZ
 iA8vn4LMH2y6DY9KXmzyqRmSCu4ZlwwyIrWNBUWdo5y3ouregslyjV8hoWsCxjXAhXaG
 VoJVU5h2jEUtwRg0zOXdjQLVeAJnS5NL9ZDIM=
X-Google-DKIM-Signature: v=1; a=rsa-sha256; c=relaxed/relaxed;
 d=1e100.net; s=20230601; t=1709067794; x=1709672594;
 h=references:in-reply-to:cc:to:from:subject:message-id:date
 :x-gm-message-state:from:to:cc:subject:date:message-id:reply-to;
 bh=r00FN4kg2l3+1jfQfe8Ks/2Nc7X5cGaCWUWigISEzPE=;
 b=dAfScHt4SonE+q1fMfJ/0ksZ8XNnJpaFo3sQPzwf2/I8WgljWET+lk8ZAj5LSutPeI
 hwI0Q07yi+3wNVrC8an8org6gaxV0LUGM+HCxbXAS+aNMM1zKFd6sIEJktw2QsAM4T7Y
 kI0ajIW61Bwza0yPxIACm+zbjO/EaQ47HmsZ6xr/9KfDoKSR8niHEXXnc1eAnMfsLO8i
 BNUGFz+WQDKKYqhS/Jt+FGFebqr62H1uRE7jPqFRnXY4GpFSz5T4HqCan8zyumnE47tB
 qGCI4WnEUKQgOuo3IM1vzn3myVeD2MDmUeYl8/rGozfZCqVepJJCkrO+G++3y7oJN4ja
 3i4A==
X-Gm-Message-State: AOJu0YyGhUgRsAyPf4AmFlpxS0jB971sCtMtG2QqTV0WTcr1yhNmRsgF
 +rRGpQ1gUWS7tvhAKkdYySv9PKZMFnGBYpWuDHxW1EWo0xXj06WAtt0RJJxMb3DoowEu2V1mRNR
 GeqHzsqTU6nafXOlFWofUuUcG+WJomCF3qge0ZtWKCh1o+Y6F+edZqqJl
X-Google-Smtp-Source: AGHT+IEWLfQC10nEPLfn8zf9AoxSoWZkyuYjaZZds+wYXXEfGnB29onmJiiYyD+FTe1Vxxs/HdR9ozjMQuOD
X-Received: by 2002:a6b:dc16:0:b0:7c7:a437:74bd with SMTP id
 s22-20020a6bdc16000000b007c7a43774bdmr12166099ioc.2.1709067794176; 
 Tue, 27 Feb 2024 13:03:14 -0800 (PST)
Received: from postal.iol.unh.edu (postal.iol.unh.edu.
 [2606:4100:3880:1234::84]) by smtp-relay.gmail.com with ESMTPS id
 f91-20020a0284e4000000b0047428d27ea5sm370782jai.47.2024.02.27.13.03.13
 (version=TLS1_2 cipher=ECDHE-ECDSA-AES128-GCM-SHA256 bits=128/128);
 Tue, 27 Feb 2024 13:03:13 -0800 (PST)
X-Relaying-Domain: iol.unh.edu
Date: Tue, 27 Feb 2024 13:03:13 -0800 (PST)
Message-ID: <65de4e11.020a0220.5338d.cf18SMTPIN_ADDED_MISSING@mx.google.com>
Received: from [172.21.0.7] (unknown [172.18.0.240])
 by postal.iol.unh.edu (Postfix) with ESMTP id 2DECC6052712;
 Tue, 27 Feb 2024 16:03:13 -0500 (EST)
Subject: |SUCCESS| pw137348 [PATCH] [v4] examples/ipsec-secgw: fix cryptodev 
From: dpdklab@iol.unh.edu
To: Test Report <test-report@dpdk.org>
Cc: dpdk-test-reports@iol.unh.edu
In-Reply-To: <20240227132846.415698-1-radu.nicolau@intel.com>
References: <20240227132846.415698-1-radu.nicolau@intel.com>
Content-Type: text/plain
X-BeenThere: test-report@dpdk.org
X-Mailman-Version: 2.1.29
Precedence: list
List-Id: automatic DPDK test reports <test-report.dpdk.org>
List-Unsubscribe: <https://mails.dpdk.org/options/test-report>,
 <mailto:test-report-request@dpdk.org?subject=unsubscribe>
List-Archive: <http://mails.dpdk.org/archives/test-report/>
List-Post: <mailto:test-report@dpdk.org>
List-Help: <mailto:test-report-request@dpdk.org?subject=help>
List-Subscribe: <https://mails.dpdk.org/listinfo/test-report>,
 <mailto:test-report-request@dpdk.org?subject=subscribe>
Errors-To: test-report-bounces@dpdk.org

Test-Label: iol-compile-amd64-testing
Test-Status: SUCCESS
http://dpdk.org/patch/137348

_Testing PASS_

Submitter: Radu Nicolau <radu.nicolau@intel.com>
Date: Tuesday, February 27 2024 13:28:46 
DPDK git baseline: Repo:dpdk
  Branch: master
  CommitID:92c0ad70caf3ed6f4b93de6ddaf7bc369737c049

137348 --> testing pass

Test environment and result as below:

+------------------+--------------------+
|   Environment    | dpdk_meson_compile |
+==================+====================+
| FreeBSD 13.2     | PASS               |
+------------------+--------------------+
| CentOS Stream 8  | PASS               |
+------------------+--------------------+
| CentOS Stream 9  | PASS               |
+------------------+--------------------+
| Fedora 37        | PASS               |
+------------------+--------------------+
| openSUSE Leap 15 | PASS               |
+------------------+--------------------+
| RHEL8            | PASS               |
+------------------+--------------------+
| Fedora 38        | PASS               |
+------------------+--------------------+
| Ubuntu 22.04     | PASS               |
+------------------+--------------------+
| Ubuntu 20.04     | PASS               |
+------------------+--------------------+
| Debian Bullseye  | PASS               |
+------------------+--------------------+
| Debian 12 (arm)  | PASS               |
+------------------+--------------------+
| Alpine           | PASS               |
+------------------+--------------------+


FreeBSD 13.2
	Kernel: 13.2
	Compiler: clang 11.3.0

CentOS Stream 8
	Kernel: 4.18.0-240.10.1.el8_3.x86_64
	Compiler: gcc 8.4.1 20200928

CentOS Stream 9
	Kernel: 4.18.0-240.10.1.el8_3.x86_64
	Compiler: gcc 11.3.1 20220421

Fedora 37
	Kernel: Depends on container host system
	Compiler: gcc 12.3.1

openSUSE Leap 15
	Kernel: 4.18.0-240.10.1.el8_3.x86_64
	Compiler: gcc 7.5.0

RHEL8
	Kernel: 4.18.0-240.10.1.el8_3.x86_64
	Compiler: gcc 8.3.1 20191121 (Red Hat 8.3.1-5)

Fedora 38
	Kernel: Depends on container host
	Compiler: gcc 13.1.1

Ubuntu 22.04
	Kernel: 4.18.0-240.10.1.el8_3.x86_64
	Compiler: gcc 11.3.0

Ubuntu 20.04
	Kernel: 5.4.0-153-generic
	Compiler: gcc 9.4.0-1ubuntu1~20.04.1

Debian Bullseye
	Kernel: 5.4.0-122-generic
	Compiler: gcc 10.2.1-6

Debian 12 (arm)
	Kernel: Container Host Kernel
	Compiler: gcc 11

Alpine
	Kernel: 5.4.0-73-generic
	Compiler: gcc (Alpine 10.3.1_git20210424) 10.3.1 20210424

To view detailed results, visit:
https://lab.dpdk.org/results/dashboard/patchsets/29287/

UNH-IOL DPDK Community Lab

To manage your email subscriptions, visit: 
https://lab.dpdk.org/results/dashboard/preferences/subscriptions/