From mboxrd@z Thu Jan  1 00:00:00 1970
Return-Path: <test-report-bounces@dpdk.org>
Received: from mails.dpdk.org (mails.dpdk.org [217.70.189.124])
	by inbox.dpdk.org (Postfix) with ESMTP id 42FA143BE4
	for <public@inbox.dpdk.org>; Tue, 27 Feb 2024 23:57:55 +0100 (CET)
Received: from mails.dpdk.org (localhost [127.0.0.1])
	by mails.dpdk.org (Postfix) with ESMTP id 372E14026E;
	Tue, 27 Feb 2024 23:57:55 +0100 (CET)
Received: from mail-pf1-f225.google.com (mail-pf1-f225.google.com
 [209.85.210.225])
 by mails.dpdk.org (Postfix) with ESMTP id 9D12840150
 for <test-report@dpdk.org>; Tue, 27 Feb 2024 23:57:28 +0100 (CET)
Received: by mail-pf1-f225.google.com with SMTP id
 d2e1a72fcca58-6e54b22229cso1001510b3a.3
 for <test-report@dpdk.org>; Tue, 27 Feb 2024 14:57:28 -0800 (PST)
DKIM-Signature: v=1; a=rsa-sha256; c=relaxed/relaxed;
 d=iol.unh.edu; s=unh-iol; t=1709074648; x=1709679448; darn=dpdk.org;
 h=references:in-reply-to:cc:to:from:subject:message-id:date:from:to
 :cc:subject:date:message-id:reply-to;
 bh=Z6fiwTdyuvUKUeKU6phH4IvAJVJz8fQ1zbUviF7SFsM=;
 b=Q2HbkDaEOy10rgsMZx6mQwUG/CiCEVd34zxetrpBypRqe1VWxsXN0hVrKnQbM08x+F
 gisBCzXErKttyWpybd3uAvFrA9GtuoRI1aOEr9jrqlXctlPx9g4M7e/eMhCPtBzDkQ11
 eVdv6LAdcuii2EmnPdHMiT0jTWMVIjLs1TIYE=
X-Google-DKIM-Signature: v=1; a=rsa-sha256; c=relaxed/relaxed;
 d=1e100.net; s=20230601; t=1709074648; x=1709679448;
 h=references:in-reply-to:cc:to:from:subject:message-id:date
 :x-gm-message-state:from:to:cc:subject:date:message-id:reply-to;
 bh=Z6fiwTdyuvUKUeKU6phH4IvAJVJz8fQ1zbUviF7SFsM=;
 b=ZObnDg3ZfCG5/7ndFgL6NhKn/wL153e01MiOJcwota7sj6BTDPBtw/6WeSKPp7SLHB
 0Ruqh0k/fz59LGaCKIt1cbV8kvG18qrHdfG5kEbCt9df6Ye8fYkAeDIyNa+59rVSEFK6
 AJDxOnR7Ia0DZETwhIK+sm4fhtLKyheCsvzbVlgr/X7fuKFUUKLGMd02OLCgPCfx006x
 89kZrv/jVdUNIatmwIgREumhMQw8Hj+zLTF2+hwu2DzfPa8dYYO+uz8qbnhsOUv3o8VB
 BZjFJoPO3bpCUqT3qJkmwLI9Ss15RuXUt8e2k6tkjpoal8h3A42WzxfahsEZ1kpXjwXb
 FHdw==
X-Gm-Message-State: AOJu0YyDd8S7WtGJDRu00xDTvtoi/3YX1H/rqkzpOE0C3/b4XPAiu0HL
 G19aCGp1cuabcokuY3t0vb79wjI45ZacXUywQMR5jQ/kguTGoB046ujeJbUs7RSnSf/dUENa6+R
 rULt6O4FW1oCjf6X5A3QBN4tpomxTBXNJi0o83UgvgltUwPG7VwRte54G
X-Google-Smtp-Source: AGHT+IGrhbj24fTARU9pjSyryAlICp6JTnsrVoiZTStVldbUEXFbMDUD+XM+yArZwLQFQXP+dh/Xinc4gLY+
X-Received: by 2002:a05:6a00:2310:b0:6e4:cf7c:6c28 with SMTP id
 h16-20020a056a00231000b006e4cf7c6c28mr12259254pfh.22.1709074647891; 
 Tue, 27 Feb 2024 14:57:27 -0800 (PST)
Received: from postal.iol.unh.edu (postal.iol.unh.edu.
 [2606:4100:3880:1234::84]) by smtp-relay.gmail.com with ESMTPS id
 fb3-20020a056a002d8300b006e5574db191sm26052pfb.18.2024.02.27.14.57.27
 (version=TLS1_2 cipher=ECDHE-ECDSA-AES128-GCM-SHA256 bits=128/128);
 Tue, 27 Feb 2024 14:57:27 -0800 (PST)
X-Relaying-Domain: iol.unh.edu
Date: Tue, 27 Feb 2024 14:57:27 -0800 (PST)
Message-ID: <65de68d7.050a0220.1bb6d.19baSMTPIN_ADDED_MISSING@mx.google.com>
Received: from [172.21.0.9] (unknown [172.18.0.240])
 by postal.iol.unh.edu (Postfix) with ESMTP id 16E4C6052712;
 Tue, 27 Feb 2024 17:57:27 -0500 (EST)
Subject: |SUCCESS| pw137362-137360 [PATCH] [v9,4/4] app/dma-perf: add SG copy
From: dpdklab@iol.unh.edu
To: Test Report <test-report@dpdk.org>
Cc: dpdk-test-reports@iol.unh.edu
In-Reply-To: <20240227160031.3931694-5-amitprakashs@marvell.com>
References: <20240227160031.3931694-5-amitprakashs@marvell.com>
Content-Type: text/plain
X-BeenThere: test-report@dpdk.org
X-Mailman-Version: 2.1.29
Precedence: list
List-Id: automatic DPDK test reports <test-report.dpdk.org>
List-Unsubscribe: <https://mails.dpdk.org/options/test-report>,
 <mailto:test-report-request@dpdk.org?subject=unsubscribe>
List-Archive: <http://mails.dpdk.org/archives/test-report/>
List-Post: <mailto:test-report@dpdk.org>
List-Help: <mailto:test-report-request@dpdk.org?subject=help>
List-Subscribe: <https://mails.dpdk.org/listinfo/test-report>,
 <mailto:test-report-request@dpdk.org?subject=subscribe>
Errors-To: test-report-bounces@dpdk.org

Test-Label: iol-compile-amd64-testing
Test-Status: SUCCESS
http://dpdk.org/patch/137360

_Testing PASS_

Submitter: Amit Prakash Shukla <amitprakashs@marvell.com>
Date: Tuesday, February 27 2024 16:00:31 
DPDK git baseline: Repo:dpdk
  Branch: master
  CommitID:92c0ad70caf3ed6f4b93de6ddaf7bc369737c049

137362-137360 --> testing pass

Test environment and result as below:

+------------------+--------------------+
|   Environment    | dpdk_meson_compile |
+==================+====================+
| FreeBSD 13.2     | PASS               |
+------------------+--------------------+
| Debian Bullseye  | PASS               |
+------------------+--------------------+
| CentOS Stream 8  | PASS               |
+------------------+--------------------+
| CentOS Stream 9  | PASS               |
+------------------+--------------------+
| Debian 12 (arm)  | PASS               |
+------------------+--------------------+
| Fedora 37        | PASS               |
+------------------+--------------------+
| Fedora 38        | PASS               |
+------------------+--------------------+
| Ubuntu 22.04     | PASS               |
+------------------+--------------------+
| RHEL8            | PASS               |
+------------------+--------------------+
| Alpine           | PASS               |
+------------------+--------------------+
| openSUSE Leap 15 | PASS               |
+------------------+--------------------+


FreeBSD 13.2
	Kernel: 13.2
	Compiler: clang 11.3.0

Debian Bullseye
	Kernel: 5.4.0-122-generic
	Compiler: gcc 10.2.1-6

CentOS Stream 8
	Kernel: 4.18.0-240.10.1.el8_3.x86_64
	Compiler: gcc 8.4.1 20200928

CentOS Stream 9
	Kernel: 4.18.0-240.10.1.el8_3.x86_64
	Compiler: gcc 11.3.1 20220421

Debian 12 (arm)
	Kernel: Container Host Kernel
	Compiler: gcc 11

Fedora 37
	Kernel: Depends on container host system
	Compiler: gcc 12.3.1

Fedora 38
	Kernel: Depends on container host
	Compiler: gcc 13.1.1

Ubuntu 22.04
	Kernel: 4.18.0-240.10.1.el8_3.x86_64
	Compiler: gcc 11.3.0

RHEL8
	Kernel: 4.18.0-240.10.1.el8_3.x86_64
	Compiler: gcc 8.3.1 20191121 (Red Hat 8.3.1-5)

Alpine
	Kernel: 5.4.0-73-generic
	Compiler: gcc (Alpine 10.3.1_git20210424) 10.3.1 20210424

openSUSE Leap 15
	Kernel: 4.18.0-240.10.1.el8_3.x86_64
	Compiler: gcc 7.5.0

To view detailed results, visit:
https://lab.dpdk.org/results/dashboard/patchsets/29294/

UNH-IOL DPDK Community Lab

To manage your email subscriptions, visit: 
https://lab.dpdk.org/results/dashboard/preferences/subscriptions/