From mboxrd@z Thu Jan  1 00:00:00 1970
Return-Path: <test-report-bounces@dpdk.org>
Received: from mails.dpdk.org (mails.dpdk.org [217.70.189.124])
	by inbox.dpdk.org (Postfix) with ESMTP id AB61B43C06
	for <public@inbox.dpdk.org>; Wed, 28 Feb 2024 00:15:10 +0100 (CET)
Received: from mails.dpdk.org (localhost [127.0.0.1])
	by mails.dpdk.org (Postfix) with ESMTP id 99E4642ECB;
	Wed, 28 Feb 2024 00:15:10 +0100 (CET)
Received: from mail-ot1-f100.google.com (mail-ot1-f100.google.com
 [209.85.210.100])
 by mails.dpdk.org (Postfix) with ESMTP id 9D47D402A9
 for <test-report@dpdk.org>; Wed, 28 Feb 2024 00:15:09 +0100 (CET)
Received: by mail-ot1-f100.google.com with SMTP id
 46e09a7af769-6dc8b280155so3511289a34.0
 for <test-report@dpdk.org>; Tue, 27 Feb 2024 15:15:09 -0800 (PST)
DKIM-Signature: v=1; a=rsa-sha256; c=relaxed/relaxed;
 d=iol.unh.edu; s=unh-iol; t=1709075709; x=1709680509; darn=dpdk.org;
 h=references:in-reply-to:cc:to:from:subject:message-id:date:from:to
 :cc:subject:date:message-id:reply-to;
 bh=pjvN4rKvGio9uc9MrSlC/ZJlWQpzMYaw+hmyu0ygRC8=;
 b=PkENHhWB2ZfwBhK00sNNoorx3S+y+BxcMRkg7F4BYmSWqk73p5Q+BD/qtLI6Eew7HF
 Bk2pwAu2B0xrCkx2jpIAEuXZjKSUfwiR2PAGvQL0LQVsIQMfcyVEdHXAcFTPzfIjUu0M
 HAsWcG4gUvCr4XbrE5lxnukpFohqr6ff0yILY=
X-Google-DKIM-Signature: v=1; a=rsa-sha256; c=relaxed/relaxed;
 d=1e100.net; s=20230601; t=1709075709; x=1709680509;
 h=references:in-reply-to:cc:to:from:subject:message-id:date
 :x-gm-message-state:from:to:cc:subject:date:message-id:reply-to;
 bh=pjvN4rKvGio9uc9MrSlC/ZJlWQpzMYaw+hmyu0ygRC8=;
 b=CpxRZGEla1n0QKlKZM+2oAciYdz0XG+Bhy/9SPArnC5qannKf/uqN0xZKK8SX/spoU
 A+SFTxp2isEvUKZ1Es4SFo+ePZHfm9ijUP2vA0bCKobmnIp8T37ANETejzNVXQ+psf0H
 TT+TFIwIM1tL3q/fKjBuvIJYL1iA6UfMBvUODwMHL9CLsGTujDRYJY6xM7fw286MpSwd
 5l6ek1H4cg+3weFWhmtHKYO15Hy6z3313DaCA6/Gk49szujAhrMvDVHv1mgJ89rHvoYQ
 a6z2pSRXDWiUrY1TANf0coRN2KTGqPx7KhdkSbo2Ak9XkkU0ZhW3KCteqrtKUdNq9APw
 cIKQ==
X-Gm-Message-State: AOJu0YwsX+A1XJuy2HdrRN/9zQOACylE4TJc+tGLfoMdbHpNhdFpVloq
 YrYJGwYF8MwNCV4mN67uEMkzInqsP5ef1QyTYLhT3XXryFeemJvi9vBOlU9hnyGWQ1sxvcjhKi3
 6Dnv9LZp1XW/PUKgRLg/xgUNNSUIjwJ2B9mqd87i4
X-Google-Smtp-Source: AGHT+IEPxsp0NMPtK8UAyciFAeppAro1qKTPVWPPIM0kNVKhorhyhMmG9FHgPeccannOJLC2amTUoHlLnEYt
X-Received: by 2002:a05:6358:430d:b0:17b:89d0:eeb9 with SMTP id
 r13-20020a056358430d00b0017b89d0eeb9mr9333409rwc.16.1709075708853; 
 Tue, 27 Feb 2024 15:15:08 -0800 (PST)
Received: from postal.iol.unh.edu (postal.iol.unh.edu. [132.177.123.84])
 by smtp-relay.gmail.com with ESMTPS id
 k9-20020ad45be9000000b0068f982967casm429117qvc.77.2024.02.27.15.15.08
 (version=TLS1_2 cipher=ECDHE-ECDSA-AES128-GCM-SHA256 bits=128/128);
 Tue, 27 Feb 2024 15:15:08 -0800 (PST)
X-Relaying-Domain: iol.unh.edu
Date: Tue, 27 Feb 2024 15:15:08 -0800 (PST)
Message-ID: <65de6cfc.d40a0220.a9d0a.2520SMTPIN_ADDED_MISSING@mx.google.com>
Received: from [172.17.0.9] (unknown [172.18.0.217])
 by postal.iol.unh.edu (Postfix) with ESMTP id 89FD66052712;
 Tue, 27 Feb 2024 18:15:08 -0500 (EST)
Subject: |SUCCESS| pw137362-137360 [PATCH] [v9,4/4] app/dma-perf: add SG copy
From: dpdklab@iol.unh.edu
To: Test Report <test-report@dpdk.org>
Cc: dpdk-test-reports@iol.unh.edu
In-Reply-To: <20240227160031.3931694-5-amitprakashs@marvell.com>
References: <20240227160031.3931694-5-amitprakashs@marvell.com>
Content-Type: text/plain
X-BeenThere: test-report@dpdk.org
X-Mailman-Version: 2.1.29
Precedence: list
List-Id: automatic DPDK test reports <test-report.dpdk.org>
List-Unsubscribe: <https://mails.dpdk.org/options/test-report>,
 <mailto:test-report-request@dpdk.org?subject=unsubscribe>
List-Archive: <http://mails.dpdk.org/archives/test-report/>
List-Post: <mailto:test-report@dpdk.org>
List-Help: <mailto:test-report-request@dpdk.org?subject=help>
List-Subscribe: <https://mails.dpdk.org/listinfo/test-report>,
 <mailto:test-report-request@dpdk.org?subject=subscribe>
Errors-To: test-report-bounces@dpdk.org

Test-Label: iol-compile-amd64-testing
Test-Status: SUCCESS
http://dpdk.org/patch/137360

_Testing PASS_

Submitter: Amit Prakash Shukla <amitprakashs@marvell.com>
Date: Tuesday, February 27 2024 16:00:31 
DPDK git baseline: Repo:dpdk
  Branch: master
  CommitID:92c0ad70caf3ed6f4b93de6ddaf7bc369737c049

137362-137360 --> testing pass

Test environment and result as below:

+------------------+--------------------+
|   Environment    | dpdk_meson_compile |
+==================+====================+
| FreeBSD 13.2     | PASS               |
+------------------+--------------------+
| Debian Bullseye  | PASS               |
+------------------+--------------------+
| CentOS Stream 8  | PASS               |
+------------------+--------------------+
| CentOS Stream 9  | PASS               |
+------------------+--------------------+
| Debian 12 (arm)  | PASS               |
+------------------+--------------------+
| Fedora 37        | PASS               |
+------------------+--------------------+
| Fedora 38        | PASS               |
+------------------+--------------------+
| Ubuntu 22.04     | PASS               |
+------------------+--------------------+
| RHEL8            | PASS               |
+------------------+--------------------+
| Alpine           | PASS               |
+------------------+--------------------+
| openSUSE Leap 15 | PASS               |
+------------------+--------------------+
| Ubuntu 20.04     | PASS               |
+------------------+--------------------+


FreeBSD 13.2
	Kernel: 13.2
	Compiler: clang 11.3.0

Debian Bullseye
	Kernel: 5.4.0-122-generic
	Compiler: gcc 10.2.1-6

CentOS Stream 8
	Kernel: 4.18.0-240.10.1.el8_3.x86_64
	Compiler: gcc 8.4.1 20200928

CentOS Stream 9
	Kernel: 4.18.0-240.10.1.el8_3.x86_64
	Compiler: gcc 11.3.1 20220421

Debian 12 (arm)
	Kernel: Container Host Kernel
	Compiler: gcc 11

Fedora 37
	Kernel: Depends on container host system
	Compiler: gcc 12.3.1

Fedora 38
	Kernel: Depends on container host
	Compiler: gcc 13.1.1

Ubuntu 22.04
	Kernel: 4.18.0-240.10.1.el8_3.x86_64
	Compiler: gcc 11.3.0

RHEL8
	Kernel: 4.18.0-240.10.1.el8_3.x86_64
	Compiler: gcc 8.3.1 20191121 (Red Hat 8.3.1-5)

Alpine
	Kernel: 5.4.0-73-generic
	Compiler: gcc (Alpine 10.3.1_git20210424) 10.3.1 20210424

openSUSE Leap 15
	Kernel: 4.18.0-240.10.1.el8_3.x86_64
	Compiler: gcc 7.5.0

Ubuntu 20.04
	Kernel: 5.4.0-153-generic
	Compiler: gcc 9.4.0-1ubuntu1~20.04.1

To view detailed results, visit:
https://lab.dpdk.org/results/dashboard/patchsets/29294/

UNH-IOL DPDK Community Lab

To manage your email subscriptions, visit: 
https://lab.dpdk.org/results/dashboard/preferences/subscriptions/