From mboxrd@z Thu Jan  1 00:00:00 1970
Return-Path: <test-report-bounces@dpdk.org>
Received: from mails.dpdk.org (mails.dpdk.org [217.70.189.124])
	by inbox.dpdk.org (Postfix) with ESMTP id F2E0D43C0E
	for <public@inbox.dpdk.org>; Wed, 28 Feb 2024 00:22:21 +0100 (CET)
Received: from mails.dpdk.org (localhost [127.0.0.1])
	by mails.dpdk.org (Postfix) with ESMTP id EE57A402AC;
	Wed, 28 Feb 2024 00:22:21 +0100 (CET)
Received: from mail-ot1-f99.google.com (mail-ot1-f99.google.com
 [209.85.210.99]) by mails.dpdk.org (Postfix) with ESMTP id BA2C4402A9
 for <test-report@dpdk.org>; Wed, 28 Feb 2024 00:22:19 +0100 (CET)
Received: by mail-ot1-f99.google.com with SMTP id
 46e09a7af769-6e48153c13aso2283014a34.3
 for <test-report@dpdk.org>; Tue, 27 Feb 2024 15:22:19 -0800 (PST)
DKIM-Signature: v=1; a=rsa-sha256; c=relaxed/relaxed;
 d=iol.unh.edu; s=unh-iol; t=1709076139; x=1709680939; darn=dpdk.org;
 h=references:in-reply-to:cc:to:from:subject:message-id:date:from:to
 :cc:subject:date:message-id:reply-to;
 bh=WxmySBTH7eCuhoBqKzzQEvPjdeSzzn1bKcSEIF6ucH8=;
 b=YJdOA0PfzeQyamqBRugkt4St0lj6o0N5hZDCzzfCKqNYO83LFoVsj/fVa/jb2pDwhe
 tpxivFF+EQMkiIUWWefDhZQNSiQWEwobADmbhF+CNLrsKPFNLZuBOBhumlD6/QT5cXhU
 FhoSlJUZQNjRbzR9xJ/ZbBS11KgcOT7DxBIP4=
X-Google-DKIM-Signature: v=1; a=rsa-sha256; c=relaxed/relaxed;
 d=1e100.net; s=20230601; t=1709076139; x=1709680939;
 h=references:in-reply-to:cc:to:from:subject:message-id:date
 :x-gm-message-state:from:to:cc:subject:date:message-id:reply-to;
 bh=WxmySBTH7eCuhoBqKzzQEvPjdeSzzn1bKcSEIF6ucH8=;
 b=Y7V99XzR1ABs7AJqVUgIbJjfT1ZUoBgt0uGIRWwg6+EGqht069i8jYlN9D6G7Vp1m7
 dVjVoEtOoVAeP/DtRKqWf+IcbbfTaZZAEdj6FYbuvemITl9/KMstadaxlcS8/nxmK3Ng
 DzXPiQ+ikYr8VwfbxUjTduY03fOeaXHoduCpvwe80Q5LzvpKb0dSL+ut5HVImlzIQFSA
 ahj5Zs9D03Z5sPKNl1UoD7Xe48GrMqUrhOmEh/3LU1X30a+uMNDEoqAgGBrACeoMJK9y
 ZduQv7H1E+N23cMBnToZTvOyReg5x4dhDRLEI1HUrezZO/wpBSx/i7RhPOHauTVJ6ts8
 kApQ==
X-Gm-Message-State: AOJu0YxyYkiV1VTC+9ez6GvTt1hUI9DT/dZMXJMCa0bNXZCR9yp3LyI9
 3+9oZnF5mxDNK5LAN4FpkLSv5ArlZOFgvOtQ3YfoUi4hVOYL3bEG/7y+b4hRj4wCmJw8UEBDHmq
 +dxLSMoatFF7dkLxGkoAScLiFbkXWCKy57rfozvly
X-Google-Smtp-Source: AGHT+IHy2bTYPQflkHFvmmP81GtJ8BTWy/OueIqc+ixq7/0T40kIFeE7IZyslyp8/vi4oKB3hmC+VcqhXUWx
X-Received: by 2002:a9d:63d6:0:b0:6e4:94d9:6aa3 with SMTP id
 e22-20020a9d63d6000000b006e494d96aa3mr10384762otl.28.1709076139174; 
 Tue, 27 Feb 2024 15:22:19 -0800 (PST)
Received: from postal.iol.unh.edu (postal.iol.unh.edu. [132.177.123.84])
 by smtp-relay.gmail.com with ESMTPS id
 c32-20020a05683034a000b006e4ac19fae0sm92899otu.7.2024.02.27.15.22.19
 (version=TLS1_2 cipher=ECDHE-ECDSA-AES128-GCM-SHA256 bits=128/128);
 Tue, 27 Feb 2024 15:22:19 -0800 (PST)
X-Relaying-Domain: iol.unh.edu
Date: Tue, 27 Feb 2024 15:22:19 -0800 (PST)
Message-ID: <65de6eab.050a0220.d75ec.4da6SMTPIN_ADDED_MISSING@mx.google.com>
Received: from [172.17.0.8] (unknown [172.18.0.217])
 by postal.iol.unh.edu (Postfix) with ESMTP id A5DA86052712;
 Tue, 27 Feb 2024 18:22:18 -0500 (EST)
Subject: |SUCCESS| pw137362-137360 [PATCH] [v9,4/4] app/dma-perf: add SG copy
From: dpdklab@iol.unh.edu
To: Test Report <test-report@dpdk.org>
Cc: dpdk-test-reports@iol.unh.edu
In-Reply-To: <20240227160031.3931694-5-amitprakashs@marvell.com>
References: <20240227160031.3931694-5-amitprakashs@marvell.com>
Content-Type: text/plain
X-BeenThere: test-report@dpdk.org
X-Mailman-Version: 2.1.29
Precedence: list
List-Id: automatic DPDK test reports <test-report.dpdk.org>
List-Unsubscribe: <https://mails.dpdk.org/options/test-report>,
 <mailto:test-report-request@dpdk.org?subject=unsubscribe>
List-Archive: <http://mails.dpdk.org/archives/test-report/>
List-Post: <mailto:test-report@dpdk.org>
List-Help: <mailto:test-report-request@dpdk.org?subject=help>
List-Subscribe: <https://mails.dpdk.org/listinfo/test-report>,
 <mailto:test-report-request@dpdk.org?subject=subscribe>
Errors-To: test-report-bounces@dpdk.org

Test-Label: iol-unit-arm64-testing
Test-Status: SUCCESS
http://dpdk.org/patch/137360

_Testing PASS_

Submitter: Amit Prakash Shukla <amitprakashs@marvell.com>
Date: Tuesday, February 27 2024 16:00:31 
DPDK git baseline: Repo:dpdk
  Branch: master
  CommitID:92c0ad70caf3ed6f4b93de6ddaf7bc369737c049

137362-137360 --> testing pass

Test environment and result as below:

+--------------------------+--------------+---------------------------+----------------+------------------------------+
|       Environment        | lpm_autotest | cryptodev_sw_zuc_autotest | dpdk_unit_test | cryptodev_sw_snow3g_autotest |
+==========================+==============+===========================+================+==============================+
| Ubuntu 20.04 ARM SVE     | PASS         | SKIPPED                   | SKIPPED        | SKIPPED                      |
+--------------------------+--------------+---------------------------+----------------+------------------------------+
| Debian 12 (arm)          | SKIPPED      | PASS                      | PASS           | PASS                         |
+--------------------------+--------------+---------------------------+----------------+------------------------------+
| CentOS Stream 9 (ARM)    | SKIPPED      | SKIPPED                   | PASS           | SKIPPED                      |
+--------------------------+--------------+---------------------------+----------------+------------------------------+
| Debian 11 (Buster) (ARM) | SKIPPED      | SKIPPED                   | PASS           | SKIPPED                      |
+--------------------------+--------------+---------------------------+----------------+------------------------------+
| Fedora 38 (ARM)          | SKIPPED      | SKIPPED                   | PASS           | SKIPPED                      |
+--------------------------+--------------+---------------------------+----------------+------------------------------+
| Ubuntu 20.04 (ARM)       | SKIPPED      | SKIPPED                   | PASS           | SKIPPED                      |
+--------------------------+--------------+---------------------------+----------------+------------------------------+


Ubuntu 20.04 ARM SVE
	Kernel: 5.4.0-80-generic
	Compiler: gcc 10.3.0 (Ubuntu 10.3.0-1ubuntu1~20.04)

Debian 12 (arm)
	Kernel: Container Host Kernel
	Compiler: gcc 11

CentOS Stream 9 (ARM)
	Kernel: Container Host Kernel
	Compiler: gcc 11.3.1

Debian 11 (Buster) (ARM)
	Kernel: Container Host Kernel
	Compiler: gcc 10.2.1

Fedora 38 (ARM)
	Kernel: Depends on container host
	Compiler: gcc 13.1.1

Ubuntu 20.04 (ARM)
	Kernel: Container Host Kernel
	Compiler: gcc 9.4.0

To view detailed results, visit:
https://lab.dpdk.org/results/dashboard/patchsets/29294/

UNH-IOL DPDK Community Lab

To manage your email subscriptions, visit: 
https://lab.dpdk.org/results/dashboard/preferences/subscriptions/