From mboxrd@z Thu Jan  1 00:00:00 1970
Return-Path: <test-report-bounces@dpdk.org>
Received: from mails.dpdk.org (mails.dpdk.org [217.70.189.124])
	by inbox.dpdk.org (Postfix) with ESMTP id 99C5C43C0E
	for <public@inbox.dpdk.org>; Wed, 28 Feb 2024 01:27:07 +0100 (CET)
Received: from mails.dpdk.org (localhost [127.0.0.1])
	by mails.dpdk.org (Postfix) with ESMTP id 9508240295;
	Wed, 28 Feb 2024 01:27:07 +0100 (CET)
Received: from mail-oi1-f225.google.com (mail-oi1-f225.google.com
 [209.85.167.225])
 by mails.dpdk.org (Postfix) with ESMTP id 81BCF400EF
 for <test-report@dpdk.org>; Wed, 28 Feb 2024 01:27:06 +0100 (CET)
Received: by mail-oi1-f225.google.com with SMTP id
 5614622812f47-3c15b7b36bbso1961995b6e.1
 for <test-report@dpdk.org>; Tue, 27 Feb 2024 16:27:06 -0800 (PST)
DKIM-Signature: v=1; a=rsa-sha256; c=relaxed/relaxed;
 d=iol.unh.edu; s=unh-iol; t=1709080026; x=1709684826; darn=dpdk.org;
 h=references:in-reply-to:cc:to:from:subject:message-id:date:from:to
 :cc:subject:date:message-id:reply-to;
 bh=YORO6009G9JKTnXRo9CeI/SthRrsygMRKj1CKaSN5EM=;
 b=EuwGi8ckwZ4zj67WF1nFyKYMIxdmqulrM4RzIK3S73NhxuiS+RQMlMaH+ziRXzFGA/
 SHJnPHda08G8lMTAY9C6vJiwwpU9xX8T3kagELSYrJn1zd110jNtYFUAoCNC9AmyYyGp
 3QYfXnGnPImle0He91MuqNy5vjepPcnQ8vbfI=
X-Google-DKIM-Signature: v=1; a=rsa-sha256; c=relaxed/relaxed;
 d=1e100.net; s=20230601; t=1709080026; x=1709684826;
 h=references:in-reply-to:cc:to:from:subject:message-id:date
 :x-gm-message-state:from:to:cc:subject:date:message-id:reply-to;
 bh=YORO6009G9JKTnXRo9CeI/SthRrsygMRKj1CKaSN5EM=;
 b=gCsLFXsB/07YnJ3z2AOd7SSl1uREe5AaLbztCM4brpqiW0Ioyh2leS9r13waTrUaXY
 e4DIBw8rzveUnQbJbO7N/eqgYaZeDn9bq8zykG0/uZ68sPd8kl5eXErHmVVAiFatpwar
 +LNfyYuOJ6TBSdFZCwT9GoGNgh+Y/4rIdbh6iqp1w23j+xf+Frruf1eTshccPCCGSA3z
 7sDvN0NqLjeK8Ptma0V15ng2H83cXhi/6xSiJS0wteHE7aNPZCoFLJDzm9bBmmdqsjaD
 JmDrQSJXNf7PgK9KJ/WwUdsIUPuPdxWIHSG56wMuWsdkUNzUBlBPZq9E/lbQlEb2mZEj
 72Rg==
X-Gm-Message-State: AOJu0Ywn4lyUA6esMaKAwqOGfHXzWrtOsVDFAAFUnD/wF5T5WYmsq7Vp
 lJKfF663KOmsfzGanAArpG/Q7BFBBdGWCWX+HpoGGIP/3qvyeOxIdykcMag5wqvHqGFKmJPQPS5
 dt7L8NND1upRDKe8It2GYHXbA4V3ovy2VOnpbJJL0PILWmva+MIYuEswJ
X-Google-Smtp-Source: AGHT+IES59X8Gg2Gd11MOndOyMjDOTqjOg/t/fd+3ovc47mMuuDSG8xAVng9/EZ6e87YkrI2dAV9XVoOHCog
X-Received: by 2002:a05:6808:448f:b0:3c1:a3df:fa6a with SMTP id
 eq15-20020a056808448f00b003c1a3dffa6amr5236993oib.0.1709080026007; 
 Tue, 27 Feb 2024 16:27:06 -0800 (PST)
Received: from postal.iol.unh.edu (postal.iol.unh.edu.
 [2606:4100:3880:1234::84]) by smtp-relay.gmail.com with ESMTPS id
 p6-20020aa79e86000000b006e482b92650sm234104pfq.8.2024.02.27.16.27.05
 (version=TLS1_2 cipher=ECDHE-ECDSA-AES128-GCM-SHA256 bits=128/128);
 Tue, 27 Feb 2024 16:27:05 -0800 (PST)
X-Relaying-Domain: iol.unh.edu
Date: Tue, 27 Feb 2024 16:27:05 -0800 (PST)
Message-ID: <65de7dd9.a70a0220.c62bc.e017SMTPIN_ADDED_MISSING@mx.google.com>
Received: from [172.21.0.7] (unknown [172.18.0.240])
 by postal.iol.unh.edu (Postfix) with ESMTP id C5A906052712;
 Tue, 27 Feb 2024 19:27:04 -0500 (EST)
Subject: |SUCCESS| pw137366-137367 [PATCH] [v5,4/4] hash: add SVE support for
From: dpdklab@iol.unh.edu
To: Test Report <test-report@dpdk.org>
Cc: dpdk-test-reports@iol.unh.edu
In-Reply-To: <20240227174203.2889333-5-yoan.picchi@arm.com>
References: <20240227174203.2889333-5-yoan.picchi@arm.com>
Content-Type: text/plain
X-BeenThere: test-report@dpdk.org
X-Mailman-Version: 2.1.29
Precedence: list
List-Id: automatic DPDK test reports <test-report.dpdk.org>
List-Unsubscribe: <https://mails.dpdk.org/options/test-report>,
 <mailto:test-report-request@dpdk.org?subject=unsubscribe>
List-Archive: <http://mails.dpdk.org/archives/test-report/>
List-Post: <mailto:test-report@dpdk.org>
List-Help: <mailto:test-report-request@dpdk.org?subject=help>
List-Subscribe: <https://mails.dpdk.org/listinfo/test-report>,
 <mailto:test-report-request@dpdk.org?subject=subscribe>
Errors-To: test-report-bounces@dpdk.org

Test-Label: iol-unit-arm64-testing
Test-Status: SUCCESS
http://dpdk.org/patch/137367

_Testing PASS_

Submitter: Yoan Picchi <yoan.picchi@arm.com>
Date: Tuesday, February 27 2024 17:42:03 
DPDK git baseline: Repo:dpdk
  Branch: master
  CommitID:92c0ad70caf3ed6f4b93de6ddaf7bc369737c049

137366-137367 --> testing pass

Test environment and result as below:

+--------------------------+--------------+---------------------------+------------------------------+----------------+
|       Environment        | lpm_autotest | cryptodev_sw_zuc_autotest | cryptodev_sw_snow3g_autotest | dpdk_unit_test |
+==========================+==============+===========================+==============================+================+
| Ubuntu 20.04 ARM SVE     | PASS         | SKIPPED                   | SKIPPED                      | SKIPPED        |
+--------------------------+--------------+---------------------------+------------------------------+----------------+
| Debian 12 (arm)          | SKIPPED      | PASS                      | PASS                         | PASS           |
+--------------------------+--------------+---------------------------+------------------------------+----------------+
| CentOS Stream 9 (ARM)    | SKIPPED      | SKIPPED                   | SKIPPED                      | PASS           |
+--------------------------+--------------+---------------------------+------------------------------+----------------+
| Debian 11 (Buster) (ARM) | SKIPPED      | SKIPPED                   | SKIPPED                      | PASS           |
+--------------------------+--------------+---------------------------+------------------------------+----------------+
| Fedora 37 (ARM)          | SKIPPED      | SKIPPED                   | SKIPPED                      | PASS           |
+--------------------------+--------------+---------------------------+------------------------------+----------------+
| Ubuntu 20.04 (ARM)       | SKIPPED      | SKIPPED                   | SKIPPED                      | PASS           |
+--------------------------+--------------+---------------------------+------------------------------+----------------+
| Fedora 38 (ARM)          | SKIPPED      | SKIPPED                   | SKIPPED                      | PASS           |
+--------------------------+--------------+---------------------------+------------------------------+----------------+


Ubuntu 20.04 ARM SVE
	Kernel: 5.4.0-80-generic
	Compiler: gcc 10.3.0 (Ubuntu 10.3.0-1ubuntu1~20.04)

Debian 12 (arm)
	Kernel: Container Host Kernel
	Compiler: gcc 11

CentOS Stream 9 (ARM)
	Kernel: Container Host Kernel
	Compiler: gcc 11.3.1

Debian 11 (Buster) (ARM)
	Kernel: Container Host Kernel
	Compiler: gcc 10.2.1

Fedora 37 (ARM)
	Kernel: Depends on container host
	Compiler: gcc 12.3.1

Ubuntu 20.04 (ARM)
	Kernel: Container Host Kernel
	Compiler: gcc 9.4.0

Fedora 38 (ARM)
	Kernel: Depends on container host
	Compiler: gcc 13.1.1

To view detailed results, visit:
https://lab.dpdk.org/results/dashboard/patchsets/29296/

UNH-IOL DPDK Community Lab

To manage your email subscriptions, visit: 
https://lab.dpdk.org/results/dashboard/preferences/subscriptions/