From mboxrd@z Thu Jan  1 00:00:00 1970
Return-Path: <test-report-bounces@dpdk.org>
Received: from mails.dpdk.org (mails.dpdk.org [217.70.189.124])
	by inbox.dpdk.org (Postfix) with ESMTP id 2EDF743C0E
	for <public@inbox.dpdk.org>; Wed, 28 Feb 2024 01:34:57 +0100 (CET)
Received: from mails.dpdk.org (localhost [127.0.0.1])
	by mails.dpdk.org (Postfix) with ESMTP id 2A07A40295;
	Wed, 28 Feb 2024 01:34:57 +0100 (CET)
Received: from mail-io1-f99.google.com (mail-io1-f99.google.com
 [209.85.166.99]) by mails.dpdk.org (Postfix) with ESMTP id 3FC1D400EF
 for <test-report@dpdk.org>; Wed, 28 Feb 2024 01:34:56 +0100 (CET)
Received: by mail-io1-f99.google.com with SMTP id
 ca18e2360f4ac-7c7770fd687so274300139f.3
 for <test-report@dpdk.org>; Tue, 27 Feb 2024 16:34:56 -0800 (PST)
DKIM-Signature: v=1; a=rsa-sha256; c=relaxed/relaxed;
 d=iol.unh.edu; s=unh-iol; t=1709080495; x=1709685295; darn=dpdk.org;
 h=references:in-reply-to:cc:to:from:subject:message-id:date:from:to
 :cc:subject:date:message-id:reply-to;
 bh=YORO6009G9JKTnXRo9CeI/SthRrsygMRKj1CKaSN5EM=;
 b=KoZAo2KQKTgrHSrH22ef/R0cR98DOXJioP13aXvBjRalZbzUgSdJQLxtXBTV+7G9+U
 KRBagmhDQ20/AQfrAnTq5uGk3+YRniVoWj8k2PzuI8SYVr/4a0PIeai2op/dSSURJHj4
 Quxee2v+TbgLCZQ7rDeIokqBCXxTx0QSN7Bxc=
X-Google-DKIM-Signature: v=1; a=rsa-sha256; c=relaxed/relaxed;
 d=1e100.net; s=20230601; t=1709080495; x=1709685295;
 h=references:in-reply-to:cc:to:from:subject:message-id:date
 :x-gm-message-state:from:to:cc:subject:date:message-id:reply-to;
 bh=YORO6009G9JKTnXRo9CeI/SthRrsygMRKj1CKaSN5EM=;
 b=j96w27GzW7KqiUlk2cMNiGDYlzs3InQA3pX52U61kryYP6ABeCvVHxHqfw4e8apzoD
 U+qFtA4frgRZKj/Xhqs+gyC+I5i/s8Et2tl0crD3QHl0zJHXLSVsaQPbsCvHVyLVofnT
 9Q8HMInINs2Ha4f5BMBmy45QWhXK5ISaEiX+AQmWZNCQ5IZIOqBgx8aVgqeE2OFBjkSf
 SAf4zSd3OmJAsRqeh0N1yX4bORvsedFQPfhUpr9PjCeeHMv9m/zaTybEdLfUxr2iApYV
 lETfq5DHXXGeRWqFUubHdV8DDwJCVrGlu88HTcQSKGPLaWU/wXGmATpFKxqtOTX0FC8O
 1XYw==
X-Gm-Message-State: AOJu0YzyDjmlRL3t2fFkNW7lQbZttwZpENiW1quAlMaCE5wVuf++Nq5g
 /fZKodmktHlK7kHQg9ejrTu4rrn8lFazihlVFhkqeoG9ys3QC25s35qN9B8WbMGoYeqebNbNYtz
 +AP7K8wbaNYacSwjMw/z+gMJfzZRaaFU7PCoc/YVq
X-Google-Smtp-Source: AGHT+IEv3AYxWuY7OZlzjeTK85JuwsoVUviUUMjoC6xH0pSoV5X7TowdPi9QMV1PXyfFqpXZg6VcsVivSm/4
X-Received: by 2002:a05:6602:64c:b0:7c7:e229:d078 with SMTP id
 d12-20020a056602064c00b007c7e229d078mr3904673iox.15.1709080495637; 
 Tue, 27 Feb 2024 16:34:55 -0800 (PST)
Received: from postal.iol.unh.edu (postal.iol.unh.edu. [132.177.123.84])
 by smtp-relay.gmail.com with ESMTPS id
 c21-20020a6bfd15000000b007c741a0c47asm284795ioi.24.2024.02.27.16.34.55
 (version=TLS1_2 cipher=ECDHE-ECDSA-AES128-GCM-SHA256 bits=128/128);
 Tue, 27 Feb 2024 16:34:55 -0800 (PST)
X-Relaying-Domain: iol.unh.edu
Date: Tue, 27 Feb 2024 16:34:55 -0800 (PST)
Message-ID: <65de7faf.6b0a0220.e1dc6.365cSMTPIN_ADDED_MISSING@mx.google.com>
Received: from [172.21.0.6] (unknown [172.18.0.240])
 by postal.iol.unh.edu (Postfix) with ESMTP id 2BE686052712;
 Tue, 27 Feb 2024 19:34:55 -0500 (EST)
Subject: |SUCCESS| pw137366-137367 [PATCH] [v5,4/4] hash: add SVE support for
From: dpdklab@iol.unh.edu
To: Test Report <test-report@dpdk.org>
Cc: dpdk-test-reports@iol.unh.edu
In-Reply-To: <20240227174203.2889333-5-yoan.picchi@arm.com>
References: <20240227174203.2889333-5-yoan.picchi@arm.com>
Content-Type: text/plain
X-BeenThere: test-report@dpdk.org
X-Mailman-Version: 2.1.29
Precedence: list
List-Id: automatic DPDK test reports <test-report.dpdk.org>
List-Unsubscribe: <https://mails.dpdk.org/options/test-report>,
 <mailto:test-report-request@dpdk.org?subject=unsubscribe>
List-Archive: <http://mails.dpdk.org/archives/test-report/>
List-Post: <mailto:test-report@dpdk.org>
List-Help: <mailto:test-report-request@dpdk.org?subject=help>
List-Subscribe: <https://mails.dpdk.org/listinfo/test-report>,
 <mailto:test-report-request@dpdk.org?subject=subscribe>
Errors-To: test-report-bounces@dpdk.org

Test-Label: iol-unit-arm64-testing
Test-Status: SUCCESS
http://dpdk.org/patch/137367

_Testing PASS_

Submitter: Yoan Picchi <yoan.picchi@arm.com>
Date: Tuesday, February 27 2024 17:42:03 
DPDK git baseline: Repo:dpdk
  Branch: master
  CommitID:92c0ad70caf3ed6f4b93de6ddaf7bc369737c049

137366-137367 --> testing pass

Test environment and result as below:

+--------------------------+--------------+---------------------------+------------------------------+----------------+
|       Environment        | lpm_autotest | cryptodev_sw_zuc_autotest | cryptodev_sw_snow3g_autotest | dpdk_unit_test |
+==========================+==============+===========================+==============================+================+
| Ubuntu 20.04 ARM SVE     | PASS         | SKIPPED                   | SKIPPED                      | SKIPPED        |
+--------------------------+--------------+---------------------------+------------------------------+----------------+
| Debian 12 (arm)          | SKIPPED      | PASS                      | PASS                         | PASS           |
+--------------------------+--------------+---------------------------+------------------------------+----------------+
| CentOS Stream 9 (ARM)    | SKIPPED      | SKIPPED                   | SKIPPED                      | PASS           |
+--------------------------+--------------+---------------------------+------------------------------+----------------+
| Debian 11 (Buster) (ARM) | SKIPPED      | SKIPPED                   | SKIPPED                      | PASS           |
+--------------------------+--------------+---------------------------+------------------------------+----------------+
| Fedora 37 (ARM)          | SKIPPED      | SKIPPED                   | SKIPPED                      | PASS           |
+--------------------------+--------------+---------------------------+------------------------------+----------------+
| Ubuntu 20.04 (ARM)       | SKIPPED      | SKIPPED                   | SKIPPED                      | PASS           |
+--------------------------+--------------+---------------------------+------------------------------+----------------+
| Fedora 38 (ARM)          | SKIPPED      | SKIPPED                   | SKIPPED                      | PASS           |
+--------------------------+--------------+---------------------------+------------------------------+----------------+


Ubuntu 20.04 ARM SVE
	Kernel: 5.4.0-80-generic
	Compiler: gcc 10.3.0 (Ubuntu 10.3.0-1ubuntu1~20.04)

Debian 12 (arm)
	Kernel: Container Host Kernel
	Compiler: gcc 11

CentOS Stream 9 (ARM)
	Kernel: Container Host Kernel
	Compiler: gcc 11.3.1

Debian 11 (Buster) (ARM)
	Kernel: Container Host Kernel
	Compiler: gcc 10.2.1

Fedora 37 (ARM)
	Kernel: Depends on container host
	Compiler: gcc 12.3.1

Ubuntu 20.04 (ARM)
	Kernel: Container Host Kernel
	Compiler: gcc 9.4.0

Fedora 38 (ARM)
	Kernel: Depends on container host
	Compiler: gcc 13.1.1

To view detailed results, visit:
https://lab.dpdk.org/results/dashboard/patchsets/29296/

UNH-IOL DPDK Community Lab

To manage your email subscriptions, visit: 
https://lab.dpdk.org/results/dashboard/preferences/subscriptions/