From mboxrd@z Thu Jan  1 00:00:00 1970
Return-Path: <test-report-bounces@dpdk.org>
Received: from mails.dpdk.org (mails.dpdk.org [217.70.189.124])
	by inbox.dpdk.org (Postfix) with ESMTP id 8A29A43C10
	for <public@inbox.dpdk.org>; Wed, 28 Feb 2024 01:44:47 +0100 (CET)
Received: from mails.dpdk.org (localhost [127.0.0.1])
	by mails.dpdk.org (Postfix) with ESMTP id 85DED402A9;
	Wed, 28 Feb 2024 01:44:47 +0100 (CET)
Received: from mail-yw1-f227.google.com (mail-yw1-f227.google.com
 [209.85.128.227])
 by mails.dpdk.org (Postfix) with ESMTP id 999044027D
 for <test-report@dpdk.org>; Wed, 28 Feb 2024 01:44:46 +0100 (CET)
Received: by mail-yw1-f227.google.com with SMTP id
 00721157ae682-60925c4235eso13771857b3.3
 for <test-report@dpdk.org>; Tue, 27 Feb 2024 16:44:46 -0800 (PST)
DKIM-Signature: v=1; a=rsa-sha256; c=relaxed/relaxed;
 d=iol.unh.edu; s=unh-iol; t=1709081086; x=1709685886; darn=dpdk.org;
 h=references:in-reply-to:cc:to:from:subject:message-id:date:from:to
 :cc:subject:date:message-id:reply-to;
 bh=gNEWCRg3HEL8hMtEuuL71b7yvFNSF/JWHElpwrz2RZA=;
 b=RULXP4yWhIfqTRPHADTvipaOaKtL1Oh5Kw8jfFYlBJ4lnrP5aamyv+8pfJY0TRpGJh
 tRvlEf7R1rJYho9wa5DLE8egjKdYPrObLMUROQs1IBJyepJ5ac96GU89Jv+jsuXK8+EZ
 GMi9ewUdvnLbwX7nAJorGkqU2rpezy7BpVSco=
X-Google-DKIM-Signature: v=1; a=rsa-sha256; c=relaxed/relaxed;
 d=1e100.net; s=20230601; t=1709081086; x=1709685886;
 h=references:in-reply-to:cc:to:from:subject:message-id:date
 :x-gm-message-state:from:to:cc:subject:date:message-id:reply-to;
 bh=gNEWCRg3HEL8hMtEuuL71b7yvFNSF/JWHElpwrz2RZA=;
 b=IbPh3w4gGRiXW+FDoSmhuRnjR7/m7RpZXe3HtWeta2QazciBYbGnVI/2i+jcNcl1fa
 v07ahzxa8/XcD2lDqDhiRTIlA8oq3ybwfw2R4ZWiSxCmbylknkTMN4qM8IHuW8nRStjm
 X4Ag0BSPAT5JbuqJqHrXSR/4IQmjvKQ9mEbncPQCdnu2lbbSiv1cHT/hCo5uYBwqprrA
 2TFW94VckFF0yLrYrjumWqhHpyGj0jcVpcJB/VGbN8AfkddEb4LUGvXLwUjNPxcLsYOW
 KQ1GBcomJgIxg4dLMjFQWT5LJci6kUWXvz4I/nVKR3fFgLNhLkWAaP2oICCn+cHlUVEp
 ReWw==
X-Gm-Message-State: AOJu0YxymAHpqz4W4R81klOZYe0ZOQ3jZ12RrO6KeZPENllpJWszZmYE
 j60K9vpT/Bd9slEu8eush36e3myp5SIVSQUJPmnwA3kT+3N3cc8euMOzkLthjSLHfvncmx/au4m
 U7zp5F/n3aYcBXS8pFkH7KExFDWL6ITER3Z9v3vL8
X-Google-Smtp-Source: AGHT+IH8Nb7wufS8Uq7uTTVI72d8a+wb1OoCSeQ+FK8VDDSBZW1P8eS3PMKm1tFEHJgUNC6yMSyBHfY3zUhi
X-Received: by 2002:a0d:ef01:0:b0:608:d585:e21b with SMTP id
 y1-20020a0def01000000b00608d585e21bmr4343771ywe.0.1709081085960; 
 Tue, 27 Feb 2024 16:44:45 -0800 (PST)
Received: from postal.iol.unh.edu (postal.iol.unh.edu. [132.177.123.84])
 by smtp-relay.gmail.com with ESMTPS id
 t10-20020a815f0a000000b0060929b7a242sm153418ywb.78.2024.02.27.16.44.45
 (version=TLS1_2 cipher=ECDHE-ECDSA-AES128-GCM-SHA256 bits=128/128);
 Tue, 27 Feb 2024 16:44:45 -0800 (PST)
X-Relaying-Domain: iol.unh.edu
Date: Tue, 27 Feb 2024 16:44:45 -0800 (PST)
Message-ID: <65de81fd.810a0220.8528b.9bffSMTPIN_ADDED_MISSING@mx.google.com>
Received: from [172.21.0.6] (unknown [172.18.0.240])
 by postal.iol.unh.edu (Postfix) with ESMTP id 9CF0A6052712;
 Tue, 27 Feb 2024 19:44:45 -0500 (EST)
Subject: |SUCCESS| pw137363 [PATCH] lib/hash: add SipHash function
From: dpdklab@iol.unh.edu
To: Test Report <test-report@dpdk.org>
Cc: dpdk-test-reports@iol.unh.edu
In-Reply-To: <20240227174012.343004-1-stephen@networkplumber.org>
References: <20240227174012.343004-1-stephen@networkplumber.org>
Content-Type: text/plain
X-BeenThere: test-report@dpdk.org
X-Mailman-Version: 2.1.29
Precedence: list
List-Id: automatic DPDK test reports <test-report.dpdk.org>
List-Unsubscribe: <https://mails.dpdk.org/options/test-report>,
 <mailto:test-report-request@dpdk.org?subject=unsubscribe>
List-Archive: <http://mails.dpdk.org/archives/test-report/>
List-Post: <mailto:test-report@dpdk.org>
List-Help: <mailto:test-report-request@dpdk.org?subject=help>
List-Subscribe: <https://mails.dpdk.org/listinfo/test-report>,
 <mailto:test-report-request@dpdk.org?subject=subscribe>
Errors-To: test-report-bounces@dpdk.org

Test-Label: iol-unit-amd64-testing
Test-Status: SUCCESS
http://dpdk.org/patch/137363

_Testing PASS_

Submitter: Stephen Hemminger <stephen@networkplumber.org>
Date: Tuesday, February 27 2024 17:39:01 
DPDK git baseline: Repo:dpdk
  Branch: master
  CommitID:92c0ad70caf3ed6f4b93de6ddaf7bc369737c049

137363 --> testing pass

Test environment and result as below:

+------------------+----------------+
|   Environment    | dpdk_unit_test |
+==================+================+
| Debian 12 (arm)  | PASS           |
+------------------+----------------+
| CentOS Stream 8  | PASS           |
+------------------+----------------+
| CentOS Stream 9  | PASS           |
+------------------+----------------+
| Debian Bullseye  | PASS           |
+------------------+----------------+
| Fedora 38        | PASS           |
+------------------+----------------+
| Fedora 37        | PASS           |
+------------------+----------------+
| Ubuntu 20.04     | PASS           |
+------------------+----------------+
| openSUSE Leap 15 | PASS           |
+------------------+----------------+
| RHEL8            | PASS           |
+------------------+----------------+
| Ubuntu 22.04     | PASS           |
+------------------+----------------+


Debian 12 (arm)
	Kernel: Container Host Kernel
	Compiler: gcc 11

CentOS Stream 8
	Kernel: 4.18.0-240.10.1.el8_3.x86_64
	Compiler: gcc 8.4.1 20200928

CentOS Stream 9
	Kernel: 4.18.0-240.10.1.el8_3.x86_64
	Compiler: gcc 11.3.1 20220421

Debian Bullseye
	Kernel: 5.4.0-122-generic
	Compiler: gcc 10.2.1-6

Fedora 38
	Kernel: Depends on container host
	Compiler: gcc 13.1.1

Fedora 37
	Kernel: Depends on container host system
	Compiler: gcc 12.3.1

Ubuntu 20.04
	Kernel: 5.4.0-153-generic
	Compiler: gcc 9.4.0-1ubuntu1~20.04.1

openSUSE Leap 15
	Kernel: 4.18.0-240.10.1.el8_3.x86_64
	Compiler: gcc 7.5.0

RHEL8
	Kernel: 4.18.0-240.10.1.el8_3.x86_64
	Compiler: gcc 8.3.1 20191121 (Red Hat 8.3.1-5)

Ubuntu 22.04
	Kernel: 4.18.0-240.10.1.el8_3.x86_64
	Compiler: gcc 11.3.0

To view detailed results, visit:
https://lab.dpdk.org/results/dashboard/patchsets/29295/

UNH-IOL DPDK Community Lab

To manage your email subscriptions, visit: 
https://lab.dpdk.org/results/dashboard/preferences/subscriptions/