From mboxrd@z Thu Jan  1 00:00:00 1970
Return-Path: <test-report-bounces@dpdk.org>
Received: from mails.dpdk.org (mails.dpdk.org [217.70.189.124])
	by inbox.dpdk.org (Postfix) with ESMTP id AA54443B8A
	for <public@inbox.dpdk.org>; Wed, 28 Feb 2024 01:47:09 +0100 (CET)
Received: from mails.dpdk.org (localhost [127.0.0.1])
	by mails.dpdk.org (Postfix) with ESMTP id A6632402A9;
	Wed, 28 Feb 2024 01:47:09 +0100 (CET)
Received: from mail-yw1-f228.google.com (mail-yw1-f228.google.com
 [209.85.128.228])
 by mails.dpdk.org (Postfix) with ESMTP id 927204027D
 for <test-report@dpdk.org>; Wed, 28 Feb 2024 01:47:08 +0100 (CET)
Received: by mail-yw1-f228.google.com with SMTP id
 00721157ae682-60822b444c9so32802257b3.2
 for <test-report@dpdk.org>; Tue, 27 Feb 2024 16:47:08 -0800 (PST)
DKIM-Signature: v=1; a=rsa-sha256; c=relaxed/relaxed;
 d=iol.unh.edu; s=unh-iol; t=1709081228; x=1709686028; darn=dpdk.org;
 h=references:in-reply-to:cc:to:from:subject:message-id:date:from:to
 :cc:subject:date:message-id:reply-to;
 bh=he8xCEFNM23DUSdv7xQ5wNhaJvLTAbvdLIvv/UyjGDY=;
 b=XLspDxQJBZBx3b0Imgp4LTWQi4ZXSVPnN5FVoQap+/hNyxCECADTal3IFbAaSkzxWx
 rhI1gCKtKCluWy5TvlT8KM5AqUVYB8jV888sCf9PDFnl14riN0ENlTHHxzb49i/Pdi+Q
 sDonE3dr7FAeoGq0PAMkMWHGumSFjbh6did80=
X-Google-DKIM-Signature: v=1; a=rsa-sha256; c=relaxed/relaxed;
 d=1e100.net; s=20230601; t=1709081228; x=1709686028;
 h=references:in-reply-to:cc:to:from:subject:message-id:date
 :x-gm-message-state:from:to:cc:subject:date:message-id:reply-to;
 bh=he8xCEFNM23DUSdv7xQ5wNhaJvLTAbvdLIvv/UyjGDY=;
 b=MAMIEIYh/eExYJiJImB7bjNR/05Bpa3OLGFLobNpxQDhB34MnK6Hk3+g6uDnaSFiEM
 G5eUpZkS+nCZrvFGkxVU2vqRinVnQxKiAFxcpCZNwsOcOZ/0UGIX3/5jPZRMmaep9CMX
 zDINIEFH9DsSrfD15Als9HuuCihF6havtWbC/WBmortVIyqmgjYMRvUWAk1zG1rs9Ixi
 LDq4GLmyTTdu7P0Ufqqt/OUFtTKmC3aj1jnCvWS5hfqOt/U9W9CWlKmexq492IdT9Ifc
 5IOtFJgI2WysPQ3EQg00CRT1pwLhCO2q8LRrCUlHfVGDJNB2HfQ0qfyamjtzLKwgAIXa
 TqzQ==
X-Gm-Message-State: AOJu0YzVVrit2KR7B9MRG+dhexHVMuIl+q7EFBVrNRma0Zr+Kk3LEfF+
 Xfby5sEj346xr9pDzjh9sTwWK4vy1OXVaXIEVFeyjjflW6r4uNh4Wxz1K07IRc7Ogu0JLAsDqDZ
 sAewZT0j9P29L8oGt+zJQ36Ve9Ni9C4KS1JqJrQtnRN1tHfqBiPVABlqE
X-Google-Smtp-Source: AGHT+IGW9o1MZjgXy5sn7/waHkHDJNXDmfXB+y5N2dslAZoA0hOcPfq1C4X5QLvtP/vKIUHJ3oE3RUgFWCGf
X-Received: by 2002:a0d:cc96:0:b0:608:f912:c872 with SMTP id
 o144-20020a0dcc96000000b00608f912c872mr3803536ywd.30.1709081228030; 
 Tue, 27 Feb 2024 16:47:08 -0800 (PST)
Received: from postal.iol.unh.edu (postal.iol.unh.edu.
 [2606:4100:3880:1234::84]) by smtp-relay.gmail.com with ESMTPS id
 u11-20020a81600b000000b00607853652e7sm580809ywb.20.2024.02.27.16.47.07
 (version=TLS1_2 cipher=ECDHE-ECDSA-AES128-GCM-SHA256 bits=128/128);
 Tue, 27 Feb 2024 16:47:08 -0800 (PST)
X-Relaying-Domain: iol.unh.edu
Date: Tue, 27 Feb 2024 16:47:08 -0800 (PST)
Message-ID: <65de828c.810a0220.16d61.230cSMTPIN_ADDED_MISSING@mx.google.com>
Received: from [172.21.0.6] (unknown [172.18.0.240])
 by postal.iol.unh.edu (Postfix) with ESMTP id BC45A6052712;
 Tue, 27 Feb 2024 19:47:07 -0500 (EST)
Subject: |SUCCESS| pw137349-137350 [PATCH] [v4,2/2] net/mlx5: add cross port 
From: dpdklab@iol.unh.edu
To: Test Report <test-report@dpdk.org>
Cc: dpdk-test-reports@iol.unh.edu
In-Reply-To: <20240227133714.12705-3-dsosnowski@nvidia.com>
References: <20240227133714.12705-3-dsosnowski@nvidia.com>
Content-Type: text/plain
X-BeenThere: test-report@dpdk.org
X-Mailman-Version: 2.1.29
Precedence: list
List-Id: automatic DPDK test reports <test-report.dpdk.org>
List-Unsubscribe: <https://mails.dpdk.org/options/test-report>,
 <mailto:test-report-request@dpdk.org?subject=unsubscribe>
List-Archive: <http://mails.dpdk.org/archives/test-report/>
List-Post: <mailto:test-report@dpdk.org>
List-Help: <mailto:test-report-request@dpdk.org?subject=help>
List-Subscribe: <https://mails.dpdk.org/listinfo/test-report>,
 <mailto:test-report-request@dpdk.org?subject=subscribe>
Errors-To: test-report-bounces@dpdk.org

Test-Label: iol-compile-arm64-testing
Test-Status: SUCCESS
http://dpdk.org/patch/137350

_Testing PASS_

Submitter: Dariusz Sosnowski <dsosnowski@nvidia.com>
Date: Tuesday, February 27 2024 13:37:14 
DPDK git baseline: Repo:dpdk
  Branch: master
  CommitID:fdcd099fbaa513409ea4185b2362d9d6623cf26e

137349-137350 --> testing pass

Test environment and result as below:

+----------------------------------------+--------------------+
|              Environment               | dpdk_meson_compile |
+========================================+====================+
| Ubuntu 20.04 ARM SVE                   | PASS               |
+----------------------------------------+--------------------+
| Ubuntu 20.04 ARM GCC Cross Compile     | PASS               |
+----------------------------------------+--------------------+
| Ubuntu 20.04 aarch32 GCC Cross Compile | PASS               |
+----------------------------------------+--------------------+
| Fedora 38 (ARM)                        | PASS               |
+----------------------------------------+--------------------+
| Debian 12 (arm)                        | PASS               |
+----------------------------------------+--------------------+
| CentOS Stream 9 (ARM)                  | PASS               |
+----------------------------------------+--------------------+
| Ubuntu 20.04 ARM Clang Cross Compile   | PASS               |
+----------------------------------------+--------------------+
| Debian 11 (Buster) (ARM)               | PASS               |
+----------------------------------------+--------------------+
| Fedora 37 (ARM)                        | PASS               |
+----------------------------------------+--------------------+
| Ubuntu 20.04 (ARM)                     | PASS               |
+----------------------------------------+--------------------+
| Fedora 38 (ARM Clang)                  | PASS               |
+----------------------------------------+--------------------+


Ubuntu 20.04 ARM SVE
	Kernel: 5.4.0-80-generic
	Compiler: gcc 10.3.0 (Ubuntu 10.3.0-1ubuntu1~20.04)

Ubuntu 20.04 ARM GCC Cross Compile
	Kernel: 5.4.0-72-generic
	Compiler: aarch64-linux-gnu-gcc (Ubuntu 9.3.0-17ubuntu1~20.04) 9.3.0

Ubuntu 20.04 aarch32 GCC Cross Compile
	Kernel: 5.4.0-72-generic
	Compiler: gcc 9.3.0

Fedora 38 (ARM)
	Kernel: Depends on container host
	Compiler: gcc 13.1.1

Debian 12 (arm)
	Kernel: Container Host Kernel
	Compiler: gcc 11

CentOS Stream 9 (ARM)
	Kernel: Container Host Kernel
	Compiler: gcc 11.3.1

Ubuntu 20.04 ARM Clang Cross Compile
	Kernel: 5.4.0-72-generic
	Compiler: clang version 10.0.0-4ubuntu1

Debian 11 (Buster) (ARM)
	Kernel: Container Host Kernel
	Compiler: gcc 10.2.1

Fedora 37 (ARM)
	Kernel: Depends on container host
	Compiler: gcc 12.3.1

Ubuntu 20.04 (ARM)
	Kernel: Container Host Kernel
	Compiler: gcc 9.4.0

Fedora 38 (ARM Clang)
	Kernel: Depends on container host
	Compiler: clang 16.0.3

To view detailed results, visit:
https://lab.dpdk.org/results/dashboard/patchsets/29288/

UNH-IOL DPDK Community Lab

To manage your email subscriptions, visit: 
https://lab.dpdk.org/results/dashboard/preferences/subscriptions/