From mboxrd@z Thu Jan  1 00:00:00 1970
Return-Path: <test-report-bounces@dpdk.org>
Received: from mails.dpdk.org (mails.dpdk.org [217.70.189.124])
	by inbox.dpdk.org (Postfix) with ESMTP id A442443C0F
	for <public@inbox.dpdk.org>; Wed, 28 Feb 2024 02:28:54 +0100 (CET)
Received: from mails.dpdk.org (localhost [127.0.0.1])
	by mails.dpdk.org (Postfix) with ESMTP id 9EC9D40E7C;
	Wed, 28 Feb 2024 02:28:54 +0100 (CET)
Received: from mail-oa1-f97.google.com (mail-oa1-f97.google.com
 [209.85.160.97]) by mails.dpdk.org (Postfix) with ESMTP id 5FA424027D
 for <test-report@dpdk.org>; Wed, 28 Feb 2024 02:28:17 +0100 (CET)
Received: by mail-oa1-f97.google.com with SMTP id
 586e51a60fabf-214def5da12so2663124fac.2
 for <test-report@dpdk.org>; Tue, 27 Feb 2024 17:28:17 -0800 (PST)
DKIM-Signature: v=1; a=rsa-sha256; c=relaxed/relaxed;
 d=iol.unh.edu; s=unh-iol; t=1709083697; x=1709688497; darn=dpdk.org;
 h=references:in-reply-to:cc:to:from:subject:message-id:date:from:to
 :cc:subject:date:message-id:reply-to;
 bh=gNEWCRg3HEL8hMtEuuL71b7yvFNSF/JWHElpwrz2RZA=;
 b=at+3NMuU4YQeXoeycqGZuQhmpPqvpVWqVj30xAIvoJM6y8e7EhBqPWaySH0f0or7am
 3x7bNQyVVkDbmi967nXM+Zp7EpPTwANI4FFdz7WQ7VPqIDAMHUrROEAH9xzXiH25uLUr
 ORK47s9d/B7BD66vXd19/TBzHHsNyVtvxPY+E=
X-Google-DKIM-Signature: v=1; a=rsa-sha256; c=relaxed/relaxed;
 d=1e100.net; s=20230601; t=1709083697; x=1709688497;
 h=references:in-reply-to:cc:to:from:subject:message-id:date
 :x-gm-message-state:from:to:cc:subject:date:message-id:reply-to;
 bh=gNEWCRg3HEL8hMtEuuL71b7yvFNSF/JWHElpwrz2RZA=;
 b=xUZiXdWCXT3LIwCITWxHQVgMPNg7ebSlNsFw/LRAUXDD/v0JvUDDibSJL3r1b8RQEy
 XZ8ukmFRnjtFGj2H2Asrzw+2wzwbJBeNDKYCgRr+UhR+D7I0eiVJEq8WH5pAfBi8nQQT
 Dal/8DyWz77Vea5Q4EQ0tjqb46qo+7igQQvZFD0aM3xlhfNvaDLT+UKN2whQkR08voy7
 cXZ6vHXYMQvnTYqPOEkj54qB0ctyXnkPFAIfBteEZ2tgbBP9qmwGFFXKK+il6Jryp8wq
 0Ky/+xw7hLJ/tEnscHooaETO6BYsobJa+PClWKMuHTgBdcmp5O1Q4Knry/LHmgQedRn4
 psEA==
X-Gm-Message-State: AOJu0Yxs72Y+VSgHeR1D8Wtiqi75s4VCrWySyw4w4kXgGkPscnwXHTzg
 oJ8w23o29+cLTy64tudxybEzoUJEjg+8DIcM/FRfb36jaVMnwjgKXdG1A1CWR0kMlc33kWmsa0m
 EYU5GjZ8a2SfluAXrW420gzx0NdmnaWpDVKu8RZBEkg6XWQfjGkz6em2R
X-Google-Smtp-Source: AGHT+IFOy1PMJTUj7GjURgdaACgy5Ehz/exvU8kg25wwuoUjELdeMr+AYpDWVd/mZgT9m7ziF5rU9BYYGsh7
X-Received: by 2002:a05:6870:14c1:b0:21e:959e:83ed with SMTP id
 l1-20020a05687014c100b0021e959e83edmr12851601oab.15.1709083696842; 
 Tue, 27 Feb 2024 17:28:16 -0800 (PST)
Received: from postal.iol.unh.edu (postal.iol.unh.edu.
 [2606:4100:3880:1234::84]) by smtp-relay.gmail.com with ESMTPS id
 zj27-20020a0568716c9b00b0021f2f813744sm165521oab.14.2024.02.27.17.28.16
 (version=TLS1_2 cipher=ECDHE-ECDSA-AES128-GCM-SHA256 bits=128/128);
 Tue, 27 Feb 2024 17:28:16 -0800 (PST)
X-Relaying-Domain: iol.unh.edu
Date: Tue, 27 Feb 2024 17:28:16 -0800 (PST)
Message-ID: <65de8c30.050a0220.24c9a.9c10SMTPIN_ADDED_MISSING@mx.google.com>
Received: from [172.21.0.6] (unknown [172.18.0.240])
 by postal.iol.unh.edu (Postfix) with ESMTP id 53DCA6052712;
 Tue, 27 Feb 2024 20:28:16 -0500 (EST)
Subject: |SUCCESS| pw137363 [PATCH] lib/hash: add SipHash function
From: dpdklab@iol.unh.edu
To: Test Report <test-report@dpdk.org>
Cc: dpdk-test-reports@iol.unh.edu
In-Reply-To: <20240227174012.343004-1-stephen@networkplumber.org>
References: <20240227174012.343004-1-stephen@networkplumber.org>
Content-Type: text/plain
X-BeenThere: test-report@dpdk.org
X-Mailman-Version: 2.1.29
Precedence: list
List-Id: automatic DPDK test reports <test-report.dpdk.org>
List-Unsubscribe: <https://mails.dpdk.org/options/test-report>,
 <mailto:test-report-request@dpdk.org?subject=unsubscribe>
List-Archive: <http://mails.dpdk.org/archives/test-report/>
List-Post: <mailto:test-report@dpdk.org>
List-Help: <mailto:test-report-request@dpdk.org?subject=help>
List-Subscribe: <https://mails.dpdk.org/listinfo/test-report>,
 <mailto:test-report-request@dpdk.org?subject=subscribe>
Errors-To: test-report-bounces@dpdk.org

Test-Label: iol-unit-amd64-testing
Test-Status: SUCCESS
http://dpdk.org/patch/137363

_Testing PASS_

Submitter: Stephen Hemminger <stephen@networkplumber.org>
Date: Tuesday, February 27 2024 17:39:01 
DPDK git baseline: Repo:dpdk
  Branch: master
  CommitID:92c0ad70caf3ed6f4b93de6ddaf7bc369737c049

137363 --> testing pass

Test environment and result as below:

+------------------+----------------+
|   Environment    | dpdk_unit_test |
+==================+================+
| Debian 12 (arm)  | PASS           |
+------------------+----------------+
| CentOS Stream 8  | PASS           |
+------------------+----------------+
| CentOS Stream 9  | PASS           |
+------------------+----------------+
| Debian Bullseye  | PASS           |
+------------------+----------------+
| Fedora 38        | PASS           |
+------------------+----------------+
| Fedora 37        | PASS           |
+------------------+----------------+
| Ubuntu 20.04     | PASS           |
+------------------+----------------+
| openSUSE Leap 15 | PASS           |
+------------------+----------------+
| RHEL8            | PASS           |
+------------------+----------------+
| Ubuntu 22.04     | PASS           |
+------------------+----------------+


Debian 12 (arm)
	Kernel: Container Host Kernel
	Compiler: gcc 11

CentOS Stream 8
	Kernel: 4.18.0-240.10.1.el8_3.x86_64
	Compiler: gcc 8.4.1 20200928

CentOS Stream 9
	Kernel: 4.18.0-240.10.1.el8_3.x86_64
	Compiler: gcc 11.3.1 20220421

Debian Bullseye
	Kernel: 5.4.0-122-generic
	Compiler: gcc 10.2.1-6

Fedora 38
	Kernel: Depends on container host
	Compiler: gcc 13.1.1

Fedora 37
	Kernel: Depends on container host system
	Compiler: gcc 12.3.1

Ubuntu 20.04
	Kernel: 5.4.0-153-generic
	Compiler: gcc 9.4.0-1ubuntu1~20.04.1

openSUSE Leap 15
	Kernel: 4.18.0-240.10.1.el8_3.x86_64
	Compiler: gcc 7.5.0

RHEL8
	Kernel: 4.18.0-240.10.1.el8_3.x86_64
	Compiler: gcc 8.3.1 20191121 (Red Hat 8.3.1-5)

Ubuntu 22.04
	Kernel: 4.18.0-240.10.1.el8_3.x86_64
	Compiler: gcc 11.3.0

To view detailed results, visit:
https://lab.dpdk.org/results/dashboard/patchsets/29295/

UNH-IOL DPDK Community Lab

To manage your email subscriptions, visit: 
https://lab.dpdk.org/results/dashboard/preferences/subscriptions/