From mboxrd@z Thu Jan  1 00:00:00 1970
Return-Path: <test-report-bounces@dpdk.org>
Received: from mails.dpdk.org (mails.dpdk.org [217.70.189.124])
	by inbox.dpdk.org (Postfix) with ESMTP id 19F7343C11
	for <public@inbox.dpdk.org>; Wed, 28 Feb 2024 03:10:06 +0100 (CET)
Received: from mails.dpdk.org (localhost [127.0.0.1])
	by mails.dpdk.org (Postfix) with ESMTP id 128CD402A9;
	Wed, 28 Feb 2024 03:10:06 +0100 (CET)
Received: from mail-pg1-f228.google.com (mail-pg1-f228.google.com
 [209.85.215.228])
 by mails.dpdk.org (Postfix) with ESMTP id 600DA4027D
 for <test-report@dpdk.org>; Wed, 28 Feb 2024 03:10:05 +0100 (CET)
Received: by mail-pg1-f228.google.com with SMTP id
 41be03b00d2f7-5ce942efda5so3972293a12.2
 for <test-report@dpdk.org>; Tue, 27 Feb 2024 18:10:05 -0800 (PST)
DKIM-Signature: v=1; a=rsa-sha256; c=relaxed/relaxed;
 d=iol.unh.edu; s=unh-iol; t=1709086204; x=1709691004; darn=dpdk.org;
 h=references:in-reply-to:cc:to:from:subject:message-id:date:from:to
 :cc:subject:date:message-id:reply-to;
 bh=o9YFkMN/vcEJNyub4rDlYSHPQnx3iqxEBBSnhD0fXmQ=;
 b=fkiFBXaY2C0OU0XlrnllrikDwiOQ38CXTsCU5AC6OgrjNnk5fgx/YC/v1Z+9gQCPpw
 KWRpnGq8GiL2RbrD2tvLzPBDrVmfscg0yBIr2QbWJF7KZoo/gUjNkoH6exioaTskLiQa
 1VkyTvSoo9RaN8qGTfYpqDFWg6Ho7cMPMx2w8=
X-Google-DKIM-Signature: v=1; a=rsa-sha256; c=relaxed/relaxed;
 d=1e100.net; s=20230601; t=1709086204; x=1709691004;
 h=references:in-reply-to:cc:to:from:subject:message-id:date
 :x-gm-message-state:from:to:cc:subject:date:message-id:reply-to;
 bh=o9YFkMN/vcEJNyub4rDlYSHPQnx3iqxEBBSnhD0fXmQ=;
 b=mdJmb/yi/5/pSx7qKh+oOySVjMv3j7FXS5e/C80rAbda+J96OrmK7ORzp3MrkuuHwr
 vzfpmd/QJEDoWUnX7nFOV57ltDx2qFpVjOi7WRUabqBsnRbQhdVhArCuPd7bPNiwPdxx
 DixLRfbVx7suqQhyOe16d6u6CGYtZk6IXfkaXbaPcI3SYexF6GhrYi7xThxltZz72IWZ
 nfhLvaSbwNEmbnh1Z1MW/HCckdEN4wc+TVk5Vh9kr3a8TjG0Vl48AuS9MUIt7WzubFxZ
 Yso5saem8Z/L98PtmIzH3tGOKHjXqLbrhWOa4zr7Niq75SxcvAZAwnCokbqRnDgRm1nA
 DmTg==
X-Gm-Message-State: AOJu0YxMuPC5nG4VfmSs2SR+DvPlbAMCt42+VhFHaVU5FRte1Q/KJtps
 HVsQGZePT0ouvp8OFWJtew+yqVjBlS6RsE7o3DHmK9Zyp4iEgf0/c5MKSDtJYgLqd3vv7oHriDx
 gb4bomJ4e7Ivbfue+lWX9vRmImioTgpaQEcv5W9co
X-Google-Smtp-Source: AGHT+IHAZScT4lF94DI4vM+uN2S6FV+cqFaLSxhUir3ruQ3jst8npxCxTxpLCAmsnQc7uyvO1iOUUCYrlIkC
X-Received: by 2002:a17:90a:e550:b0:29a:7fde:7087 with SMTP id
 ei16-20020a17090ae55000b0029a7fde7087mr10306056pjb.8.1709086204548; 
 Tue, 27 Feb 2024 18:10:04 -0800 (PST)
Received: from postal.iol.unh.edu (postal.iol.unh.edu. [132.177.123.84])
 by smtp-relay.gmail.com with ESMTPS id
 rr15-20020a17090b2b4f00b0029ae8c385f3sm15986pjb.15.2024.02.27.18.10.04
 (version=TLS1_2 cipher=ECDHE-ECDSA-AES128-GCM-SHA256 bits=128/128);
 Tue, 27 Feb 2024 18:10:04 -0800 (PST)
X-Relaying-Domain: iol.unh.edu
Date: Tue, 27 Feb 2024 18:10:04 -0800 (PST)
Message-ID: <65de95fc.170a0220.ffe60.1026SMTPIN_ADDED_MISSING@mx.google.com>
Received: from [172.21.0.6] (unknown [172.18.0.240])
 by postal.iol.unh.edu (Postfix) with ESMTP id 5DAE56052712;
 Tue, 27 Feb 2024 21:10:03 -0500 (EST)
Subject: |SUCCESS| pw137401-137403 [PATCH] [3/3] rcu: use rte macro instead o
From: dpdklab@iol.unh.edu
To: Test Report <test-report@dpdk.org>
Cc: dpdk-test-reports@iol.unh.edu
In-Reply-To: <1709075273-6885-4-git-send-email-roretzla@linux.microsoft.com>
References: <1709075273-6885-4-git-send-email-roretzla@linux.microsoft.com>
Content-Type: text/plain
X-BeenThere: test-report@dpdk.org
X-Mailman-Version: 2.1.29
Precedence: list
List-Id: automatic DPDK test reports <test-report.dpdk.org>
List-Unsubscribe: <https://mails.dpdk.org/options/test-report>,
 <mailto:test-report-request@dpdk.org?subject=unsubscribe>
List-Archive: <http://mails.dpdk.org/archives/test-report/>
List-Post: <mailto:test-report@dpdk.org>
List-Help: <mailto:test-report-request@dpdk.org?subject=help>
List-Subscribe: <https://mails.dpdk.org/listinfo/test-report>,
 <mailto:test-report-request@dpdk.org?subject=subscribe>
Errors-To: test-report-bounces@dpdk.org

Test-Label: iol-compile-amd64-testing
Test-Status: SUCCESS
http://dpdk.org/patch/137403

_Testing PASS_

Submitter: Tyler Retzlaff <roretzla@linux.microsoft.com>
Date: Tuesday, February 27 2024 23:07:53 
DPDK git baseline: Repo:dpdk
  Branch: master
  CommitID:92c0ad70caf3ed6f4b93de6ddaf7bc369737c049

137401-137403 --> testing pass

Test environment and result as below:

+------------------+--------------------+
|   Environment    | dpdk_meson_compile |
+==================+====================+
| FreeBSD 13.2     | PASS               |
+------------------+--------------------+
| CentOS Stream 8  | PASS               |
+------------------+--------------------+
| Debian Bullseye  | PASS               |
+------------------+--------------------+
| Fedora 38        | PASS               |
+------------------+--------------------+
| openSUSE Leap 15 | PASS               |
+------------------+--------------------+
| CentOS Stream 9  | PASS               |
+------------------+--------------------+
| RHEL8            | PASS               |
+------------------+--------------------+
| Ubuntu 20.04     | PASS               |
+------------------+--------------------+
| Ubuntu 22.04     | PASS               |
+------------------+--------------------+
| Fedora 37        | PASS               |
+------------------+--------------------+
| Debian 12 (arm)  | PASS               |
+------------------+--------------------+
| Alpine           | PASS               |
+------------------+--------------------+


FreeBSD 13.2
	Kernel: 13.2
	Compiler: clang 11.3.0

CentOS Stream 8
	Kernel: 4.18.0-240.10.1.el8_3.x86_64
	Compiler: gcc 8.4.1 20200928

Debian Bullseye
	Kernel: 5.4.0-122-generic
	Compiler: gcc 10.2.1-6

Fedora 38
	Kernel: Depends on container host
	Compiler: clang 16.0.3

openSUSE Leap 15
	Kernel: 4.18.0-240.10.1.el8_3.x86_64
	Compiler: gcc 7.5.0

CentOS Stream 9
	Kernel: 4.18.0-240.10.1.el8_3.x86_64
	Compiler: gcc 11.3.1 20220421

RHEL8
	Kernel: 4.18.0-240.10.1.el8_3.x86_64
	Compiler: gcc 8.3.1 20191121 (Red Hat 8.3.1-5)

Ubuntu 20.04
	Kernel: 5.4.0-153-generic
	Compiler: gcc 9.4.0-1ubuntu1~20.04.1

Ubuntu 22.04
	Kernel: 4.18.0-240.10.1.el8_3.x86_64
	Compiler: gcc 11.3.0

Fedora 37
	Kernel: Depends on container host system
	Compiler: gcc 12.3.1

Debian 12 (arm)
	Kernel: Container Host Kernel
	Compiler: gcc 11

Alpine
	Kernel: 5.4.0-73-generic
	Compiler: gcc (Alpine 10.3.1_git20210424) 10.3.1 20210424

To view detailed results, visit:
https://lab.dpdk.org/results/dashboard/patchsets/29305/

UNH-IOL DPDK Community Lab

To manage your email subscriptions, visit: 
https://lab.dpdk.org/results/dashboard/preferences/subscriptions/