From mboxrd@z Thu Jan  1 00:00:00 1970
Return-Path: <test-report-bounces@dpdk.org>
Received: from mails.dpdk.org (mails.dpdk.org [217.70.189.124])
	by inbox.dpdk.org (Postfix) with ESMTP id 4CE3E43C11
	for <public@inbox.dpdk.org>; Wed, 28 Feb 2024 03:27:48 +0100 (CET)
Received: from mails.dpdk.org (localhost [127.0.0.1])
	by mails.dpdk.org (Postfix) with ESMTP id 47D98402A9;
	Wed, 28 Feb 2024 03:27:48 +0100 (CET)
Received: from mail-yw1-f228.google.com (mail-yw1-f228.google.com
 [209.85.128.228])
 by mails.dpdk.org (Postfix) with ESMTP id 6E385402A9
 for <test-report@dpdk.org>; Wed, 28 Feb 2024 03:27:46 +0100 (CET)
Received: by mail-yw1-f228.google.com with SMTP id
 00721157ae682-608c40666e0so38500507b3.2
 for <test-report@dpdk.org>; Tue, 27 Feb 2024 18:27:46 -0800 (PST)
DKIM-Signature: v=1; a=rsa-sha256; c=relaxed/relaxed;
 d=iol.unh.edu; s=unh-iol; t=1709087266; x=1709692066; darn=dpdk.org;
 h=references:in-reply-to:cc:to:from:subject:message-id:date:from:to
 :cc:subject:date:message-id:reply-to;
 bh=o9YFkMN/vcEJNyub4rDlYSHPQnx3iqxEBBSnhD0fXmQ=;
 b=ER/CFe3RlR1NjAgOYqs+CAIGqixgKrXzO+jqqb1zdT0Jgo1PDOEPgGOK+ZYkmLryZ6
 3FsKbpvyH2uOqiLf7eXvFToGioFuFLZKPHGP973cvX4GdVGbXWhHPEeM+vNSt0yCE81E
 9wLCHGuL5Mmu5Y9HMQr9ZUZwXFb8nwsUYb2Dc=
X-Google-DKIM-Signature: v=1; a=rsa-sha256; c=relaxed/relaxed;
 d=1e100.net; s=20230601; t=1709087266; x=1709692066;
 h=references:in-reply-to:cc:to:from:subject:message-id:date
 :x-gm-message-state:from:to:cc:subject:date:message-id:reply-to;
 bh=o9YFkMN/vcEJNyub4rDlYSHPQnx3iqxEBBSnhD0fXmQ=;
 b=vZnU2Yxe3ZZn8clr0UTxWidFFLsc928vV5y+GpROfXo+M8jbyOMltVZTbZ0IIsGP+e
 faNb/t4OuUEHJIUDM4hSPeE4RKAIJ8heBygOZ68/v5Pp0CmWZDpfNc/4P9pCZ15PcjN0
 BWz3ZqSUnreGOk3p1D7NWK/RERxOtq436alZvW0Mk/fI2NF6sd1TNhwyBj1qNCrDvsni
 Nt8T94avXD5vn5xpyi9TPanJSAQxeYFXeGJtgysNyWMph760R8sWFi2fF854Q38KiEsE
 WqZoYiKa5jcleMZ6yqDpblMIcNzryiysJbEOA8hWma+WQP1MSDK5QunxpDKZ+jIodMKw
 5Kfw==
X-Gm-Message-State: AOJu0YwikqqxQpRPbH/xgwmvFqP94UjlsU3/n033SIJVsQRkroDwZs0S
 9KC1e8qMVjYP2Bl8FSXdae+Xx+PBnAF5DeJUTMz9r2mEIAmTI8yLYvWbtgD2xF1rudusgG31WDc
 D4D74Aq7EnjzbiuFSV84oeFaOUG2/Avm9gKnTN6H9
X-Google-Smtp-Source: AGHT+IH1eLr5xrDU9zOeYcUGZlz2lGpF8G5O6NT3zMuv7fMZ1NoNapB+sMRLDo84jmUDMsN9eeumc3QwgIUC
X-Received: by 2002:a81:af25:0:b0:608:dca2:cf4d with SMTP id
 n37-20020a81af25000000b00608dca2cf4dmr3669316ywh.2.1709087265809; 
 Tue, 27 Feb 2024 18:27:45 -0800 (PST)
Received: from postal.iol.unh.edu (postal.iol.unh.edu. [132.177.123.84])
 by smtp-relay.gmail.com with ESMTPS id
 g196-20020a0dddcd000000b0060803225dfasm610740ywe.18.2024.02.27.18.27.45
 (version=TLS1_2 cipher=ECDHE-ECDSA-AES128-GCM-SHA256 bits=128/128);
 Tue, 27 Feb 2024 18:27:45 -0800 (PST)
X-Relaying-Domain: iol.unh.edu
Date: Tue, 27 Feb 2024 18:27:45 -0800 (PST)
Message-ID: <65de9a21.0d0a0220.371dd.2720SMTPIN_ADDED_MISSING@mx.google.com>
Received: from [172.21.0.6] (unknown [172.18.0.240])
 by postal.iol.unh.edu (Postfix) with ESMTP id 6E71D6052712;
 Tue, 27 Feb 2024 21:27:45 -0500 (EST)
Subject: |SUCCESS| pw137401-137403 [PATCH] [3/3] rcu: use rte macro instead o
From: dpdklab@iol.unh.edu
To: Test Report <test-report@dpdk.org>
Cc: dpdk-test-reports@iol.unh.edu
In-Reply-To: <1709075273-6885-4-git-send-email-roretzla@linux.microsoft.com>
References: <1709075273-6885-4-git-send-email-roretzla@linux.microsoft.com>
Content-Type: text/plain
X-BeenThere: test-report@dpdk.org
X-Mailman-Version: 2.1.29
Precedence: list
List-Id: automatic DPDK test reports <test-report.dpdk.org>
List-Unsubscribe: <https://mails.dpdk.org/options/test-report>,
 <mailto:test-report-request@dpdk.org?subject=unsubscribe>
List-Archive: <http://mails.dpdk.org/archives/test-report/>
List-Post: <mailto:test-report@dpdk.org>
List-Help: <mailto:test-report-request@dpdk.org?subject=help>
List-Subscribe: <https://mails.dpdk.org/listinfo/test-report>,
 <mailto:test-report-request@dpdk.org?subject=subscribe>
Errors-To: test-report-bounces@dpdk.org

Test-Label: iol-compile-amd64-testing
Test-Status: SUCCESS
http://dpdk.org/patch/137403

_Testing PASS_

Submitter: Tyler Retzlaff <roretzla@linux.microsoft.com>
Date: Tuesday, February 27 2024 23:07:53 
DPDK git baseline: Repo:dpdk
  Branch: master
  CommitID:92c0ad70caf3ed6f4b93de6ddaf7bc369737c049

137401-137403 --> testing pass

Test environment and result as below:

+------------------+--------------------+
|   Environment    | dpdk_meson_compile |
+==================+====================+
| FreeBSD 13.2     | PASS               |
+------------------+--------------------+
| CentOS Stream 8  | PASS               |
+------------------+--------------------+
| Debian Bullseye  | PASS               |
+------------------+--------------------+
| Fedora 38        | PASS               |
+------------------+--------------------+
| openSUSE Leap 15 | PASS               |
+------------------+--------------------+
| CentOS Stream 9  | PASS               |
+------------------+--------------------+
| RHEL8            | PASS               |
+------------------+--------------------+
| Ubuntu 20.04     | PASS               |
+------------------+--------------------+
| Ubuntu 22.04     | PASS               |
+------------------+--------------------+
| Fedora 37        | PASS               |
+------------------+--------------------+
| Debian 12 (arm)  | PASS               |
+------------------+--------------------+
| Alpine           | PASS               |
+------------------+--------------------+


FreeBSD 13.2
	Kernel: 13.2
	Compiler: clang 11.3.0

CentOS Stream 8
	Kernel: 4.18.0-240.10.1.el8_3.x86_64
	Compiler: gcc 8.4.1 20200928

Debian Bullseye
	Kernel: 5.4.0-122-generic
	Compiler: gcc 10.2.1-6

Fedora 38
	Kernel: Depends on container host
	Compiler: clang 16.0.3

openSUSE Leap 15
	Kernel: 4.18.0-240.10.1.el8_3.x86_64
	Compiler: gcc 7.5.0

CentOS Stream 9
	Kernel: 4.18.0-240.10.1.el8_3.x86_64
	Compiler: gcc 11.3.1 20220421

RHEL8
	Kernel: 4.18.0-240.10.1.el8_3.x86_64
	Compiler: gcc 8.3.1 20191121 (Red Hat 8.3.1-5)

Ubuntu 20.04
	Kernel: 5.4.0-153-generic
	Compiler: gcc 9.4.0-1ubuntu1~20.04.1

Ubuntu 22.04
	Kernel: 4.18.0-240.10.1.el8_3.x86_64
	Compiler: gcc 11.3.0

Fedora 37
	Kernel: Depends on container host system
	Compiler: gcc 12.3.1

Debian 12 (arm)
	Kernel: Container Host Kernel
	Compiler: gcc 11

Alpine
	Kernel: 5.4.0-73-generic
	Compiler: gcc (Alpine 10.3.1_git20210424) 10.3.1 20210424

To view detailed results, visit:
https://lab.dpdk.org/results/dashboard/patchsets/29305/

UNH-IOL DPDK Community Lab

To manage your email subscriptions, visit: 
https://lab.dpdk.org/results/dashboard/preferences/subscriptions/