From mboxrd@z Thu Jan  1 00:00:00 1970
Return-Path: <test-report-bounces@dpdk.org>
Received: from mails.dpdk.org (mails.dpdk.org [217.70.189.124])
	by inbox.dpdk.org (Postfix) with ESMTP id DE8CF43C11
	for <public@inbox.dpdk.org>; Wed, 28 Feb 2024 03:42:59 +0100 (CET)
Received: from mails.dpdk.org (localhost [127.0.0.1])
	by mails.dpdk.org (Postfix) with ESMTP id D985B402AE;
	Wed, 28 Feb 2024 03:42:59 +0100 (CET)
Received: from mail-qv1-f100.google.com (mail-qv1-f100.google.com
 [209.85.219.100])
 by mails.dpdk.org (Postfix) with ESMTP id 01534402AC
 for <test-report@dpdk.org>; Wed, 28 Feb 2024 03:42:59 +0100 (CET)
Received: by mail-qv1-f100.google.com with SMTP id
 6a1803df08f44-6902947c507so6978866d6.3
 for <test-report@dpdk.org>; Tue, 27 Feb 2024 18:42:58 -0800 (PST)
DKIM-Signature: v=1; a=rsa-sha256; c=relaxed/relaxed;
 d=iol.unh.edu; s=unh-iol; t=1709088178; x=1709692978; darn=dpdk.org;
 h=references:in-reply-to:cc:to:from:subject:message-id:date:from:to
 :cc:subject:date:message-id:reply-to;
 bh=sTDgolpQVY/saOxklfZ287jorrSNhw2u/EDG044n22o=;
 b=XOJITNg9V78JI5ezE5snkOmCZfDwy39X/4iDB0y24qNUYdOqUXGlVCQ/2GM6xxNX13
 LoKk2rkD9+aMVSDadYlAzTOFv9Vj/rbjqwQTSrRK30DHf2SCNyu5vC2H22gHoeDR+aeu
 e9m8zE2qIhHflht48ZXAvtvpfQ0C0QFeWbub8=
X-Google-DKIM-Signature: v=1; a=rsa-sha256; c=relaxed/relaxed;
 d=1e100.net; s=20230601; t=1709088178; x=1709692978;
 h=references:in-reply-to:cc:to:from:subject:message-id:date
 :x-gm-message-state:from:to:cc:subject:date:message-id:reply-to;
 bh=sTDgolpQVY/saOxklfZ287jorrSNhw2u/EDG044n22o=;
 b=j+dxnOb2Xgbezc5PoU0xiQnn+7BFLdVoPBOW3zWR4gVBnk4PTLRIeq19mjjgGaXsVP
 eaiz3k0L6+nTUU7FTiwia/5TfE0yPLUq4LRwy0fgfHJZQez4C+hflwGfy+5ErdObYANC
 oJHA84QF2WID4Qw8WMhOtxfzVLVvDWJvaxTXg+WP/eNxj1r5l4S/xWoIbzlr72dwLIE+
 mSCJKrKYjR0bg89OCkl9y64hA5HVRV+VXm+ymk06Pkn0kEIN/2U75NXOPVnsBAyJrGBu
 o+uW+ILDsn8z+LgKcWooWj67VEAtH7tR2T+LYo75UWrmkKlaMvAj60PGI8Dj86rNIamX
 NCdA==
X-Gm-Message-State: AOJu0YyOuaMKJ6TCqWcZ0v0nZQPcuHSy1xiF7MzPKrNGd6exeeEJPTaw
 2dGr0hVnlCQeIw/eLpWPrkrol1bU7LxxaQ4XgcC+jGYctiDEhe1jPZzqvvKYG7re2/FhwFHv/Q3
 jBYmpM0xw2HsA+4/yJ1lStunFwbn1ZMCUq/Y2DZZ05begRKGABhs76KKs
X-Google-Smtp-Source: AGHT+IHuHBX41kkNiivzCMO8g1t02S2TfwCtkuV36llhRl/QA5LzRaA8eW16V5kA6W8BLjMCl5DjPL/uxxaH
X-Received: by 2002:a0c:e28c:0:b0:68f:f9aa:f502 with SMTP id
 r12-20020a0ce28c000000b0068ff9aaf502mr4221397qvl.25.1709088178454; 
 Tue, 27 Feb 2024 18:42:58 -0800 (PST)
Received: from postal.iol.unh.edu (postal.iol.unh.edu.
 [2606:4100:3880:1234::84]) by smtp-relay.gmail.com with ESMTPS id
 t8-20020a0562140c6800b0068f4ff8296asm446324qvj.13.2024.02.27.18.42.58
 (version=TLS1_2 cipher=ECDHE-ECDSA-AES128-GCM-SHA256 bits=128/128);
 Tue, 27 Feb 2024 18:42:58 -0800 (PST)
X-Relaying-Domain: iol.unh.edu
Date: Tue, 27 Feb 2024 18:42:58 -0800 (PST)
Message-ID: <65de9db2.050a0220.878b9.4e9dSMTPIN_ADDED_MISSING@mx.google.com>
Received: from [172.21.0.6] (unknown [172.18.0.240])
 by postal.iol.unh.edu (Postfix) with ESMTP id 22CDB6052712;
 Tue, 27 Feb 2024 21:42:58 -0500 (EST)
Subject: |SUCCESS| pw137374-137396 [PATCH] [v4,23/23] net/cnxk: other flow op
From: dpdklab@iol.unh.edu
To: Test Report <test-report@dpdk.org>
Cc: dpdk-test-reports@iol.unh.edu
In-Reply-To: <20240227191550.137687-24-hkalra@marvell.com>
References: <20240227191550.137687-24-hkalra@marvell.com>
Content-Type: text/plain
X-BeenThere: test-report@dpdk.org
X-Mailman-Version: 2.1.29
Precedence: list
List-Id: automatic DPDK test reports <test-report.dpdk.org>
List-Unsubscribe: <https://mails.dpdk.org/options/test-report>,
 <mailto:test-report-request@dpdk.org?subject=unsubscribe>
List-Archive: <http://mails.dpdk.org/archives/test-report/>
List-Post: <mailto:test-report@dpdk.org>
List-Help: <mailto:test-report-request@dpdk.org?subject=help>
List-Subscribe: <https://mails.dpdk.org/listinfo/test-report>,
 <mailto:test-report-request@dpdk.org?subject=subscribe>
Errors-To: test-report-bounces@dpdk.org

Test-Label: iol-abi-testing
Test-Status: SUCCESS
http://dpdk.org/patch/137396

_Testing PASS_

Submitter: Harman Kalra <hkalra@marvell.com>
Date: Tuesday, February 27 2024 19:15:50 
DPDK git baseline: Repo:dpdk
  Branch: master
  CommitID:ab5b7cd5a0b563e6d49be6c8beaad1f39c581a5c

137374-137396 --> testing pass

Test environment and result as below:

+------------------+----------+
|   Environment    | abi_test |
+==================+==========+
| CentOS Stream 9  | PASS     |
+------------------+----------+
| CentOS Stream 8  | PASS     |
+------------------+----------+
| Debian Bullseye  | PASS     |
+------------------+----------+
| openSUSE Leap 15 | PASS     |
+------------------+----------+
| Debian 12 (arm)  | PASS     |
+------------------+----------+
| Fedora 37        | PASS     |
+------------------+----------+
| Ubuntu 22.04     | PASS     |
+------------------+----------+
| Fedora 38        | PASS     |
+------------------+----------+
| RHEL8            | PASS     |
+------------------+----------+


CentOS Stream 9
	Kernel: 4.18.0-240.10.1.el8_3.x86_64
	Compiler: gcc 11.3.1 20220421

CentOS Stream 8
	Kernel: 4.18.0-240.10.1.el8_3.x86_64
	Compiler: gcc 8.4.1 20200928

Debian Bullseye
	Kernel: 5.4.0-122-generic
	Compiler: gcc 10.2.1-6

openSUSE Leap 15
	Kernel: 4.18.0-240.10.1.el8_3.x86_64
	Compiler: gcc 7.5.0

Debian 12 (arm)
	Kernel: Container Host Kernel
	Compiler: gcc 11

Fedora 37
	Kernel: Depends on container host system
	Compiler: gcc 12.3.1

Ubuntu 22.04
	Kernel: 4.18.0-240.10.1.el8_3.x86_64
	Compiler: gcc 11.3.0

Fedora 38
	Kernel: Depends on container host
	Compiler: clang 16.0.3

RHEL8
	Kernel: 4.18.0-240.10.1.el8_3.x86_64
	Compiler: gcc 8.3.1 20191121 (Red Hat 8.3.1-5)

To view detailed results, visit:
https://lab.dpdk.org/results/dashboard/patchsets/29301/

UNH-IOL DPDK Community Lab

To manage your email subscriptions, visit: 
https://lab.dpdk.org/results/dashboard/preferences/subscriptions/