From mboxrd@z Thu Jan  1 00:00:00 1970
Return-Path: <test-report-bounces@dpdk.org>
Received: from mails.dpdk.org (mails.dpdk.org [217.70.189.124])
	by inbox.dpdk.org (Postfix) with ESMTP id 164D443C11
	for <public@inbox.dpdk.org>; Wed, 28 Feb 2024 03:43:51 +0100 (CET)
Received: from mails.dpdk.org (localhost [127.0.0.1])
	by mails.dpdk.org (Postfix) with ESMTP id 0EC11402AE;
	Wed, 28 Feb 2024 03:43:51 +0100 (CET)
Received: from mail-qv1-f100.google.com (mail-qv1-f100.google.com
 [209.85.219.100])
 by mails.dpdk.org (Postfix) with ESMTP id 9A1E6402AC
 for <test-report@dpdk.org>; Wed, 28 Feb 2024 03:43:49 +0100 (CET)
Received: by mail-qv1-f100.google.com with SMTP id
 6a1803df08f44-6900f479e3cso21111996d6.0
 for <test-report@dpdk.org>; Tue, 27 Feb 2024 18:43:49 -0800 (PST)
DKIM-Signature: v=1; a=rsa-sha256; c=relaxed/relaxed;
 d=iol.unh.edu; s=unh-iol; t=1709088229; x=1709693029; darn=dpdk.org;
 h=references:in-reply-to:cc:to:from:subject:message-id:date:from:to
 :cc:subject:date:message-id:reply-to;
 bh=sTDgolpQVY/saOxklfZ287jorrSNhw2u/EDG044n22o=;
 b=ZaqUxJz+W76dUJXuKmPqmKqeTeUOrOJ5sLSFzoO2GqYeyS2okkJ0uAuITSWa1aj88X
 EF+mHN0lcWuVP5/zXhoIf5Gd9qOTGGn+sBNY8fJ7AA/HKIA1bLsaPc7TGNrHcBb5uWHD
 GmxdISer5cZhCyk4ewt2ch+P/auHuwmDy9kUc=
X-Google-DKIM-Signature: v=1; a=rsa-sha256; c=relaxed/relaxed;
 d=1e100.net; s=20230601; t=1709088229; x=1709693029;
 h=references:in-reply-to:cc:to:from:subject:message-id:date
 :x-gm-message-state:from:to:cc:subject:date:message-id:reply-to;
 bh=sTDgolpQVY/saOxklfZ287jorrSNhw2u/EDG044n22o=;
 b=J5t4N3eFqplu3h/3rJI7hlz844MLCCZ/Y12qCNoJbq+XD4lD7iYuECjrtj/vsvLJd5
 InkE5KXQc9Ezlfv42u3hO6vwvpvBhTqTpbCbEClaKBDloxg+S9nzOJ3KGgYjFPcTfaBe
 rYa1gPzq9vFfIUOHLgxAFbB32z53ihOFx6piho6J+ocomh2cgHuZon4QDSWarQkvytT+
 sW2QIQ4RdkNxH/asC4pLJNRsB6ttjvgialX3Lx12Z/jb8usjWbjAwmz4bbhT14aSAU7G
 /oMUxPXKsaYSNratmFR8BPrA65ROjy6LIPdbNeUJzttSth87b0sMZ00aCWpB4goqcahq
 7I8w==
X-Gm-Message-State: AOJu0Yx53tt1gAwBc9y0Qlj+pKPWr10v5rvHABPZx14wsiCu0DQlB6ZG
 JQX4p5HI86BXCkEv7rrnTngisUhqJdwdPE+KqfZyBAztbuQifdcY6+i6euSNtZ8nZkMJR0dJXtJ
 awOv5P7pcXRW1Ljg7ZKzGfz6MlD8Ism442rgQcfa4
X-Google-Smtp-Source: AGHT+IG+WihRlRbqdIYJ120/YlICZmifQ9Oe8/7/WOS8D4ThlJVYHE4JIgvrEBN0xeQUi20NTZ4jUcpuG0uh
X-Received: by 2002:ad4:5cc7:0:b0:690:690:a5e2 with SMTP id
 iu7-20020ad45cc7000000b006900690a5e2mr3852379qvb.10.1709088229166; 
 Tue, 27 Feb 2024 18:43:49 -0800 (PST)
Received: from postal.iol.unh.edu (postal.iol.unh.edu. [132.177.123.84])
 by smtp-relay.gmail.com with ESMTPS id
 gg7-20020a056214252700b0068fa33effcbsm509895qvb.39.2024.02.27.18.43.49
 (version=TLS1_2 cipher=ECDHE-ECDSA-AES128-GCM-SHA256 bits=128/128);
 Tue, 27 Feb 2024 18:43:49 -0800 (PST)
X-Relaying-Domain: iol.unh.edu
Date: Tue, 27 Feb 2024 18:43:49 -0800 (PST)
Message-ID: <65de9de5.050a0220.49be5.bc8dSMTPIN_ADDED_MISSING@mx.google.com>
Received: from [172.21.0.6] (unknown [172.18.0.240])
 by postal.iol.unh.edu (Postfix) with ESMTP id DAFC86052712;
 Tue, 27 Feb 2024 21:43:48 -0500 (EST)
Subject: |SUCCESS| pw137374-137396 [PATCH] [v4,23/23] net/cnxk: other flow op
From: dpdklab@iol.unh.edu
To: Test Report <test-report@dpdk.org>
Cc: dpdk-test-reports@iol.unh.edu
In-Reply-To: <20240227191550.137687-24-hkalra@marvell.com>
References: <20240227191550.137687-24-hkalra@marvell.com>
Content-Type: text/plain
X-BeenThere: test-report@dpdk.org
X-Mailman-Version: 2.1.29
Precedence: list
List-Id: automatic DPDK test reports <test-report.dpdk.org>
List-Unsubscribe: <https://mails.dpdk.org/options/test-report>,
 <mailto:test-report-request@dpdk.org?subject=unsubscribe>
List-Archive: <http://mails.dpdk.org/archives/test-report/>
List-Post: <mailto:test-report@dpdk.org>
List-Help: <mailto:test-report-request@dpdk.org?subject=help>
List-Subscribe: <https://mails.dpdk.org/listinfo/test-report>,
 <mailto:test-report-request@dpdk.org?subject=subscribe>
Errors-To: test-report-bounces@dpdk.org

Test-Label: iol-abi-testing
Test-Status: SUCCESS
http://dpdk.org/patch/137396

_Testing PASS_

Submitter: Harman Kalra <hkalra@marvell.com>
Date: Tuesday, February 27 2024 19:15:50 
DPDK git baseline: Repo:dpdk
  Branch: master
  CommitID:ab5b7cd5a0b563e6d49be6c8beaad1f39c581a5c

137374-137396 --> testing pass

Test environment and result as below:

+------------------+----------+
|   Environment    | abi_test |
+==================+==========+
| CentOS Stream 9  | PASS     |
+------------------+----------+
| CentOS Stream 8  | PASS     |
+------------------+----------+
| Debian Bullseye  | PASS     |
+------------------+----------+
| openSUSE Leap 15 | PASS     |
+------------------+----------+
| Debian 12 (arm)  | PASS     |
+------------------+----------+
| Fedora 37        | PASS     |
+------------------+----------+
| Ubuntu 22.04     | PASS     |
+------------------+----------+
| Fedora 38        | PASS     |
+------------------+----------+
| RHEL8            | PASS     |
+------------------+----------+


CentOS Stream 9
	Kernel: 4.18.0-240.10.1.el8_3.x86_64
	Compiler: gcc 11.3.1 20220421

CentOS Stream 8
	Kernel: 4.18.0-240.10.1.el8_3.x86_64
	Compiler: gcc 8.4.1 20200928

Debian Bullseye
	Kernel: 5.4.0-122-generic
	Compiler: gcc 10.2.1-6

openSUSE Leap 15
	Kernel: 4.18.0-240.10.1.el8_3.x86_64
	Compiler: gcc 7.5.0

Debian 12 (arm)
	Kernel: Container Host Kernel
	Compiler: gcc 11

Fedora 37
	Kernel: Depends on container host system
	Compiler: gcc 12.3.1

Ubuntu 22.04
	Kernel: 4.18.0-240.10.1.el8_3.x86_64
	Compiler: gcc 11.3.0

Fedora 38
	Kernel: Depends on container host
	Compiler: clang 16.0.3

RHEL8
	Kernel: 4.18.0-240.10.1.el8_3.x86_64
	Compiler: gcc 8.3.1 20191121 (Red Hat 8.3.1-5)

To view detailed results, visit:
https://lab.dpdk.org/results/dashboard/patchsets/29301/

UNH-IOL DPDK Community Lab

To manage your email subscriptions, visit: 
https://lab.dpdk.org/results/dashboard/preferences/subscriptions/