From mboxrd@z Thu Jan  1 00:00:00 1970
Return-Path: <test-report-bounces@dpdk.org>
Received: from mails.dpdk.org (mails.dpdk.org [217.70.189.124])
	by inbox.dpdk.org (Postfix) with ESMTP id 7FC1443C11
	for <public@inbox.dpdk.org>; Wed, 28 Feb 2024 03:44:46 +0100 (CET)
Received: from mails.dpdk.org (localhost [127.0.0.1])
	by mails.dpdk.org (Postfix) with ESMTP id 78A21402AE;
	Wed, 28 Feb 2024 03:44:46 +0100 (CET)
Received: from mail-pj1-f97.google.com (mail-pj1-f97.google.com
 [209.85.216.97]) by mails.dpdk.org (Postfix) with ESMTP id 5135D402AC
 for <test-report@dpdk.org>; Wed, 28 Feb 2024 03:44:41 +0100 (CET)
Received: by mail-pj1-f97.google.com with SMTP id
 98e67ed59e1d1-29a430c3057so2894646a91.1
 for <test-report@dpdk.org>; Tue, 27 Feb 2024 18:44:41 -0800 (PST)
DKIM-Signature: v=1; a=rsa-sha256; c=relaxed/relaxed;
 d=iol.unh.edu; s=unh-iol; t=1709088280; x=1709693080; darn=dpdk.org;
 h=references:in-reply-to:cc:to:from:subject:message-id:date:from:to
 :cc:subject:date:message-id:reply-to;
 bh=sTDgolpQVY/saOxklfZ287jorrSNhw2u/EDG044n22o=;
 b=Z//eDmQ2HJwRGxbe5FVEYv0nYwgPbeXkduYrxavgAlSInozl1mUzY4D3YQwNoAGRIT
 1NK494mwiPXQjtuJ7UFTd9UnosJlYJQVSJZire6lHZI2bqhGcUO2lmpqJlUanTUxuJv0
 cReUt5Jkrihcv8/YKhpm3V0360rk7NCQYbwN0=
X-Google-DKIM-Signature: v=1; a=rsa-sha256; c=relaxed/relaxed;
 d=1e100.net; s=20230601; t=1709088280; x=1709693080;
 h=references:in-reply-to:cc:to:from:subject:message-id:date
 :x-gm-message-state:from:to:cc:subject:date:message-id:reply-to;
 bh=sTDgolpQVY/saOxklfZ287jorrSNhw2u/EDG044n22o=;
 b=CJKjUUWGZukrxPfjKlNXbo1/Fnp9mZftpkZtM0lxMkqNBIBUVh9Rw060oMZfsXurYh
 BcI9OluOPeHpskl4D5CyNG6lh2ztXDviCc2Pa50zPOAy9gRE93XHR3jlNlr7zAtt73Sn
 Dl1yoq8QDzUUyzIKSUU0I7nLVmuTOq6kVw1Re4AhELOwujWriX93vtub7xpI0NGXUOIU
 zHQfMagsI+SpicVDdpdxmWuUAvbU18Ahd6mMqIS6xKMTrrQql+05QX7Lf8+Z084+xZXN
 qBxgYYysY/X0nul0PYOoso7wFqOl8HTscQs1p50uVfMGouBXEJgIeS1xoYoRms0ZRUYT
 ivpg==
X-Gm-Message-State: AOJu0Ywb2XqezkdnIm8iMWKsGcUsWmQ7m1m+hyGTuVJIX4jAh5y1fgpr
 jQAaJInmn0a33yJZIMNW5KdxIe+18JxfjRYH+iXQUDnbnz48S+GWRWnW7/HUOFrNxUFOaWk3/9c
 S8Qm8qSxMO+E11w5RIYwUnchO969Mho+0lO1O8tBzUg/btChmsvSSugPU
X-Google-Smtp-Source: AGHT+IGmU3zwgtDiSzYLBpVXqCDCRPpEJAj+O8tDxIu6L6z6gAy2l7kkAn3+M8m7u6+gEPwAJ0LfnM9BQ3QL
X-Received: by 2002:a17:90a:a00d:b0:299:246a:869e with SMTP id
 q13-20020a17090aa00d00b00299246a869emr9189425pjp.38.1709088280512; 
 Tue, 27 Feb 2024 18:44:40 -0800 (PST)
Received: from postal.iol.unh.edu (postal.iol.unh.edu.
 [2606:4100:3880:1234::84]) by smtp-relay.gmail.com with ESMTPS id
 mz10-20020a17090b378a00b002996438c524sm19928pjb.12.2024.02.27.18.44.40
 (version=TLS1_2 cipher=ECDHE-ECDSA-AES128-GCM-SHA256 bits=128/128);
 Tue, 27 Feb 2024 18:44:40 -0800 (PST)
X-Relaying-Domain: iol.unh.edu
Date: Tue, 27 Feb 2024 18:44:40 -0800 (PST)
Message-ID: <65de9e18.170a0220.ec889.1475SMTPIN_ADDED_MISSING@mx.google.com>
Received: from [172.21.0.6] (unknown [172.18.0.240])
 by postal.iol.unh.edu (Postfix) with ESMTP id B4E506052712;
 Tue, 27 Feb 2024 21:44:39 -0500 (EST)
Subject: |SUCCESS| pw137374-137396 [PATCH] [v4,23/23] net/cnxk: other flow op
From: dpdklab@iol.unh.edu
To: Test Report <test-report@dpdk.org>
Cc: dpdk-test-reports@iol.unh.edu
In-Reply-To: <20240227191550.137687-24-hkalra@marvell.com>
References: <20240227191550.137687-24-hkalra@marvell.com>
Content-Type: text/plain
X-BeenThere: test-report@dpdk.org
X-Mailman-Version: 2.1.29
Precedence: list
List-Id: automatic DPDK test reports <test-report.dpdk.org>
List-Unsubscribe: <https://mails.dpdk.org/options/test-report>,
 <mailto:test-report-request@dpdk.org?subject=unsubscribe>
List-Archive: <http://mails.dpdk.org/archives/test-report/>
List-Post: <mailto:test-report@dpdk.org>
List-Help: <mailto:test-report-request@dpdk.org?subject=help>
List-Subscribe: <https://mails.dpdk.org/listinfo/test-report>,
 <mailto:test-report-request@dpdk.org?subject=subscribe>
Errors-To: test-report-bounces@dpdk.org

Test-Label: iol-abi-testing
Test-Status: SUCCESS
http://dpdk.org/patch/137396

_Testing PASS_

Submitter: Harman Kalra <hkalra@marvell.com>
Date: Tuesday, February 27 2024 19:15:50 
DPDK git baseline: Repo:dpdk
  Branch: master
  CommitID:ab5b7cd5a0b563e6d49be6c8beaad1f39c581a5c

137374-137396 --> testing pass

Test environment and result as below:

+------------------+----------+
|   Environment    | abi_test |
+==================+==========+
| CentOS Stream 9  | PASS     |
+------------------+----------+
| CentOS Stream 8  | PASS     |
+------------------+----------+
| Debian Bullseye  | PASS     |
+------------------+----------+
| openSUSE Leap 15 | PASS     |
+------------------+----------+
| Debian 12 (arm)  | PASS     |
+------------------+----------+
| Fedora 37        | PASS     |
+------------------+----------+
| Ubuntu 22.04     | PASS     |
+------------------+----------+
| Fedora 38        | PASS     |
+------------------+----------+
| RHEL8            | PASS     |
+------------------+----------+


CentOS Stream 9
	Kernel: 4.18.0-240.10.1.el8_3.x86_64
	Compiler: gcc 11.3.1 20220421

CentOS Stream 8
	Kernel: 4.18.0-240.10.1.el8_3.x86_64
	Compiler: gcc 8.4.1 20200928

Debian Bullseye
	Kernel: 5.4.0-122-generic
	Compiler: gcc 10.2.1-6

openSUSE Leap 15
	Kernel: 4.18.0-240.10.1.el8_3.x86_64
	Compiler: gcc 7.5.0

Debian 12 (arm)
	Kernel: Container Host Kernel
	Compiler: gcc 11

Fedora 37
	Kernel: Depends on container host system
	Compiler: gcc 12.3.1

Ubuntu 22.04
	Kernel: 4.18.0-240.10.1.el8_3.x86_64
	Compiler: gcc 11.3.0

Fedora 38
	Kernel: Depends on container host
	Compiler: clang 16.0.3

RHEL8
	Kernel: 4.18.0-240.10.1.el8_3.x86_64
	Compiler: gcc 8.3.1 20191121 (Red Hat 8.3.1-5)

To view detailed results, visit:
https://lab.dpdk.org/results/dashboard/patchsets/29301/

UNH-IOL DPDK Community Lab

To manage your email subscriptions, visit: 
https://lab.dpdk.org/results/dashboard/preferences/subscriptions/