From mboxrd@z Thu Jan  1 00:00:00 1970
Return-Path: <test-report-bounces@dpdk.org>
Received: from mails.dpdk.org (mails.dpdk.org [217.70.189.124])
	by inbox.dpdk.org (Postfix) with ESMTP id 0946B43C12
	for <public@inbox.dpdk.org>; Wed, 28 Feb 2024 04:01:34 +0100 (CET)
Received: from mails.dpdk.org (localhost [127.0.0.1])
	by mails.dpdk.org (Postfix) with ESMTP id 04F27402AC;
	Wed, 28 Feb 2024 04:01:34 +0100 (CET)
Received: from mail-oo1-f100.google.com (mail-oo1-f100.google.com
 [209.85.161.100])
 by mails.dpdk.org (Postfix) with ESMTP id D893C4027D
 for <test-report@dpdk.org>; Wed, 28 Feb 2024 04:01:32 +0100 (CET)
Received: by mail-oo1-f100.google.com with SMTP id
 006d021491bc7-5a02eb63ebcso2543007eaf.0
 for <test-report@dpdk.org>; Tue, 27 Feb 2024 19:01:32 -0800 (PST)
DKIM-Signature: v=1; a=rsa-sha256; c=relaxed/relaxed;
 d=iol.unh.edu; s=unh-iol; t=1709089292; x=1709694092; darn=dpdk.org;
 h=references:in-reply-to:cc:to:from:subject:message-id:date:from:to
 :cc:subject:date:message-id:reply-to;
 bh=1nIpHCZEI4SYpqr7bPC6xgARPhnKZqSt8xo4ROUBBV0=;
 b=gJl0jPayC8aecql3qVH7aa1WtNhnwdxg8dG9ZYn3ec2yz3MUlQp5qz5+6jUzt4L/5b
 Vzy9X1/SXjLMiCFYEtwHZFtAt8LbvDDjPOT8ubYRPYV/8pN8NP6XVThYN2mjHX3K6PX1
 u1My2ttuIvY7VpedC6NvP+2SRb/dx99CMEDbo=
X-Google-DKIM-Signature: v=1; a=rsa-sha256; c=relaxed/relaxed;
 d=1e100.net; s=20230601; t=1709089292; x=1709694092;
 h=references:in-reply-to:cc:to:from:subject:message-id:date
 :x-gm-message-state:from:to:cc:subject:date:message-id:reply-to;
 bh=1nIpHCZEI4SYpqr7bPC6xgARPhnKZqSt8xo4ROUBBV0=;
 b=SklGi5MdQY3mtGeytoDlUWgWjRMb4LvKfpSKlKxL3hasxSguZ5u/7MhM95CG9Ba5cP
 Un3YEm+dAYwthmbbiYFXPZN5Bqs5RXCUq1xvH8ooBUdPgHyqDKsOZ9ZXHNT3+A8xzl46
 bzZCIJ2yfZbriE+u+s+KkckooqNa8LdqscKovpaXclqbx7JKDyPQ6gkbtnaebWocwUcf
 OjOf+JCZF1NLvCimfleRRGXczSVPe3mnjue3jSuT8JVGecg4+pp1I9sIl+l0eS94FPdK
 YW0k1RT/pjOhHT8FFY6Bj3t/MGiLbcbc2XZ7ku45Jia/W8LL8PqruPp1gc56jQcF++a0
 TMKQ==
X-Gm-Message-State: AOJu0YxPaxfDIbLE7EgUYviyROzcTixdrwgU8qNs//B8WvaY9xAu3yNX
 BwheNio9bOnQPHgVSjhpRpbZHw7+9h4y2aq5o/B31P4Y+JN6IycS5zHwbkUl7at2M6KKtr7fAVL
 rTvSwMSUV638RrltGQaUT2jwpq+3S/Ivk+Es6mih5B6bcQIlfMDaa9KaF
X-Google-Smtp-Source: AGHT+IHtgZyDaotAds0VydZls2t0Q1uY5AKQl38IeGkXUMapvWoFzyMKNfpdlRujd8SNFd9qLUFw6RJheFbz
X-Received: by 2002:a4a:9198:0:b0:5a0:96bd:cf98 with SMTP id
 d24-20020a4a9198000000b005a096bdcf98mr6573558ooh.8.1709089292194; 
 Tue, 27 Feb 2024 19:01:32 -0800 (PST)
Received: from postal.iol.unh.edu (postal.iol.unh.edu.
 [2606:4100:3880:1234::84]) by smtp-relay.gmail.com with ESMTPS id
 t128-20020a4a5486000000b0059cda30858fsm416235ooa.6.2024.02.27.19.01.32
 (version=TLS1_2 cipher=ECDHE-ECDSA-AES128-GCM-SHA256 bits=128/128);
 Tue, 27 Feb 2024 19:01:32 -0800 (PST)
X-Relaying-Domain: iol.unh.edu
Date: Tue, 27 Feb 2024 19:01:32 -0800 (PST)
Message-ID: <65dea20c.4a0a0220.16afd.a0a6SMTPIN_ADDED_MISSING@mx.google.com>
Received: from [172.21.0.7] (unknown [172.18.0.240])
 by postal.iol.unh.edu (Postfix) with ESMTP id AC0D1605250F;
 Tue, 27 Feb 2024 22:01:31 -0500 (EST)
Subject: |SUCCESS| pw137401-137403 [PATCH] [3/3] rcu: use rte macro instead o
From: dpdklab@iol.unh.edu
To: Test Report <test-report@dpdk.org>
Cc: dpdk-test-reports@iol.unh.edu
In-Reply-To: <1709075273-6885-4-git-send-email-roretzla@linux.microsoft.com>
References: <1709075273-6885-4-git-send-email-roretzla@linux.microsoft.com>
Content-Type: text/plain
X-BeenThere: test-report@dpdk.org
X-Mailman-Version: 2.1.29
Precedence: list
List-Id: automatic DPDK test reports <test-report.dpdk.org>
List-Unsubscribe: <https://mails.dpdk.org/options/test-report>,
 <mailto:test-report-request@dpdk.org?subject=unsubscribe>
List-Archive: <http://mails.dpdk.org/archives/test-report/>
List-Post: <mailto:test-report@dpdk.org>
List-Help: <mailto:test-report-request@dpdk.org?subject=help>
List-Subscribe: <https://mails.dpdk.org/listinfo/test-report>,
 <mailto:test-report-request@dpdk.org?subject=subscribe>
Errors-To: test-report-bounces@dpdk.org

Test-Label: iol-unit-amd64-testing
Test-Status: SUCCESS
http://dpdk.org/patch/137403

_Testing PASS_

Submitter: Tyler Retzlaff <roretzla@linux.microsoft.com>
Date: Tuesday, February 27 2024 23:07:53 
DPDK git baseline: Repo:dpdk
  Branch: master
  CommitID:92c0ad70caf3ed6f4b93de6ddaf7bc369737c049

137401-137403 --> testing pass

Test environment and result as below:

+------------------+----------------+
|   Environment    | dpdk_unit_test |
+==================+================+
| CentOS Stream 8  | PASS           |
+------------------+----------------+
| Debian 12 (arm)  | PASS           |
+------------------+----------------+
| Debian Bullseye  | PASS           |
+------------------+----------------+
| CentOS Stream 9  | PASS           |
+------------------+----------------+
| Fedora 37        | PASS           |
+------------------+----------------+
| RHEL8            | PASS           |
+------------------+----------------+
| Fedora 38        | PASS           |
+------------------+----------------+
| Ubuntu 22.04     | PASS           |
+------------------+----------------+
| openSUSE Leap 15 | PASS           |
+------------------+----------------+
| Ubuntu 20.04     | PASS           |
+------------------+----------------+


CentOS Stream 8
	Kernel: 4.18.0-240.10.1.el8_3.x86_64
	Compiler: gcc 8.4.1 20200928

Debian 12 (arm)
	Kernel: Container Host Kernel
	Compiler: gcc 11

Debian Bullseye
	Kernel: 5.4.0-122-generic
	Compiler: gcc 10.2.1-6

CentOS Stream 9
	Kernel: 4.18.0-240.10.1.el8_3.x86_64
	Compiler: gcc 11.3.1 20220421

Fedora 37
	Kernel: Depends on container host system
	Compiler: gcc 12.3.1

RHEL8
	Kernel: 4.18.0-240.10.1.el8_3.x86_64
	Compiler: gcc 8.3.1 20191121 (Red Hat 8.3.1-5)

Fedora 38
	Kernel: Depends on container host
	Compiler: gcc 13.1.1

Ubuntu 22.04
	Kernel: 4.18.0-240.10.1.el8_3.x86_64
	Compiler: gcc 11.3.0

openSUSE Leap 15
	Kernel: 4.18.0-240.10.1.el8_3.x86_64
	Compiler: gcc 7.5.0

Ubuntu 20.04
	Kernel: 5.4.0-153-generic
	Compiler: gcc 9.4.0-1ubuntu1~20.04.1

To view detailed results, visit:
https://lab.dpdk.org/results/dashboard/patchsets/29305/

UNH-IOL DPDK Community Lab

To manage your email subscriptions, visit: 
https://lab.dpdk.org/results/dashboard/preferences/subscriptions/