From mboxrd@z Thu Jan  1 00:00:00 1970
Return-Path: <test-report-bounces@dpdk.org>
Received: from mails.dpdk.org (mails.dpdk.org [217.70.189.124])
	by inbox.dpdk.org (Postfix) with ESMTP id 68CB543C16
	for <public@inbox.dpdk.org>; Wed, 28 Feb 2024 05:03:24 +0100 (CET)
Received: from mails.dpdk.org (localhost [127.0.0.1])
	by mails.dpdk.org (Postfix) with ESMTP id 655214027D;
	Wed, 28 Feb 2024 05:03:24 +0100 (CET)
Received: from mail-il1-f228.google.com (mail-il1-f228.google.com
 [209.85.166.228])
 by mails.dpdk.org (Postfix) with ESMTP id 5EA4C4003C
 for <test-report@dpdk.org>; Wed, 28 Feb 2024 05:03:15 +0100 (CET)
Received: by mail-il1-f228.google.com with SMTP id
 e9e14a558f8ab-365b3d92354so4221195ab.1
 for <test-report@dpdk.org>; Tue, 27 Feb 2024 20:03:15 -0800 (PST)
DKIM-Signature: v=1; a=rsa-sha256; c=relaxed/relaxed;
 d=iol.unh.edu; s=unh-iol; t=1709092994; x=1709697794; darn=dpdk.org;
 h=references:in-reply-to:cc:to:from:subject:message-id:date:from:to
 :cc:subject:date:message-id:reply-to;
 bh=kl8MGe5sG530jOPplctH9b/koBsCmuyNvhnN4uUx0Ak=;
 b=JYg7b+L0ktEvTOZ08J0uXdnAXAxO7kaFxrD0+aQxHJWvG2+XbPI5VUDM+Z4KwoKUH8
 lY84sfxJKZ8VyTdKy/2PgjdkeJNOn5jwS1o+dmYSl7UwHxnZqhakqfw5DF/1DcCWoMKA
 8P3LIveSwtWOPy9I4aI1eBAlGGD0/gIZ3Bz0I=
X-Google-DKIM-Signature: v=1; a=rsa-sha256; c=relaxed/relaxed;
 d=1e100.net; s=20230601; t=1709092994; x=1709697794;
 h=references:in-reply-to:cc:to:from:subject:message-id:date
 :x-gm-message-state:from:to:cc:subject:date:message-id:reply-to;
 bh=kl8MGe5sG530jOPplctH9b/koBsCmuyNvhnN4uUx0Ak=;
 b=oxm5pcSM/gDxiNkmRv2hkSgphXPFC7H6Q5dFidfFJMEp3/OujXJ/XvZDkbtUa0Yp7Y
 7dNPHpCdZVDnv7y0JbSo5L6oiBXtFfZYIP0GA6Yam/qszujG7CWdPJbqvoxxhIEuSnS8
 n4SiMcklz/OtCXykergB6xfkIy+RdeU1pFsUcO2u4FtwUrtEYvKaYdjkWPYA83eBOFb+
 fnTUy4oZyFTq5jLraCH3bVjT/+QgkA83GNwFlNf2zdJIW+ewe46D+MdzEGQD4O/e8GWh
 2Oz2Nr5B0Ks6Vkrh4cDhUc6yeW5Uds0TdJ7zYd1s4ct6vuio1iRjIae+mqiHBimX9i88
 phxQ==
X-Gm-Message-State: AOJu0YxHhqDd00klLwgpjrgBzGw/LraTcDrXpqch6gWimPTkm/qRLXc8
 2vH5m6yOuz8qHdVjbVuyQcGtyoFfq1cpW7x1rm/dPsygZxt7//56xfjjVA/M6ccDkRxmvgGpDKW
 7v+XDaryGjI3OHMDqHzqQNXd9Vd8mSRM52ZYvrEzz
X-Google-Smtp-Source: AGHT+IHwCDdW1JZ2feoKPlWCGVXxtv2CSqhz7q5LvV1ulsL/qBOsJvIQIvySvJJrf7YanI1MmrVBwNHHItBO
X-Received: by 2002:a92:ab03:0:b0:365:858:d6d1 with SMTP id
 v3-20020a92ab03000000b003650858d6d1mr11722489ilh.1.1709092994763; 
 Tue, 27 Feb 2024 20:03:14 -0800 (PST)
Received: from postal.iol.unh.edu (postal.iol.unh.edu. [132.177.123.84])
 by smtp-relay.gmail.com with ESMTPS id
 x7-20020a056e02074700b00365ab0d225csm125024ils.69.2024.02.27.20.03.14
 (version=TLS1_2 cipher=ECDHE-ECDSA-AES128-GCM-SHA256 bits=128/128);
 Tue, 27 Feb 2024 20:03:14 -0800 (PST)
X-Relaying-Domain: iol.unh.edu
Date: Tue, 27 Feb 2024 20:03:14 -0800 (PST)
Message-ID: <65deb082.050a0220.558d8.788dSMTPIN_ADDED_MISSING@mx.google.com>
Received: from [172.21.0.7] (unknown [172.18.0.240])
 by postal.iol.unh.edu (Postfix) with ESMTP id 47E8E60527CD;
 Tue, 27 Feb 2024 23:03:14 -0500 (EST)
Subject: |SUCCESS| pw137397-137398 [PATCH] [2/2] build: build ring library wi
From: dpdklab@iol.unh.edu
To: Test Report <test-report@dpdk.org>
Cc: dpdk-test-reports@iol.unh.edu
In-Reply-To: <1709061720-4843-3-git-send-email-roretzla@linux.microsoft.com>
References: <1709061720-4843-3-git-send-email-roretzla@linux.microsoft.com>
Content-Type: text/plain
X-BeenThere: test-report@dpdk.org
X-Mailman-Version: 2.1.29
Precedence: list
List-Id: automatic DPDK test reports <test-report.dpdk.org>
List-Unsubscribe: <https://mails.dpdk.org/options/test-report>,
 <mailto:test-report-request@dpdk.org?subject=unsubscribe>
List-Archive: <http://mails.dpdk.org/archives/test-report/>
List-Post: <mailto:test-report@dpdk.org>
List-Help: <mailto:test-report-request@dpdk.org?subject=help>
List-Subscribe: <https://mails.dpdk.org/listinfo/test-report>,
 <mailto:test-report-request@dpdk.org?subject=subscribe>
Errors-To: test-report-bounces@dpdk.org

Test-Label: iol-compile-amd64-testing
Test-Status: SUCCESS
http://dpdk.org/patch/137398

_Testing PASS_

Submitter: Tyler Retzlaff <roretzla@linux.microsoft.com>
Date: Tuesday, February 27 2024 19:22:00 
DPDK git baseline: Repo:dpdk
  Branch: master
  CommitID:92c0ad70caf3ed6f4b93de6ddaf7bc369737c049

137397-137398 --> testing pass

Test environment and result as below:

+------------------+--------------------+
|   Environment    | dpdk_meson_compile |
+==================+====================+
| FreeBSD 13.2     | PASS               |
+------------------+--------------------+
| CentOS Stream 8  | PASS               |
+------------------+--------------------+
| Debian Bullseye  | PASS               |
+------------------+--------------------+
| Fedora 38        | PASS               |
+------------------+--------------------+
| openSUSE Leap 15 | PASS               |
+------------------+--------------------+
| CentOS Stream 9  | PASS               |
+------------------+--------------------+
| RHEL8            | PASS               |
+------------------+--------------------+
| Ubuntu 20.04     | PASS               |
+------------------+--------------------+
| Ubuntu 22.04     | PASS               |
+------------------+--------------------+
| Fedora 37        | PASS               |
+------------------+--------------------+
| Debian 12 (arm)  | PASS               |
+------------------+--------------------+


FreeBSD 13.2
	Kernel: 13.2
	Compiler: clang 11.3.0

CentOS Stream 8
	Kernel: 4.18.0-240.10.1.el8_3.x86_64
	Compiler: gcc 8.4.1 20200928

Debian Bullseye
	Kernel: 5.4.0-122-generic
	Compiler: gcc 10.2.1-6

Fedora 38
	Kernel: Depends on container host
	Compiler: clang 16.0.3

openSUSE Leap 15
	Kernel: 4.18.0-240.10.1.el8_3.x86_64
	Compiler: gcc 7.5.0

CentOS Stream 9
	Kernel: 4.18.0-240.10.1.el8_3.x86_64
	Compiler: gcc 11.3.1 20220421

RHEL8
	Kernel: 4.18.0-240.10.1.el8_3.x86_64
	Compiler: gcc 8.3.1 20191121 (Red Hat 8.3.1-5)

Ubuntu 20.04
	Kernel: 5.4.0-153-generic
	Compiler: gcc 9.4.0-1ubuntu1~20.04.1

Ubuntu 22.04
	Kernel: 4.18.0-240.10.1.el8_3.x86_64
	Compiler: gcc 11.3.0

Fedora 37
	Kernel: Depends on container host system
	Compiler: gcc 12.3.1

Debian 12 (arm)
	Kernel: Container Host Kernel
	Compiler: gcc 11

To view detailed results, visit:
https://lab.dpdk.org/results/dashboard/patchsets/29302/

UNH-IOL DPDK Community Lab

To manage your email subscriptions, visit: 
https://lab.dpdk.org/results/dashboard/preferences/subscriptions/