From mboxrd@z Thu Jan  1 00:00:00 1970
Return-Path: <test-report-bounces@dpdk.org>
Received: from mails.dpdk.org (mails.dpdk.org [217.70.189.124])
	by inbox.dpdk.org (Postfix) with ESMTP id C44FD43C16
	for <public@inbox.dpdk.org>; Wed, 28 Feb 2024 05:03:44 +0100 (CET)
Received: from mails.dpdk.org (localhost [127.0.0.1])
	by mails.dpdk.org (Postfix) with ESMTP id B3A7C40E68;
	Wed, 28 Feb 2024 05:03:44 +0100 (CET)
Received: from mail-io1-f97.google.com (mail-io1-f97.google.com
 [209.85.166.97]) by mails.dpdk.org (Postfix) with ESMTP id 43B964003C
 for <test-report@dpdk.org>; Wed, 28 Feb 2024 05:03:40 +0100 (CET)
Received: by mail-io1-f97.google.com with SMTP id
 ca18e2360f4ac-7c7e91e66aeso43650139f.1
 for <test-report@dpdk.org>; Tue, 27 Feb 2024 20:03:40 -0800 (PST)
DKIM-Signature: v=1; a=rsa-sha256; c=relaxed/relaxed;
 d=iol.unh.edu; s=unh-iol; t=1709093019; x=1709697819; darn=dpdk.org;
 h=references:in-reply-to:cc:to:from:subject:message-id:date:from:to
 :cc:subject:date:message-id:reply-to;
 bh=h/oyiYM2i2Vq2F0JTm9NQydjfx+aQEaHLxzYo4X4j1I=;
 b=bvwKHTaT/OzoyyunJM3ycUqpZmdZXrZH4bVKn/taNWYgLyvkqqEKjNomJ9c/z5M/Ln
 iQh8+4EvBYXHKz53pbR2nE9Sn5XOa+xUswyKPSkOar2g13fS/n9vXyY+6elTJnnqDmip
 GmBxXsiMiascZIgSXju0RYKpnA+3U2jLGtJvM=
X-Google-DKIM-Signature: v=1; a=rsa-sha256; c=relaxed/relaxed;
 d=1e100.net; s=20230601; t=1709093019; x=1709697819;
 h=references:in-reply-to:cc:to:from:subject:message-id:date
 :x-gm-message-state:from:to:cc:subject:date:message-id:reply-to;
 bh=h/oyiYM2i2Vq2F0JTm9NQydjfx+aQEaHLxzYo4X4j1I=;
 b=q2pKkQ8pJWiBrzr/sy+rj6v4zCu6iPowmFBvA3pUK7PtmUwFK2VoHkN6isVCIEZgBd
 o3iJPI/BRRXtSA9cLy6Y80xmb4WZA4y/ykq/QhqngE4Qi/1Zc5l/uYd+pmqir6NKK/6r
 dCrmy+bbebGaSGYCv9uBbHVKetZxVwtIIU17yiZPblHdz8V+EkFiVANZoLnkmbBU7zEI
 T510GdkvoqCMinvq6PPFroFW7FHhKtizsDujjoHFeEZaCtKxyGiRMCACVIERxQs4852W
 P0QVFIcBV4RkRpUoT0BpSIZGATrANZO6fvWFdYlg6dnyQha1WvjC9pZwSvq5FdsmQbsx
 Dkyg==
X-Gm-Message-State: AOJu0YxksHJT74Tvo7MMl3ao/x7SLKKiN6NEnVT8XpVnV1hBzfi7/usL
 ezF4uEoyZRvopm4s2OxmdLTk/GEV+DBTW7VarNgrIJV0aODIUGuxzqEa+dCaktGQs46Y8A6Tncm
 Q0Ss5ATxdJ5KyuSFoqALnucmpoCZYpInU5uX7A54k
X-Google-Smtp-Source: AGHT+IFpM6bV6brGLQ/cuHKu7eaEhojCRchQxbh3oqfBkmyOeUZ9nF6iWq0C4C3gmoMV3gT15Xfk+JxPdyl5
X-Received: by 2002:a92:da06:0:b0:365:4aba:b1a9 with SMTP id
 z6-20020a92da06000000b003654abab1a9mr12715848ilm.7.1709093019610; 
 Tue, 27 Feb 2024 20:03:39 -0800 (PST)
Received: from postal.iol.unh.edu (postal.iol.unh.edu. [132.177.123.84])
 by smtp-relay.gmail.com with ESMTPS id
 x14-20020a056638248e00b0046efd6584e2sm236402jat.57.2024.02.27.20.03.39
 (version=TLS1_2 cipher=ECDHE-ECDSA-AES128-GCM-SHA256 bits=128/128);
 Tue, 27 Feb 2024 20:03:39 -0800 (PST)
X-Relaying-Domain: iol.unh.edu
Date: Tue, 27 Feb 2024 20:03:39 -0800 (PST)
Message-ID: <65deb09b.050a0220.e7ee8.1b95SMTPIN_ADDED_MISSING@mx.google.com>
Received: from [172.21.0.7] (unknown [172.18.0.240])
 by postal.iol.unh.edu (Postfix) with ESMTP id 25B0460527CD;
 Tue, 27 Feb 2024 23:03:39 -0500 (EST)
Subject: |SUCCESS| pw137397-137398 [PATCH] [2/2] build: build ring library wi
From: dpdklab@iol.unh.edu
To: Test Report <test-report@dpdk.org>
Cc: dpdk-test-reports@iol.unh.edu
In-Reply-To: <1709061720-4843-3-git-send-email-roretzla@linux.microsoft.com>
References: <1709061720-4843-3-git-send-email-roretzla@linux.microsoft.com>
Content-Type: text/plain
X-BeenThere: test-report@dpdk.org
X-Mailman-Version: 2.1.29
Precedence: list
List-Id: automatic DPDK test reports <test-report.dpdk.org>
List-Unsubscribe: <https://mails.dpdk.org/options/test-report>,
 <mailto:test-report-request@dpdk.org?subject=unsubscribe>
List-Archive: <http://mails.dpdk.org/archives/test-report/>
List-Post: <mailto:test-report@dpdk.org>
List-Help: <mailto:test-report-request@dpdk.org?subject=help>
List-Subscribe: <https://mails.dpdk.org/listinfo/test-report>,
 <mailto:test-report-request@dpdk.org?subject=subscribe>
Errors-To: test-report-bounces@dpdk.org

Test-Label: iol-unit-amd64-testing
Test-Status: SUCCESS
http://dpdk.org/patch/137398

_Testing PASS_

Submitter: Tyler Retzlaff <roretzla@linux.microsoft.com>
Date: Tuesday, February 27 2024 19:22:00 
DPDK git baseline: Repo:dpdk
  Branch: master
  CommitID:92c0ad70caf3ed6f4b93de6ddaf7bc369737c049

137397-137398 --> testing pass

Test environment and result as below:

+------------------+----------------+
|   Environment    | dpdk_unit_test |
+==================+================+
| CentOS Stream 8  | PASS           |
+------------------+----------------+
| Debian Bullseye  | PASS           |
+------------------+----------------+
| CentOS Stream 9  | PASS           |
+------------------+----------------+
| Debian 12 (arm)  | PASS           |
+------------------+----------------+
| Fedora 37        | PASS           |
+------------------+----------------+
| Fedora 38        | PASS           |
+------------------+----------------+
| openSUSE Leap 15 | PASS           |
+------------------+----------------+
| RHEL8            | PASS           |
+------------------+----------------+
| Ubuntu 20.04     | PASS           |
+------------------+----------------+
| Ubuntu 22.04     | PASS           |
+------------------+----------------+


CentOS Stream 8
	Kernel: 4.18.0-240.10.1.el8_3.x86_64
	Compiler: gcc 8.4.1 20200928

Debian Bullseye
	Kernel: 5.4.0-122-generic
	Compiler: gcc 10.2.1-6

CentOS Stream 9
	Kernel: 4.18.0-240.10.1.el8_3.x86_64
	Compiler: gcc 11.3.1 20220421

Debian 12 (arm)
	Kernel: Container Host Kernel
	Compiler: gcc 11

Fedora 37
	Kernel: Depends on container host system
	Compiler: gcc 12.3.1

Fedora 38
	Kernel: Depends on container host
	Compiler: clang 16.0.3

openSUSE Leap 15
	Kernel: 4.18.0-240.10.1.el8_3.x86_64
	Compiler: gcc 7.5.0

RHEL8
	Kernel: 4.18.0-240.10.1.el8_3.x86_64
	Compiler: gcc 8.3.1 20191121 (Red Hat 8.3.1-5)

Ubuntu 20.04
	Kernel: 5.4.0-153-generic
	Compiler: gcc 9.4.0-1ubuntu1~20.04.1

Ubuntu 22.04
	Kernel: 4.18.0-240.10.1.el8_3.x86_64
	Compiler: gcc 11.3.0

To view detailed results, visit:
https://lab.dpdk.org/results/dashboard/patchsets/29302/

UNH-IOL DPDK Community Lab

To manage your email subscriptions, visit: 
https://lab.dpdk.org/results/dashboard/preferences/subscriptions/