From mboxrd@z Thu Jan  1 00:00:00 1970
Return-Path: <test-report-bounces@dpdk.org>
Received: from mails.dpdk.org (mails.dpdk.org [217.70.189.124])
	by inbox.dpdk.org (Postfix) with ESMTP id 009F143C16
	for <public@inbox.dpdk.org>; Wed, 28 Feb 2024 05:07:54 +0100 (CET)
Received: from mails.dpdk.org (localhost [127.0.0.1])
	by mails.dpdk.org (Postfix) with ESMTP id F07D840E64;
	Wed, 28 Feb 2024 05:07:54 +0100 (CET)
Received: from mail-yw1-f227.google.com (mail-yw1-f227.google.com
 [209.85.128.227])
 by mails.dpdk.org (Postfix) with ESMTP id D91114003C
 for <test-report@dpdk.org>; Wed, 28 Feb 2024 05:07:33 +0100 (CET)
Received: by mail-yw1-f227.google.com with SMTP id
 00721157ae682-607dec82853so53361777b3.3
 for <test-report@dpdk.org>; Tue, 27 Feb 2024 20:07:33 -0800 (PST)
DKIM-Signature: v=1; a=rsa-sha256; c=relaxed/relaxed;
 d=iol.unh.edu; s=unh-iol; t=1709093253; x=1709698053; darn=dpdk.org;
 h=references:in-reply-to:cc:to:from:subject:message-id:date:from:to
 :cc:subject:date:message-id:reply-to;
 bh=h/oyiYM2i2Vq2F0JTm9NQydjfx+aQEaHLxzYo4X4j1I=;
 b=Ifjv4Bx0OivqnmCfi/T2a0rAFdnVwj7uAhBVdeehl6meqGWMObvjd/Ynpc5B7cdSoj
 cymffrNz+obQRTiGSaYWMsJeBwaP5PozpImMkcF8tz1G/zOPgTXVCEG/zaoNDRpi2Ik4
 xbUDcdb7TzdPYWH3MjF42bncLgTstTqvqi+gM=
X-Google-DKIM-Signature: v=1; a=rsa-sha256; c=relaxed/relaxed;
 d=1e100.net; s=20230601; t=1709093253; x=1709698053;
 h=references:in-reply-to:cc:to:from:subject:message-id:date
 :x-gm-message-state:from:to:cc:subject:date:message-id:reply-to;
 bh=h/oyiYM2i2Vq2F0JTm9NQydjfx+aQEaHLxzYo4X4j1I=;
 b=hwtaS3pl600Gv6CQ5yCU8HGOVtv1npW2cLcJS8iWyp+5fwhKXoD9S6sQiItbDEHjT8
 y1asZJxibebefMqQ9ZivGGnnTIUHZdo1sGoh323e1IwGARmipBx1GMiD1j1zvNicqCBX
 z4BniXLgoBK3jRVz+zY0Slesfwhz8NK+qT9C/JwrAl8nABtxy19ujEg5oyXoqlEbREJl
 OQuFUJEy0MfD7xmE7gxSCKjDUp++nn3Bhw9clUaV1Hbp13BjQ6b0JfqsoBAZcU/Mvpc8
 mcZtuJQJXEp3wxoJTHCbeavJev1MZxnuhfO3RPaBaOj/QH89SKKRPsiT7wDjjB/lOWZH
 4zNw==
X-Gm-Message-State: AOJu0YyW0OZsaVcrP1CxjaFP7CSjxn8bohM9mJt+FNYu4Zx9FLJvfz7r
 V72QyvLob5rz79Aw3jRKPLfjP071q8npcKbjn09iRBty1KHQae1F60SV1yvmwBC/b8cUNygBn4f
 ItuNYEDTyQCOur5Prk7usIsdO/W0zvE+aSOx9CC76+lqCB7oecvoX4H/v
X-Google-Smtp-Source: AGHT+IEocOgBNZcSWoxeY9FuymRy5pJxeyr4KUMEcpx5RvZNUSxMSC79G0azdkjceH3/nWaH3DFYRnoVh8hr
X-Received: by 2002:a81:f008:0:b0:608:aacd:5dfe with SMTP id
 p8-20020a81f008000000b00608aacd5dfemr3655077ywm.12.1709093253344; 
 Tue, 27 Feb 2024 20:07:33 -0800 (PST)
Received: from postal.iol.unh.edu (postal.iol.unh.edu.
 [2606:4100:3880:1234::84]) by smtp-relay.gmail.com with ESMTPS id
 m7-20020a0dfc07000000b00607fb25f417sm612449ywf.54.2024.02.27.20.07.33
 (version=TLS1_2 cipher=ECDHE-ECDSA-AES128-GCM-SHA256 bits=128/128);
 Tue, 27 Feb 2024 20:07:33 -0800 (PST)
X-Relaying-Domain: iol.unh.edu
Date: Tue, 27 Feb 2024 20:07:33 -0800 (PST)
Message-ID: <65deb185.0d0a0220.545d8.4480SMTPIN_ADDED_MISSING@mx.google.com>
Received: from [172.21.0.7] (unknown [172.18.0.240])
 by postal.iol.unh.edu (Postfix) with ESMTP id 073C560527CD;
 Tue, 27 Feb 2024 23:07:33 -0500 (EST)
Subject: |SUCCESS| pw137397-137398 [PATCH] [2/2] build: build ring library wi
From: dpdklab@iol.unh.edu
To: Test Report <test-report@dpdk.org>
Cc: dpdk-test-reports@iol.unh.edu
In-Reply-To: <1709061720-4843-3-git-send-email-roretzla@linux.microsoft.com>
References: <1709061720-4843-3-git-send-email-roretzla@linux.microsoft.com>
Content-Type: text/plain
X-BeenThere: test-report@dpdk.org
X-Mailman-Version: 2.1.29
Precedence: list
List-Id: automatic DPDK test reports <test-report.dpdk.org>
List-Unsubscribe: <https://mails.dpdk.org/options/test-report>,
 <mailto:test-report-request@dpdk.org?subject=unsubscribe>
List-Archive: <http://mails.dpdk.org/archives/test-report/>
List-Post: <mailto:test-report@dpdk.org>
List-Help: <mailto:test-report-request@dpdk.org?subject=help>
List-Subscribe: <https://mails.dpdk.org/listinfo/test-report>,
 <mailto:test-report-request@dpdk.org?subject=subscribe>
Errors-To: test-report-bounces@dpdk.org

Test-Label: iol-unit-amd64-testing
Test-Status: SUCCESS
http://dpdk.org/patch/137398

_Testing PASS_

Submitter: Tyler Retzlaff <roretzla@linux.microsoft.com>
Date: Tuesday, February 27 2024 19:22:00 
DPDK git baseline: Repo:dpdk
  Branch: master
  CommitID:92c0ad70caf3ed6f4b93de6ddaf7bc369737c049

137397-137398 --> testing pass

Test environment and result as below:

+------------------+----------------+
|   Environment    | dpdk_unit_test |
+==================+================+
| CentOS Stream 8  | PASS           |
+------------------+----------------+
| Debian Bullseye  | PASS           |
+------------------+----------------+
| CentOS Stream 9  | PASS           |
+------------------+----------------+
| Debian 12 (arm)  | PASS           |
+------------------+----------------+
| Fedora 37        | PASS           |
+------------------+----------------+
| Fedora 38        | PASS           |
+------------------+----------------+
| openSUSE Leap 15 | PASS           |
+------------------+----------------+
| RHEL8            | PASS           |
+------------------+----------------+
| Ubuntu 20.04     | PASS           |
+------------------+----------------+
| Ubuntu 22.04     | PASS           |
+------------------+----------------+


CentOS Stream 8
	Kernel: 4.18.0-240.10.1.el8_3.x86_64
	Compiler: gcc 8.4.1 20200928

Debian Bullseye
	Kernel: 5.4.0-122-generic
	Compiler: gcc 10.2.1-6

CentOS Stream 9
	Kernel: 4.18.0-240.10.1.el8_3.x86_64
	Compiler: gcc 11.3.1 20220421

Debian 12 (arm)
	Kernel: Container Host Kernel
	Compiler: gcc 11

Fedora 37
	Kernel: Depends on container host system
	Compiler: gcc 12.3.1

Fedora 38
	Kernel: Depends on container host
	Compiler: clang 16.0.3

openSUSE Leap 15
	Kernel: 4.18.0-240.10.1.el8_3.x86_64
	Compiler: gcc 7.5.0

RHEL8
	Kernel: 4.18.0-240.10.1.el8_3.x86_64
	Compiler: gcc 8.3.1 20191121 (Red Hat 8.3.1-5)

Ubuntu 20.04
	Kernel: 5.4.0-153-generic
	Compiler: gcc 9.4.0-1ubuntu1~20.04.1

Ubuntu 22.04
	Kernel: 4.18.0-240.10.1.el8_3.x86_64
	Compiler: gcc 11.3.0

To view detailed results, visit:
https://lab.dpdk.org/results/dashboard/patchsets/29302/

UNH-IOL DPDK Community Lab

To manage your email subscriptions, visit: 
https://lab.dpdk.org/results/dashboard/preferences/subscriptions/