From mboxrd@z Thu Jan  1 00:00:00 1970
Return-Path: <test-report-bounces@dpdk.org>
Received: from mails.dpdk.org (mails.dpdk.org [217.70.189.124])
	by inbox.dpdk.org (Postfix) with ESMTP id 2C56643C18
	for <public@inbox.dpdk.org>; Wed, 28 Feb 2024 05:24:47 +0100 (CET)
Received: from mails.dpdk.org (localhost [127.0.0.1])
	by mails.dpdk.org (Postfix) with ESMTP id 2795F402E8;
	Wed, 28 Feb 2024 05:24:47 +0100 (CET)
Received: from mail-yb1-f227.google.com (mail-yb1-f227.google.com
 [209.85.219.227])
 by mails.dpdk.org (Postfix) with ESMTP id B3D4C4003C
 for <test-report@dpdk.org>; Wed, 28 Feb 2024 05:24:42 +0100 (CET)
Received: by mail-yb1-f227.google.com with SMTP id
 3f1490d57ef6-dcd9e34430cso5442163276.1
 for <test-report@dpdk.org>; Tue, 27 Feb 2024 20:24:42 -0800 (PST)
DKIM-Signature: v=1; a=rsa-sha256; c=relaxed/relaxed;
 d=iol.unh.edu; s=unh-iol; t=1709094282; x=1709699082; darn=dpdk.org;
 h=references:in-reply-to:cc:to:from:subject:message-id:date:from:to
 :cc:subject:date:message-id:reply-to;
 bh=E927XJ/7NpqhjMlPRNc78CPGk5XEtFdAdORMHbEQnGY=;
 b=AEDUZlliw9OE83SIMhSqBFpNgB+RVesl4MLKfF/kMnwjzbTCSMy6CD9qifx2Uk2Gwu
 ODRPvKW1nqEqDY7YlP0UePv6HMhkOuMPsj8WftmedI70+uLVQ/aj1/8ZwqzdVmcrs5uw
 1b8u12LBHPrvL0xKBW+K6UJQIGWRry/lNGu68=
X-Google-DKIM-Signature: v=1; a=rsa-sha256; c=relaxed/relaxed;
 d=1e100.net; s=20230601; t=1709094282; x=1709699082;
 h=references:in-reply-to:cc:to:from:subject:message-id:date
 :x-gm-message-state:from:to:cc:subject:date:message-id:reply-to;
 bh=E927XJ/7NpqhjMlPRNc78CPGk5XEtFdAdORMHbEQnGY=;
 b=NsZjXw8LklqLAxpynX2e0XCxPZU81KqbALMzyzO9BS0XbtDLmi8VAtGLb/D3vhPMj9
 bP8qR7RY2bxaf7xkfmRDDN/2Zcny4O/UsrTDi/YRp7Wqn7DR7r/z/kr1ZcGpxxNMWAl5
 orHzHHuA6kG37TjQfcHMAVg6HoOBGxPlBcq1xndt1skysYskE+dlfvRmidfmj3sP01DZ
 CiyOf0s9PhMsLbZ/WKc+9fn7Crpb3jgNKQUvuIPtqy5mjjw2OaJg0IbGjG22svpQtvwY
 orHUvTCDjXgjXuMHWUE+9IOV3lBMfVHvUw0RVZYaTS9zDYUdASOXQHUj1Wl01cxGYOsu
 hJ9Q==
X-Gm-Message-State: AOJu0Yx68gmNhf8kMk01XjUJgNhu/whHwPHYykwm1bPKf5ULqdkdCAKQ
 DMuvzzovBy68ca2cASSzNCh1hH5jen9jJYdAuUlNrYI47ucv3O2TWsyRJX0Zvge8faIO2AyQPNN
 o8u+j/ISXIom6vKv+XzjeXDbfrj+qPccj4XFzZTqed+TNuV4hulHtMxCX
X-Google-Smtp-Source: AGHT+IHpN5mRU0xBL8Klda5spgUwcabiawJiGum4ByEYRd6K7TuBs2/g2j08YGnyWlhZ2PWZkTaCntFab4fg
X-Received: by 2002:a25:83d1:0:b0:dcd:4e54:9420 with SMTP id
 v17-20020a2583d1000000b00dcd4e549420mr1467319ybm.5.1709094282090; 
 Tue, 27 Feb 2024 20:24:42 -0800 (PST)
Received: from postal.iol.unh.edu ([2606:4100:3880:1234::84])
 by smtp-relay.gmail.com with ESMTPS id
 p75-20020a25744e000000b00dcc7cdb2fe6sm360666ybc.26.2024.02.27.20.24.42
 (version=TLS1_2 cipher=ECDHE-ECDSA-AES128-GCM-SHA256 bits=128/128);
 Tue, 27 Feb 2024 20:24:42 -0800 (PST)
X-Relaying-Domain: iol.unh.edu
Date: Tue, 27 Feb 2024 20:24:42 -0800 (PST)
Message-ID: <65deb58a.250a0220.6fbc5.94e0SMTPIN_ADDED_MISSING@mx.google.com>
Received: from [172.17.0.9] (unknown [172.18.0.217])
 by postal.iol.unh.edu (Postfix) with ESMTP id 853AE60527CD;
 Tue, 27 Feb 2024 23:24:41 -0500 (EST)
Subject: |SUCCESS| pw137397-137398 [PATCH] [2/2] build: build ring library wi
From: dpdklab@iol.unh.edu
To: Test Report <test-report@dpdk.org>
Cc: dpdk-test-reports@iol.unh.edu
In-Reply-To: <1709061720-4843-3-git-send-email-roretzla@linux.microsoft.com>
References: <1709061720-4843-3-git-send-email-roretzla@linux.microsoft.com>
Content-Type: text/plain
X-BeenThere: test-report@dpdk.org
X-Mailman-Version: 2.1.29
Precedence: list
List-Id: automatic DPDK test reports <test-report.dpdk.org>
List-Unsubscribe: <https://mails.dpdk.org/options/test-report>,
 <mailto:test-report-request@dpdk.org?subject=unsubscribe>
List-Archive: <http://mails.dpdk.org/archives/test-report/>
List-Post: <mailto:test-report@dpdk.org>
List-Help: <mailto:test-report-request@dpdk.org?subject=help>
List-Subscribe: <https://mails.dpdk.org/listinfo/test-report>,
 <mailto:test-report-request@dpdk.org?subject=subscribe>
Errors-To: test-report-bounces@dpdk.org

Test-Label: iol-compile-arm64-testing
Test-Status: SUCCESS
http://dpdk.org/patch/137398

_Testing PASS_

Submitter: Tyler Retzlaff <roretzla@linux.microsoft.com>
Date: Tuesday, February 27 2024 19:22:00 
DPDK git baseline: Repo:dpdk
  Branch: master
  CommitID:92c0ad70caf3ed6f4b93de6ddaf7bc369737c049

137397-137398 --> testing pass

Test environment and result as below:

+----------------------------------------+--------------------+
|              Environment               | dpdk_meson_compile |
+========================================+====================+
| Ubuntu 20.04 ARM SVE                   | PASS               |
+----------------------------------------+--------------------+
| Ubuntu 20.04 aarch32 GCC Cross Compile | PASS               |
+----------------------------------------+--------------------+
| Ubuntu 20.04 ARM Clang Cross Compile   | PASS               |
+----------------------------------------+--------------------+
| Ubuntu 20.04 ARM GCC Cross Compile     | PASS               |
+----------------------------------------+--------------------+


Ubuntu 20.04 ARM SVE
	Kernel: 5.4.0-80-generic
	Compiler: gcc 10.3.0 (Ubuntu 10.3.0-1ubuntu1~20.04)

Ubuntu 20.04 aarch32 GCC Cross Compile
	Kernel: 5.4.0-72-generic
	Compiler: gcc 9.3.0

Ubuntu 20.04 ARM Clang Cross Compile
	Kernel: 5.4.0-72-generic
	Compiler: clang version 10.0.0-4ubuntu1

Ubuntu 20.04 ARM GCC Cross Compile
	Kernel: 5.4.0-72-generic
	Compiler: aarch64-linux-gnu-gcc (Ubuntu 9.3.0-17ubuntu1~20.04) 9.3.0

To view detailed results, visit:
https://lab.dpdk.org/results/dashboard/patchsets/29302/

UNH-IOL DPDK Community Lab

To manage your email subscriptions, visit: 
https://lab.dpdk.org/results/dashboard/preferences/subscriptions/